BEGIN:VCALENDAR
PRODID:NingEventWidget-v1
VERSION:2.0
METHOD:PUBLISH
BEGIN:VTIMEZONE
TZID:America/New_York
X-LIC-LOCATION:America/New_York
BEGIN:DAYLIGHT
TZOFFSETFROM:-0500
TZOFFSETTO:-0400
TZNAME:EDT
DTSTART:19700308T020000
RRULE:FREQ=YEARLY;BYMONTH=3;BYDAY=2SU
END:DAYLIGHT
BEGIN:STANDARD
TZOFFSETFROM:-0400
TZOFFSETTO:-0500
TZNAME:EST
DTSTART:19701101T020000
RRULE:FREQ=YEARLY;BYMONTH=11;BYDAY=1SU
END:STANDARD
END:VTIMEZONE
BEGIN:VEVENT
UID:2938326:Event:352883
DTSTAMP:20260419T212354Z
SUMMARY:Speed Dating: Short Women and the Men Who Love Them
DESCRIPTION:10 to 15 dates in one night! That is what you will get at 
 any of our Speed Dating events. You will meet one-on-one for 4 minutes
  with other single Young Professionals. At the end of each date you wi
 ll privately circle Yes or No on your scorecard; noting if you would w
 ant to see your date again. At the end of the night you will return ho
 me and enter your results online. Within 24 hours you will receive you
 r mutual matches. Setting up real dates is then up to you!â€¨ Age Rang
 e:â€¨Men must be 27 to 37, Women must be 23 to 33 Bring ID and make su
 re you are in our targeted age range. We host these events monthly and
  we do mix up the age range.â€¨WOMEN:â€¨You must be a MAXIMUM of 5'4\"
 , barefoot. These events are done at the request of MANY men who are l
 ooking for short women.â€¨ MEN: There is no height requirement for men
  but you must love love love short women :)â€¨â€¨\nMember Cost: $10 fo
 r the first 20 to register $15 for the next 21 to 40 to register $20 f
 or walk-ins if there is spaceâ€¨Non-Member Cost: $20 online and at the
  door if there is spaceâ€¨ 2 Item Minimum: Everyone must purchase 2 it
 ems during this event; food and/or any drink but soda. Bottled water, 
 juice, virgin drinks do count toward the minimum.â€¨Tickets: There are
  a limited number of Tickets for sale. Tickets are not mailed, but you
 r name will be kept at the door. All sales are final.â€¨ Directions:â€
 ¨http://glonj.com/â€¨Various street parking and big garage down the st
 reet.â€¨â€¨â€¨Please note that sometimes the kitchen is not open at Gl
 o so on those days you cannot order food.\n\nFor more information visi
 t http://njyp.org/events/speed-dating-short-women-and-the-men-who-love
 -them-1
DTSTART;TZID=America/New_York:20120605T190000
DTEND;TZID=America/New_York:20120605T210000
CATEGORIES:"middlesex county", social, singles
LOCATION:Glo Lounge
WEBSITE:http://www.glonj.com/
URL:http://www.glonj.com/
CONTACT:
ORGANIZER;CN="Brian and Mike":http://njyp.org/profile/BrianMike
ATTACH;FMTTYPE="image/jpeg":http://storage.ning.com/topology/rest/1.0/
 file/get/1088771535?profile=original
ATTENDEE;ROLE=REQ-PARTICIPANT;PARTSTAT=ACCEPTED;RSVP=TRUE;CN=Daniel:ht
 tp://njyp.org/profile/Daniel
ATTENDEE;ROLE=REQ-PARTICIPANT;PARTSTAT=ACCEPTED;RSVP=TRUE;CN="Michael 
 Tamborra":http://njyp.org/profile/MichaelTamborra
ATTENDEE;ROLE=REQ-PARTICIPANT;PARTSTAT=ACCEPTED;RSVP=TRUE;CN=Ken:http:
 //njyp.org/profile/Ken547
ATTENDEE;ROLE=REQ-PARTICIPANT;PARTSTAT=ACCEPTED;RSVP=TRUE;CN="Thomas A
 braham":http://njyp.org/profile/ThomasAbraham
ATTENDEE;ROLE=REQ-PARTICIPANT;PARTSTAT=ACCEPTED;RSVP=TRUE;CN="Michael 
 Park":http://njyp.org/profile/MichaelPark
ATTENDEE;ROLE=REQ-PARTICIPANT;PARTSTAT=ACCEPTED;RSVP=TRUE;CN=Rebecca:h
 ttp://njyp.org/profile/Rebecca830
ATTENDEE;ROLE=REQ-PARTICIPANT;PARTSTAT=ACCEPTED;RSVP=TRUE;CN=Roy:http:
 //njyp.org/profile/Roy
ATTENDEE;ROLE=REQ-PARTICIPANT;PARTSTAT=ACCEPTED;RSVP=TRUE;CN=Elizabeth
 :http://njyp.org/profile/ElizabethWilliams
ATTENDEE;ROLE=REQ-PARTICIPANT;PARTSTAT=ACCEPTED;RSVP=TRUE;CN=Juliet:ht
 tp://njyp.org/profile/Juliet
ATTENDEE;ROLE=REQ-PARTICIPANT;PARTSTAT=ACCEPTED;RSVP=TRUE;CN="Brian an
 d Mike":http://njyp.org/profile/BrianMike
ATTENDEE;ROLE=REQ-PARTICIPANT;PARTSTAT=TENTATIVE;RSVP=TRUE;CN=Ivette:h
 ttp://njyp.org/profile/Ivette
ATTENDEE;ROLE=REQ-PARTICIPANT;PARTSTAT=TENTATIVE;RSVP=TRUE;CN=JASON:ht
 tp://njyp.org/profile/JASON138
ATTENDEE;ROLE=REQ-PARTICIPANT;PARTSTAT=TENTATIVE;RSVP=TRUE;CN=Shelly:h
 ttp://njyp.org/profile/Shellyt
ATTENDEE;ROLE=REQ-PARTICIPANT;PARTSTAT=TENTATIVE;RSVP=TRUE;CN=Digant:h
 ttp://njyp.org/profile/Digant
ATTENDEE;ROLE=REQ-PARTICIPANT;PARTSTAT=TENTATIVE;RSVP=TRUE;CN=Janene:h
 ttp://njyp.org/profile/Janene
ATTENDEE;ROLE=REQ-PARTICIPANT;PARTSTAT=TENTATIVE;RSVP=TRUE;CN="Lindsey
  Schneider":http://njyp.org/profile/LindseySchneider
END:VEVENT
END:VCALENDAR
