BEGIN:VCALENDAR
PRODID:NingEventWidget-v1
VERSION:2.0
METHOD:PUBLISH
BEGIN:VTIMEZONE
TZID:America/New_York
X-LIC-LOCATION:America/New_York
BEGIN:DAYLIGHT
TZOFFSETFROM:-0500
TZOFFSETTO:-0400
TZNAME:EDT
DTSTART:19700308T020000
RRULE:FREQ=YEARLY;BYMONTH=3;BYDAY=2SU
END:DAYLIGHT
BEGIN:STANDARD
TZOFFSETFROM:-0400
TZOFFSETTO:-0500
TZNAME:EST
DTSTART:19701101T020000
RRULE:FREQ=YEARLY;BYMONTH=11;BYDAY=1SU
END:STANDARD
END:VTIMEZONE
BEGIN:VEVENT
UID:2938326:Event:527700
DTSTAMP:20260419T191006Z
SUMMARY:Speed Dating: Short Women and the Men Who Love Them
DESCRIPTION:Cut the agony out of first-dates with Speed Dating! Â Youâ
 €™ll have 10 to 15 dates in one night, each only lasting four minutes,
  so make the time count. Â At the end of each mini-rendezvous, private
 ly note whether youâ€™d like to see your date again â€“ simply circle 
 Yes or No on your scorecard. Â Enter your results online when you retu
 rn home and within 24 hours, youâ€™ll receive your matches from our sy
 stem. Â Setting up date number two is up to you!Age Range: Men must be
  27 to 37, Women must be 21 to 33 Bring ID and make sure you are in ou
 r targeted age range. We host these events monthly and we do mix up th
 e age range.WOMEN: You must be a MAXIMUM of 5'4\", barefoot. These eve
 nts are done at the request of MANY men.MEN: There is no height requir
 ement for men but you must love love love short women :)\nMember Cost:
  $15 Online $20 for walk-ins Non-Member Cost: $20 online and at the do
 or2 Item Minimum: Everyone must purchase 2 items during this event; fo
 od and/or any drink but soda. Bottled water, juice, virgin drinks do c
 ount toward the minimum.Â Glo has a $30 credit card minimum so please 
 bring cash.Tickets: There are a limited number of Tickets for sale. Ti
 ckets are not mailed, but your name will be kept at the door. All sale
 s are final.Finding the Group: We will be the ONLY ones at Glo. Direct
 ions: http://glonj.com/ Various street parking and big garage down the
  street.\n\nFor more information visit http://njyp.org/events/speed-da
 ting-short-women-and-the-men-who-love-them-2
DTSTART;TZID=America/New_York:20140320T190000
DTEND;TZID=America/New_York:20140320T210000
CATEGORIES:"middlesex county", social, singles
LOCATION:Glo Lounge
WEBSITE:http://morristown.hyatt.com/hyatt/hotels/services/maps/index.j
 sp;jsessionid=WWMACJ4ION5SGCTEAGGSFFQKMQAYYIV0
URL:http://morristown.hyatt.com/hyatt/hotels/services/maps/index.jsp;j
 sessionid=WWMACJ4ION5SGCTEAGGSFFQKMQAYYIV0
CONTACT:http://www.glonj.com/
ORGANIZER;CN="Brian and Mike":http://njyp.org/profile/BrianMike
ATTACH;FMTTYPE="image/jpeg":http://storage.ning.com/topology/rest/1.0/
 file/get/1088771535?profile=original
ATTENDEE;ROLE=REQ-PARTICIPANT;PARTSTAT=ACCEPTED;RSVP=TRUE;CN=Kavita:ht
 tp://njyp.org/profile/Kavita
ATTENDEE;ROLE=REQ-PARTICIPANT;PARTSTAT=ACCEPTED;RSVP=TRUE;CN=Hugo:http
 ://njyp.org/profile/Hugo899
ATTENDEE;ROLE=REQ-PARTICIPANT;PARTSTAT=ACCEPTED;RSVP=TRUE;CN="Tom Cife
 lli":http://njyp.org/profile/TomCifelli
ATTENDEE;ROLE=REQ-PARTICIPANT;PARTSTAT=ACCEPTED;RSVP=TRUE;CN=Joe:http:
 //njyp.org/profile/Joe245
ATTENDEE;ROLE=REQ-PARTICIPANT;PARTSTAT=ACCEPTED;RSVP=TRUE;CN="Brian Me
 lnick":http://njyp.org/profile/Brian1218
ATTENDEE;ROLE=REQ-PARTICIPANT;PARTSTAT=ACCEPTED;RSVP=TRUE;CN=Ash:http:
 //njyp.org/profile/Ash
ATTENDEE;ROLE=REQ-PARTICIPANT;PARTSTAT=ACCEPTED;RSVP=TRUE;CN=Keith:htt
 p://njyp.org/profile/Keith873
ATTENDEE;ROLE=REQ-PARTICIPANT;PARTSTAT=ACCEPTED;RSVP=TRUE;CN=Jim:http:
 //njyp.org/profile/Jim450
ATTENDEE;ROLE=REQ-PARTICIPANT;PARTSTAT=ACCEPTED;RSVP=TRUE;CN=Colleen:h
 ttp://njyp.org/profile/Colleen52
ATTENDEE;ROLE=REQ-PARTICIPANT;PARTSTAT=ACCEPTED;RSVP=TRUE;CN="Brian an
 d Mike":http://njyp.org/profile/BrianMike
ATTENDEE;ROLE=REQ-PARTICIPANT;PARTSTAT=ACCEPTED;RSVP=TRUE;CN=Carmine:h
 ttp://njyp.org/profile/Carmine
ATTENDEE;ROLE=REQ-PARTICIPANT;PARTSTAT=TENTATIVE;RSVP=TRUE;CN=Gi:http:
 //njyp.org/profile/Gi
ATTENDEE;ROLE=REQ-PARTICIPANT;PARTSTAT=TENTATIVE;RSVP=TRUE;CN=Michael:
 http://njyp.org/profile/Michael858
ATTENDEE;ROLE=REQ-PARTICIPANT;PARTSTAT=TENTATIVE;RSVP=TRUE;CN=Alejandr
 o:http://njyp.org/profile/Alejandro
ATTENDEE;ROLE=REQ-PARTICIPANT;PARTSTAT=TENTATIVE;RSVP=TRUE;CN="Lindsey
  Schneider":http://njyp.org/profile/LindseySchneider
ATTENDEE;ROLE=REQ-PARTICIPANT;PARTSTAT=TENTATIVE;RSVP=TRUE;CN=marissa:
 http://njyp.org/profile/marissa
END:VEVENT
END:VCALENDAR
