BEGIN:VCALENDAR
PRODID:NingEventWidget-v1
VERSION:2.0
METHOD:PUBLISH
BEGIN:VTIMEZONE
TZID:America/New_York
X-LIC-LOCATION:America/New_York
BEGIN:DAYLIGHT
TZOFFSETFROM:-0500
TZOFFSETTO:-0400
TZNAME:EDT
DTSTART:19700308T020000
RRULE:FREQ=YEARLY;BYMONTH=3;BYDAY=2SU
END:DAYLIGHT
BEGIN:STANDARD
TZOFFSETFROM:-0400
TZOFFSETTO:-0500
TZNAME:EST
DTSTART:19701101T020000
RRULE:FREQ=YEARLY;BYMONTH=11;BYDAY=1SU
END:STANDARD
END:VTIMEZONE
BEGIN:VEVENT
UID:2938326:Event:29356
DTSTAMP:20260421T052612Z
SUMMARY:Speed Dating, Tall Men
DESCRIPTION:The venue double booked us (they apologized profusely) but
  we still need to change the date:\nOld Date: 1.12.10\nNew Date: 1.11.
 10\n\nIf you have a ticket and cannot make the new date please email L
 aura@NJYP.org by 1.8.10.\n=================\n\nWhat is Speed Dating? Y
 ou will meet with someone of the opposite gender for a few minutes, th
 en, at the ring of a bell, move to the next person. Keep track of who 
 you want to exchange information with on a scorecard that we provide a
 nd we will make the matches within 24 hours of the event! That's right
 , no awkward moments where you request digits. If they want to see you
  again and you want to see them again, we make the match!\n\nThis is a
  time sensitive event. If you arrive after 7:30 we cannot seat you nor
  refund your ticket cost.\n\nAge Range:\nSingles who are 21 to 35 may 
 attend.\nBring ID and make sure you are in our targeted age range.\nWe
  host these events monthly and we do mix up the age range.\n\nMEN:\nYo
 u must be a minimum of 5'10\", barefoot.\n\nWOMEN:\nYou may be any hei
 ght but you must love tall men :)\n\n\nRSVP (to the right) and we will
  let you know when tix are almost gone, when prices are going up, if t
 here are any changes, etc.\n\nMember Cost:\n$5 for the first 5 to regi
 ster\n$10 for the next 6 to 20 to register\n$15 for the next 21 to 40 
 to register\n$20 for walk-ins\n\nNon-Member Cost:\n$20 online and at t
 he door\n\n2 Item Minimum:\nEveryone must purchase 2 times. You can ge
 t a soda and an appetizer, 2 beers, etc. Ask the bartender if there ar
 e any drink specials going on.\n\nTickets:\nThere are a limited number
  of Tickets for sale.\nTickets are not mailed, but your name will be k
 ept at the door. All sales are final.\n\nDirections:\nWe will be meeti
 ng on the Venetian Grill side of Central Pizzeria. If you enter via Ce
 ntral Pizzeria head to the very back where the bar is.\nLots of public
  parking behind the buildings.\nhttp://www.centralpizzeria.com/\n\nFor
  more information visit http://njyp.org/events/speed-dating-tall-men-1
DTSTART;TZID=America/New_York:20100111T190000
DTEND;TZID=America/New_York:20100111T210000
CATEGORIES:"somerset county", social
LOCATION:Venetian Grill - enter via Central Pizzeria
WEBSITE:
URL:
CONTACT:
ORGANIZER;CN="Brian and Mike":http://njyp.org/profile/BrianMike
ATTACH;FMTTYPE="image/jpeg":http://storage.ning.com/topology/rest/1.0/
 file/get/1088579338?profile=original
ATTENDEE;ROLE=REQ-PARTICIPANT;PARTSTAT=ACCEPTED;RSVP=TRUE;CN="Craig Wa
 ll":http://njyp.org/profile/CraigWall
ATTENDEE;ROLE=REQ-PARTICIPANT;PARTSTAT=ACCEPTED;RSVP=TRUE;CN="Alex B."
 :http://njyp.org/profile/AlexB
ATTENDEE;ROLE=REQ-PARTICIPANT;PARTSTAT=ACCEPTED;RSVP=TRUE;CN="Marc Sem
 enta":http://njyp.org/profile/MarcSementa
ATTENDEE;ROLE=REQ-PARTICIPANT;PARTSTAT=ACCEPTED;RSVP=TRUE;CN=David:htt
 p://njyp.org/profile/DavidCollins
ATTENDEE;ROLE=REQ-PARTICIPANT;PARTSTAT=ACCEPTED;RSVP=TRUE;CN="Stephani
 e Gervasio":http://njyp.org/profile/StephanieGervasio
ATTENDEE;ROLE=REQ-PARTICIPANT;PARTSTAT=ACCEPTED;RSVP=TRUE;CN="denise b
 .":http://njyp.org/profile/denisebonnin
ATTENDEE;ROLE=REQ-PARTICIPANT;PARTSTAT=ACCEPTED;RSVP=TRUE;CN="Don Dins
 more":http://njyp.org/profile/DonDinsmore
ATTENDEE;ROLE=REQ-PARTICIPANT;PARTSTAT=ACCEPTED;RSVP=TRUE;CN="Alexis P
 ":http://njyp.org/profile/AlexisPickard
ATTENDEE;ROLE=REQ-PARTICIPANT;PARTSTAT=ACCEPTED;RSVP=TRUE;CN="Meghan D
 rewes":http://njyp.org/profile/MeghanDrewes
ATTENDEE;ROLE=REQ-PARTICIPANT;PARTSTAT=ACCEPTED;RSVP=TRUE;CN="AnnMarie
  Gervasio":http://njyp.org/profile/AnnMarieGervasio
ATTENDEE;ROLE=REQ-PARTICIPANT;PARTSTAT=ACCEPTED;RSVP=TRUE;CN="Daniel W
 alter":http://njyp.org/profile/DanWalter
ATTENDEE;ROLE=REQ-PARTICIPANT;PARTSTAT=ACCEPTED;RSVP=TRUE;CN=Alessandr
 a:http://njyp.org/profile/AlessandraDeCicco
ATTENDEE;ROLE=REQ-PARTICIPANT;PARTSTAT=ACCEPTED;RSVP=TRUE;CN="Steve Br
 own":http://njyp.org/profile/SteveBrown
ATTENDEE;ROLE=REQ-PARTICIPANT;PARTSTAT=ACCEPTED;RSVP=TRUE;CN="Doug Bem
 an":http://njyp.org/profile/DougBeman
ATTENDEE;ROLE=REQ-PARTICIPANT;PARTSTAT=ACCEPTED;RSVP=TRUE;CN="Brian an
 d Mike":http://njyp.org/profile/BrianMike
ATTENDEE;ROLE=REQ-PARTICIPANT;PARTSTAT=ACCEPTED;RSVP=TRUE;CN=Laura:htt
 p://njyp.org/profile/Laura663
ATTENDEE;ROLE=REQ-PARTICIPANT;PARTSTAT=ACCEPTED;RSVP=TRUE;CN="Jason S.
 ":http://njyp.org/profile/JasonS
ATTENDEE;ROLE=REQ-PARTICIPANT;PARTSTAT=TENTATIVE;RSVP=TRUE;CN=Rena:htt
 p://njyp.org/profile/RenaSinha
ATTENDEE;ROLE=REQ-PARTICIPANT;PARTSTAT=TENTATIVE;RSVP=TRUE;CN="Leigha 
 Diesel":http://njyp.org/profile/LeighaDiesel
ATTENDEE;ROLE=REQ-PARTICIPANT;PARTSTAT=TENTATIVE;RSVP=TRUE;CN="Ken S."
 :http://njyp.org/profile/KennethSirower
ATTENDEE;ROLE=REQ-PARTICIPANT;PARTSTAT=TENTATIVE;RSVP=TRUE;CN=Cathy:ht
 tp://njyp.org/profile/CathyMueller
ATTENDEE;ROLE=REQ-PARTICIPANT;PARTSTAT=TENTATIVE;RSVP=TRUE;CN="Mike Le
 e":http://njyp.org/profile/MikeLee
ATTENDEE;ROLE=REQ-PARTICIPANT;PARTSTAT=TENTATIVE;RSVP=TRUE;CN="Simon R
 obertson":http://njyp.org/profile/SimonRobertson
END:VEVENT
END:VCALENDAR
