BEGIN:VCALENDAR
PRODID:NingEventWidget-v1
VERSION:2.0
METHOD:PUBLISH
BEGIN:VTIMEZONE
TZID:America/New_York
X-LIC-LOCATION:America/New_York
BEGIN:DAYLIGHT
TZOFFSETFROM:-0500
TZOFFSETTO:-0400
TZNAME:EDT
DTSTART:19700308T020000
RRULE:FREQ=YEARLY;BYMONTH=3;BYDAY=2SU
END:DAYLIGHT
BEGIN:STANDARD
TZOFFSETFROM:-0400
TZOFFSETTO:-0500
TZNAME:EST
DTSTART:19701101T020000
RRULE:FREQ=YEARLY;BYMONTH=11;BYDAY=1SU
END:STANDARD
END:VTIMEZONE
BEGIN:VEVENT
UID:2938326:Event:38577
DTSTAMP:20260420T042759Z
SUMMARY:Speed Dating, Tall Men
DESCRIPTION:SOLD OUT\n\n10 to 15 dates in one night! That is what you 
 will get at any of our Speed Dating events. You will meet one-on-one f
 or 4 minutes with other single Young Professionals. At the end of each
  date you will privately circle Yes or No on your scorecard; letting u
 s know if you would want to see your date again. At the end of the nig
 ht we collect your scorecards and within 24 hours we will send you the
  contact information of your mutual matches. Setting up real dates is 
 then up to you!\n\nThis is a time sensitive event. If you arrive after
  7:30 we cannot seat you nor refund your ticket cost.\n\nAge Range:\nS
 ingles who are 25 to 39 may attend.\nBring ID and make sure you are in
  our targeted age range.\nWe host these events monthly and we do mix u
 p the age range.\n\nMEN:\nYou must be a minimum of 5'10\", barefoot.\n
 \nWOMEN:\nYou may be any height but you must love tall men :)\n\n\nRSV
 P (to the right) and we will let you know when tix are almost gone, wh
 en prices are going up, if there are any changes, etc.\n\nFEMALE Membe
 r Cost:\n$5 for the first 5 to register\n$10 for the next 6 to 20 to r
 egister\n$15 for the next 21 to 25 to register\n$20 for walk-ins\n\nFE
 MALE Non-Member Cost:\n$20 online and at the door\n\n2 Item Minimum:\n
 Everyone must purchase 2 times. You can get a soda and an appetizer, 2
  beers, etc. Ask the bartender if there are any drink specials going o
 n.\n\nTickets:\nThere are a limited number of Tickets for sale.\nTicke
 ts are not mailed, but your name will be kept at the door. All sales a
 re final.\n\nDirections:\nWe will be meeting upstairs at Senoritas.\nL
 ots of public parking at the train station and on the street.\nhttp://
 www.senoritasmexicangrill.com/\n\nFor more information visit http://nj
 yp.org/events/speed-dating-tall-men-2
DTSTART;TZID=America/New_York:20100209T190000
DTEND;TZID=America/New_York:20100209T210000
CATEGORIES:"essex county", social
LOCATION:Senorita's
WEBSITE:http://www.senoritasmexicangrill.com/index.php?page_id=17
URL:http://www.senoritasmexicangrill.com/index.php?page_id=17
CONTACT:
ORGANIZER;CN="Brian and Mike":http://njyp.org/profile/BrianMike
ATTACH;FMTTYPE="image/jpeg":http://storage.ning.com/topology/rest/1.0/
 file/get/1088587096?profile=original
ATTENDEE;ROLE=REQ-PARTICIPANT;PARTSTAT=ACCEPTED;RSVP=TRUE;CN="Ed Makow
 ski":http://njyp.org/profile/EdMakowski
ATTENDEE;ROLE=REQ-PARTICIPANT;PARTSTAT=ACCEPTED;RSVP=TRUE;CN="Lauren T
 aylor":http://njyp.org/profile/LaurenTaylor
ATTENDEE;ROLE=REQ-PARTICIPANT;PARTSTAT=ACCEPTED;RSVP=TRUE;CN="Dave B":
 http://njyp.org/profile/daveb
ATTENDEE;ROLE=REQ-PARTICIPANT;PARTSTAT=ACCEPTED;RSVP=TRUE;CN="Karl  A 
 Kraus":http://njyp.org/profile/KarlAKraus
ATTENDEE;ROLE=REQ-PARTICIPANT;PARTSTAT=ACCEPTED;RSVP=TRUE;CN=NorthNJDa
 vid:http://njyp.org/profile/NorthNJDavid
ATTENDEE;ROLE=REQ-PARTICIPANT;PARTSTAT=ACCEPTED;RSVP=TRUE;CN="Amanda E
 lizabeth Arena":http://njyp.org/profile/AmandaElizabethArena
ATTENDEE;ROLE=REQ-PARTICIPANT;PARTSTAT=ACCEPTED;RSVP=TRUE;CN="Steve Br
 own":http://njyp.org/profile/SteveBrown
ATTENDEE;ROLE=REQ-PARTICIPANT;PARTSTAT=ACCEPTED;RSVP=TRUE;CN="William 
 Rodriguez":http://njyp.org/profile/WilliamRodriguez
ATTENDEE;ROLE=REQ-PARTICIPANT;PARTSTAT=ACCEPTED;RSVP=TRUE;CN=Laura:htt
 p://njyp.org/profile/Laura663
ATTENDEE;ROLE=REQ-PARTICIPANT;PARTSTAT=ACCEPTED;RSVP=TRUE;CN="Christin
 a B":http://njyp.org/profile/ChristinaB
ATTENDEE;ROLE=REQ-PARTICIPANT;PARTSTAT=ACCEPTED;RSVP=TRUE;CN=Raco:http
 ://njyp.org/profile/RadhaCollins
ATTENDEE;ROLE=REQ-PARTICIPANT;PARTSTAT=ACCEPTED;RSVP=TRUE;CN="Joseph L
 ewis":http://njyp.org/profile/JosephLewis
ATTENDEE;ROLE=REQ-PARTICIPANT;PARTSTAT=ACCEPTED;RSVP=TRUE;CN=Michele:h
 ttp://njyp.org/profile/Michele360
ATTENDEE;ROLE=REQ-PARTICIPANT;PARTSTAT=ACCEPTED;RSVP=TRUE;CN=Meredith:
 http://njyp.org/profile/Meredith18
ATTENDEE;ROLE=REQ-PARTICIPANT;PARTSTAT=ACCEPTED;RSVP=TRUE;CN="Kevin Ha
 ughwout":http://njyp.org/profile/KevinHaughwout
ATTENDEE;ROLE=REQ-PARTICIPANT;PARTSTAT=ACCEPTED;RSVP=TRUE;CN="Brian an
 d Mike":http://njyp.org/profile/BrianMike
ATTENDEE;ROLE=REQ-PARTICIPANT;PARTSTAT=TENTATIVE;RSVP=TRUE;CN=Edward:h
 ttp://njyp.org/profile/EKotwica
ATTENDEE;ROLE=REQ-PARTICIPANT;PARTSTAT=TENTATIVE;RSVP=TRUE;CN=Zakkiyya
 :http://njyp.org/profile/ZakkiyyaTaylor
ATTENDEE;ROLE=REQ-PARTICIPANT;PARTSTAT=TENTATIVE;RSVP=TRUE;CN=Danielle
 :http://njyp.org/profile/DanielleM
END:VEVENT
END:VCALENDAR
