BEGIN:VCALENDAR
PRODID:NingEventWidget-v1
VERSION:2.0
METHOD:PUBLISH
BEGIN:VTIMEZONE
TZID:America/New_York
X-LIC-LOCATION:America/New_York
BEGIN:DAYLIGHT
TZOFFSETFROM:-0500
TZOFFSETTO:-0400
TZNAME:EDT
DTSTART:19700308T020000
RRULE:FREQ=YEARLY;BYMONTH=3;BYDAY=2SU
END:DAYLIGHT
BEGIN:STANDARD
TZOFFSETFROM:-0400
TZOFFSETTO:-0500
TZNAME:EST
DTSTART:19701101T020000
RRULE:FREQ=YEARLY;BYMONTH=11;BYDAY=1SU
END:STANDARD
END:VTIMEZONE
BEGIN:VEVENT
UID:2938326:Event:111034
DTSTAMP:20260420T004523Z
SUMMARY:Speed Dating: Tall Men 21 to 35 in Morristown
DESCRIPTION:10 to 15 dates in one night! That is what you will get at 
 any of our Speed Dating events. You will meet one-on-one for 4 minutes
  with other single Young Professionals. At the end of each date you wi
 ll privately circle Yes or No on your scorecard; letting us know if yo
 u would want to see your date again. At the end of the night we collec
 t your scorecards and within 24 hours we will send you the contact inf
 ormation of your mutual matches. Setting up real dates is then up to y
 ou!\n\nAge Range:\nSingles who are 21 to 35 may attend.\nBring ID and 
 make sure you are in our targeted age range.\nWe host these events mon
 thly and we do mix up the age range.\n\nMEN:\nYou must be a minimum of
  5'10\", barefoot.\nThese events are done at the request of MANY tall 
 women who are looking for tall men.\n\nWOMEN:\nYou may be any height b
 ut you must love tall men :)\nThere is no height req for women because
  many MEN have asked for it to be that way.\n\n\n\nMember Cost:\n$10 f
 or the first 20 to register\n$15 for the next 21 to 40 to register\n$2
 0 for walk-ins if there is space\n\nNon-Member Cost:\n$20 online and a
 t the door if there is space\n\n2 Item Minimum:\nEveryone must purchas
 e at least 2 items, food or drink.\n\nTickets:\nThere are a limited nu
 mber of Tickets for sale.\nTickets are not mailed, but your name will 
 be kept at the door. All sales are final.\n\nHow to Find Us:\nMeet in 
 Qube Lounge at the Hyatt. Registration will occur in Qube and then the
  group will move to a privat room so please be on time.\n\nFor more in
 formation visit http://njyp.org/events/speed-dating-tall-men-21-to-35
DTSTART;TZID=America/New_York:20101123T190000
DTEND;TZID=America/New_York:20101123T210000
CATEGORIES:"morris county", social, singles
LOCATION:Qube Lounge at The Hyatt
WEBSITE:http://morristown.hyatt.com/hyatt/hotels/entertainment/index.j
 sp;jsessionid=6961F555B1F8A8CD4070C9027CB39F9B.atg07-prd-atg1
URL:http://morristown.hyatt.com/hyatt/hotels/entertainment/index.jsp;j
 sessionid=6961F555B1F8A8CD4070C9027CB39F9B.atg07-prd-atg1
CONTACT:
ORGANIZER;CN="Brian and Mike":http://njyp.org/profile/BrianMike
ATTACH;FMTTYPE="image/jpeg":http://storage.ning.com/topology/rest/1.0/
 file/get/1088651432?profile=original
ATTENDEE;ROLE=REQ-PARTICIPANT;PARTSTAT=ACCEPTED;RSVP=TRUE;CN="Jordan S
 pitzer-London":http://njyp.org/profile/JordanSpitzerLondon
ATTENDEE;ROLE=REQ-PARTICIPANT;PARTSTAT=ACCEPTED;RSVP=TRUE;CN=Paul:http
 ://njyp.org/profile/Paul413
ATTENDEE;ROLE=REQ-PARTICIPANT;PARTSTAT=ACCEPTED;RSVP=TRUE;CN="Mark Oli
 ver":http://njyp.org/profile/MarkOliver
ATTENDEE;ROLE=REQ-PARTICIPANT;PARTSTAT=ACCEPTED;RSVP=TRUE;CN="Christin
 e Luckey":http://njyp.org/profile/ChristineLuckey
ATTENDEE;ROLE=REQ-PARTICIPANT;PARTSTAT=ACCEPTED;RSVP=TRUE;CN=John:http
 ://njyp.org/profile/John965
ATTENDEE;ROLE=REQ-PARTICIPANT;PARTSTAT=ACCEPTED;RSVP=TRUE;CN=Allison:h
 ttp://njyp.org/profile/Allison91
ATTENDEE;ROLE=REQ-PARTICIPANT;PARTSTAT=ACCEPTED;RSVP=TRUE;CN=Diane:htt
 p://njyp.org/profile/Diane
ATTENDEE;ROLE=REQ-PARTICIPANT;PARTSTAT=ACCEPTED;RSVP=TRUE;CN=Helen:htt
 p://njyp.org/profile/Helen108
ATTENDEE;ROLE=REQ-PARTICIPANT;PARTSTAT=ACCEPTED;RSVP=TRUE;CN=Michele:h
 ttp://njyp.org/profile/MicheleEsposito
ATTENDEE;ROLE=REQ-PARTICIPANT;PARTSTAT=ACCEPTED;RSVP=TRUE;CN="Brian an
 d Mike":http://njyp.org/profile/BrianMike
ATTENDEE;ROLE=REQ-PARTICIPANT;PARTSTAT=TENTATIVE;RSVP=TRUE;CN="Lori Si
 nclair":http://njyp.org/profile/LoriSinclair
ATTENDEE;ROLE=REQ-PARTICIPANT;PARTSTAT=TENTATIVE;RSVP=TRUE;CN=Laura:ht
 tp://njyp.org/profile/Laura104
ATTENDEE;ROLE=REQ-PARTICIPANT;PARTSTAT=TENTATIVE;RSVP=TRUE;CN=Julia:ht
 tp://njyp.org/profile/Julia645
ATTENDEE;ROLE=REQ-PARTICIPANT;PARTSTAT=TENTATIVE;RSVP=TRUE;CN=Ade:http
 ://njyp.org/profile/Clement
ATTENDEE;ROLE=REQ-PARTICIPANT;PARTSTAT=TENTATIVE;RSVP=TRUE;CN=Meredith
 :http://njyp.org/profile/Meredith812
ATTENDEE;ROLE=REQ-PARTICIPANT;PARTSTAT=TENTATIVE;RSVP=TRUE;CN=Amanda:h
 ttp://njyp.org/profile/Amanda695
ATTENDEE;ROLE=REQ-PARTICIPANT;PARTSTAT=TENTATIVE;RSVP=TRUE;CN="Christi
 ne Migton":http://njyp.org/profile/ChristineMigton
ATTENDEE;ROLE=REQ-PARTICIPANT;PARTSTAT=TENTATIVE;RSVP=TRUE;CN="Rebecca
  Prince":http://njyp.org/profile/RebeccaPrince
ATTENDEE;ROLE=REQ-PARTICIPANT;PARTSTAT=TENTATIVE;RSVP=TRUE;CN=Eric:htt
 p://njyp.org/profile/Eric884
ATTENDEE;ROLE=REQ-PARTICIPANT;PARTSTAT=TENTATIVE;RSVP=TRUE;CN=Larry:ht
 tp://njyp.org/profile/LarryYang
ATTENDEE;ROLE=REQ-PARTICIPANT;PARTSTAT=TENTATIVE;RSVP=TRUE;CN="Ed Mako
 wski":http://njyp.org/profile/EdMakowski
ATTENDEE;ROLE=REQ-PARTICIPANT;PARTSTAT=TENTATIVE;RSVP=TRUE;CN="Kevin H
 aughwout":http://njyp.org/profile/KevinHaughwout
ATTENDEE;ROLE=REQ-PARTICIPANT;PARTSTAT=TENTATIVE;RSVP=TRUE;CN=Jordan:h
 ttp://njyp.org/profile/Jordan
END:VEVENT
END:VCALENDAR
