BEGIN:VCALENDAR
PRODID:NingEventWidget-v1
VERSION:2.0
METHOD:PUBLISH
BEGIN:VTIMEZONE
TZID:America/New_York
X-LIC-LOCATION:America/New_York
BEGIN:DAYLIGHT
TZOFFSETFROM:-0500
TZOFFSETTO:-0400
TZNAME:EDT
DTSTART:19700308T020000
RRULE:FREQ=YEARLY;BYMONTH=3;BYDAY=2SU
END:DAYLIGHT
BEGIN:STANDARD
TZOFFSETFROM:-0400
TZOFFSETTO:-0500
TZNAME:EST
DTSTART:19701101T020000
RRULE:FREQ=YEARLY;BYMONTH=11;BYDAY=1SU
END:STANDARD
END:VTIMEZONE
BEGIN:VEVENT
UID:2938326:Event:79297
DTSTAMP:20260420T091512Z
SUMMARY:Speed Dating: Tall Men Ages 21 to 35
DESCRIPTION:10 to 15 dates in one night! That is what you will get at 
 any of our Speed Dating events. You will meet one-on-one for 4 minutes
  with other single Young Professionals. At the end of each date you wi
 ll privately circle Yes or No on your scorecard; letting us know if yo
 u would want to see your date again. At the end of the night we collec
 t your scorecards and within 24 hours we will send you the contact inf
 ormation of your mutual matches. Setting up real dates is then up to y
 ou!\n\n\n\nAge Range:\nSingles who are 21 to 35 may attend.\nBring ID 
 and make sure you are in our targeted age range.\nWe host these events
  monthly and we do mix up the age range.\n\nMEN:\nYou must be a minimu
 m of 5'10\", barefoot.\nThese events are done at the request of MANY t
 all women who are looking for tall men.\n\nWOMEN:\nYou may be any heig
 ht but you must love tall men :)\nThere is no height req for women bec
 ause many MEN have asked for it to be that way.\n\nMember Cost:\n$10 f
 or the first 20 to register\n$15 for the next 21 to 30 to register\n$2
 0 for walk-ins if there is space\n\nNon-Member Cost:\n$20 online and a
 t the door if there is space\n\n2 Item Minimum:\nEveryone must purchas
 e at least 2 items, food or drink.\n\nTickets:\nThere are a limited nu
 mber of Tickets for sale.\nTickets are not mailed, but your name will 
 be kept at the door. All sales are final.\n\nHow to Find Us:\nMeet at 
 the bar or in the private rooms. Ask staff to guide you.\n\nFor more i
 nformation visit http://njyp.org/events/speed-dating-tall-men-ages-21-
 1
DTSTART;TZID=America/New_York:20100721T190000
DTEND;TZID=America/New_York:20100721T210000
CATEGORIES:"hudson county", social, singles
LOCATION:Buskers Bar and Grill
WEBSITE:http://www.buskersbarandgrill.com/
URL:http://www.buskersbarandgrill.com/
CONTACT:
ORGANIZER;CN="Brian and Mike":http://njyp.org/profile/BrianMike
ATTACH;FMTTYPE="image/jpeg":http://storage.ning.com/topology/rest/1.0/
 file/get/1088626614?profile=original
ATTENDEE;ROLE=REQ-PARTICIPANT;PARTSTAT=ACCEPTED;RSVP=TRUE;CN=James:htt
 p://njyp.org/profile/James846
ATTENDEE;ROLE=REQ-PARTICIPANT;PARTSTAT=ACCEPTED;RSVP=TRUE;CN="Deya Mat
 os":http://njyp.org/profile/DeyaMatos
ATTENDEE;ROLE=REQ-PARTICIPANT;PARTSTAT=ACCEPTED;RSVP=TRUE;CN=Maureen:h
 ttp://njyp.org/profile/Maureen
ATTENDEE;ROLE=REQ-PARTICIPANT;PARTSTAT=ACCEPTED;RSVP=TRUE;CN=Brad:http
 ://njyp.org/profile/Brad
ATTENDEE;ROLE=REQ-PARTICIPANT;PARTSTAT=ACCEPTED;RSVP=TRUE;CN=Maggie:ht
 tp://njyp.org/profile/Maggie
ATTENDEE;ROLE=REQ-PARTICIPANT;PARTSTAT=ACCEPTED;RSVP=TRUE;CN=Holly:htt
 p://njyp.org/profile/Holly767
ATTENDEE;ROLE=REQ-PARTICIPANT;PARTSTAT=ACCEPTED;RSVP=TRUE;CN="Michelle
  Ann Benedek":http://njyp.org/profile/MichelleAnnBenedek
ATTENDEE;ROLE=REQ-PARTICIPANT;PARTSTAT=ACCEPTED;RSVP=TRUE;CN=Ahsan:htt
 p://njyp.org/profile/Ahsan
ATTENDEE;ROLE=REQ-PARTICIPANT;PARTSTAT=ACCEPTED;RSVP=TRUE;CN="Allison 
 Jolls":http://njyp.org/profile/AllisonJolls
ATTENDEE;ROLE=REQ-PARTICIPANT;PARTSTAT=ACCEPTED;RSVP=TRUE;CN=Heather:h
 ttp://njyp.org/profile/Heather308
ATTENDEE;ROLE=REQ-PARTICIPANT;PARTSTAT=ACCEPTED;RSVP=TRUE;CN="Brian an
 d Mike":http://njyp.org/profile/BrianMike
ATTENDEE;ROLE=REQ-PARTICIPANT;PARTSTAT=TENTATIVE;RSVP=TRUE;CN="enrico 
 ventola":http://njyp.org/profile/enricoventola
ATTENDEE;ROLE=REQ-PARTICIPANT;PARTSTAT=TENTATIVE;RSVP=TRUE;CN="Gael Bu
 rman":http://njyp.org/profile/GaelBurman
ATTENDEE;ROLE=REQ-PARTICIPANT;PARTSTAT=TENTATIVE;RSVP=TRUE;CN="Sarah M
 iddleton":http://njyp.org/profile/SarahM
ATTENDEE;ROLE=REQ-PARTICIPANT;PARTSTAT=TENTATIVE;RSVP=TRUE;CN="Keith J
 ames Menchin":http://njyp.org/profile/KeithJamesMenchin
ATTENDEE;ROLE=REQ-PARTICIPANT;PARTSTAT=TENTATIVE;RSVP=TRUE;CN=Laryssa:
 http://njyp.org/profile/Laryssa
ATTENDEE;ROLE=REQ-PARTICIPANT;PARTSTAT=TENTATIVE;RSVP=TRUE;CN="Sean Mc
 Keown":http://njyp.org/profile/SeanMcKeown843
ATTENDEE;ROLE=REQ-PARTICIPANT;PARTSTAT=TENTATIVE;RSVP=TRUE;CN=Julie:ht
 tp://njyp.org/profile/Jules
ATTENDEE;ROLE=REQ-PARTICIPANT;PARTSTAT=TENTATIVE;RSVP=TRUE;CN="Monica 
 Johnson":http://njyp.org/profile/MonicaJohnson
ATTENDEE;ROLE=REQ-PARTICIPANT;PARTSTAT=TENTATIVE;RSVP=TRUE;CN="Beth An
 n Cinkewicz":http://njyp.org/profile/BethAnnCinkewicz
ATTENDEE;ROLE=REQ-PARTICIPANT;PARTSTAT=TENTATIVE;RSVP=TRUE;CN=Meagan:h
 ttp://njyp.org/profile/Meagan
ATTENDEE;ROLE=REQ-PARTICIPANT;PARTSTAT=TENTATIVE;RSVP=TRUE;CN=Erica:ht
 tp://njyp.org/profile/Erica
END:VEVENT
END:VCALENDAR
