BEGIN:VCALENDAR
PRODID:NingEventWidget-v1
VERSION:2.0
METHOD:PUBLISH
BEGIN:VTIMEZONE
TZID:America/New_York
X-LIC-LOCATION:America/New_York
BEGIN:DAYLIGHT
TZOFFSETFROM:-0500
TZOFFSETTO:-0400
TZNAME:EDT
DTSTART:19700308T020000
RRULE:FREQ=YEARLY;BYMONTH=3;BYDAY=2SU
END:DAYLIGHT
BEGIN:STANDARD
TZOFFSETFROM:-0400
TZOFFSETTO:-0500
TZNAME:EST
DTSTART:19701101T020000
RRULE:FREQ=YEARLY;BYMONTH=11;BYDAY=1SU
END:STANDARD
END:VTIMEZONE
BEGIN:VEVENT
UID:2938326:Event:324055
DTSTAMP:20260420T074104Z
SUMMARY:Speed Dating: Tall Men Ages 21 to 35
DESCRIPTION:10 to 15 dates in one night! That is what you will get at 
 any of our Speed Dating events. You will meet one-on-one for 4 minutes
  with other single Young Professionals. At the end of each date you wi
 ll privately circle Yes or No on your scorecard; noting if you would w
 ant to see your date again. At the end of the night you will return ho
 me and enter your results online.  Within 24 hours you will receive y
 our mutual matches. Setting up real dates is then up to you! Age Range
 : Singles who are 21 to 35 may attend. Bring ID and make sure you are 
 in our targeted age range. We host these events monthly and we do mix 
 up the age range. MEN: You must be a minimum of 5'10\", barefoot. Thes
 e events are done at the request of MANY tall women who are looking fo
 r tall men. WOMEN: You may be any height but you must love tall men :)
  There is no height req for women because many MEN have asked for it t
 o be that way.\n Member Cost: $10 for the first 20 to register $15 for
  the next 21 to 40 to register $20 for walk-ins if there is space Non-
 Member Cost: $20 online and at the door if there is space 2 Item Minim
 um: Everyone must purchase 2 items during this event; food and/or any 
 drink but soda. Bottled water, juice, virgin drinks do count toward th
 e minimum. Tickets: There are a limited number of Tickets for sale. Ti
 ckets are not mailed, but your name will be kept at the door. All sale
 s are final. How to Find Us: Meet in Qube Lounge at the Hyatt. 7pm reg
 istration will occur in Qube and then the group will move to a private
  room so please be on time. http://www.morristown.hyatt.com/hyatt/hote
 ls/index.jsp\n\nFor more information visit http://njyp.org/events/spee
 d-dating-tall-men-ages-21-to-35-1
DTSTART;TZID=America/New_York:20120319T190000
DTEND;TZID=America/New_York:20120319T210000
CATEGORIES:"morris county", social, singles
LOCATION:Qube Lounge at the Hyatt
WEBSITE:http://morristown.hyatt.com/hyatt/hotels/index.jsp
URL:http://morristown.hyatt.com/hyatt/hotels/index.jsp
CONTACT:
ORGANIZER;CN="Brian and Mike":http://njyp.org/profile/BrianMike
ATTACH;FMTTYPE="image/jpeg":http://storage.ning.com/topology/rest/1.0/
 file/get/1088756611?profile=original
ATTENDEE;ROLE=REQ-PARTICIPANT;PARTSTAT=ACCEPTED;RSVP=TRUE;CN=Patricia:
 http://njyp.org/profile/Patricia685
ATTENDEE;ROLE=REQ-PARTICIPANT;PARTSTAT=ACCEPTED;RSVP=TRUE;CN=Meghan:ht
 tp://njyp.org/profile/Meghan855
ATTENDEE;ROLE=REQ-PARTICIPANT;PARTSTAT=ACCEPTED;RSVP=TRUE;CN=Jen:http:
 //njyp.org/profile/Jen438
ATTENDEE;ROLE=REQ-PARTICIPANT;PARTSTAT=ACCEPTED;RSVP=TRUE;CN=Meri:http
 ://njyp.org/profile/Meri
ATTENDEE;ROLE=REQ-PARTICIPANT;PARTSTAT=ACCEPTED;RSVP=TRUE;CN=Evan:http
 ://njyp.org/profile/Evan347
ATTENDEE;ROLE=REQ-PARTICIPANT;PARTSTAT=ACCEPTED;RSVP=TRUE;CN=Jennifer:
 http://njyp.org/profile/Jennifer969
ATTENDEE;ROLE=REQ-PARTICIPANT;PARTSTAT=ACCEPTED;RSVP=TRUE;CN=Chris:htt
 p://njyp.org/profile/Chris710
ATTENDEE;ROLE=REQ-PARTICIPANT;PARTSTAT=ACCEPTED;RSVP=TRUE;CN=Jenna:htt
 p://njyp.org/profile/Jenna416
ATTENDEE;ROLE=REQ-PARTICIPANT;PARTSTAT=ACCEPTED;RSVP=TRUE;CN=Patrice:h
 ttp://njyp.org/profile/Patrice
ATTENDEE;ROLE=REQ-PARTICIPANT;PARTSTAT=ACCEPTED;RSVP=TRUE;CN=Aubrey:ht
 tp://njyp.org/profile/Aubrey
ATTENDEE;ROLE=REQ-PARTICIPANT;PARTSTAT=ACCEPTED;RSVP=TRUE;CN=Michele:h
 ttp://njyp.org/profile/MicheleEsposito
ATTENDEE;ROLE=REQ-PARTICIPANT;PARTSTAT=ACCEPTED;RSVP=TRUE;CN=Melissa:h
 ttp://njyp.org/profile/Melissa117
ATTENDEE;ROLE=REQ-PARTICIPANT;PARTSTAT=ACCEPTED;RSVP=TRUE;CN="Brian an
 d Mike":http://njyp.org/profile/BrianMike
ATTENDEE;ROLE=REQ-PARTICIPANT;PARTSTAT=TENTATIVE;RSVP=TRUE;CN=Robin:ht
 tp://njyp.org/profile/Robin226
ATTENDEE;ROLE=REQ-PARTICIPANT;PARTSTAT=TENTATIVE;RSVP=TRUE;CN=Bobby:ht
 tp://njyp.org/profile/Bobby561
ATTENDEE;ROLE=REQ-PARTICIPANT;PARTSTAT=TENTATIVE;RSVP=TRUE;CN=Billie:h
 ttp://njyp.org/profile/Billie
ATTENDEE;ROLE=REQ-PARTICIPANT;PARTSTAT=TENTATIVE;RSVP=TRUE;CN=Charles:
 http://njyp.org/profile/Charles828
ATTENDEE;ROLE=REQ-PARTICIPANT;PARTSTAT=TENTATIVE;RSVP=TRUE;CN="Sara Su
 llivan":http://njyp.org/profile/SaraStrickler
ATTENDEE;ROLE=REQ-PARTICIPANT;PARTSTAT=TENTATIVE;RSVP=TRUE;CN="Jeffrey
  Rieske":http://njyp.org/profile/jwr
ATTENDEE;ROLE=REQ-PARTICIPANT;PARTSTAT=TENTATIVE;RSVP=TRUE;CN=Larry:ht
 tp://njyp.org/profile/LarryYang
ATTENDEE;ROLE=REQ-PARTICIPANT;PARTSTAT=TENTATIVE;RSVP=TRUE;CN=Sheila:h
 ttp://njyp.org/profile/Sheila
ATTENDEE;ROLE=REQ-PARTICIPANT;PARTSTAT=TENTATIVE;RSVP=TRUE;CN=Karen:ht
 tp://njyp.org/profile/Karen367
ATTENDEE;ROLE=REQ-PARTICIPANT;PARTSTAT=TENTATIVE;RSVP=TRUE;CN=Leah:htt
 p://njyp.org/profile/LeahZ
ATTENDEE;ROLE=REQ-PARTICIPANT;PARTSTAT=TENTATIVE;RSVP=TRUE;CN=Julie:ht
 tp://njyp.org/profile/Julie942
ATTENDEE;ROLE=REQ-PARTICIPANT;PARTSTAT=TENTATIVE;RSVP=TRUE;CN=Troy:htt
 p://njyp.org/profile/Troy
ATTENDEE;ROLE=REQ-PARTICIPANT;PARTSTAT=TENTATIVE;RSVP=TRUE;CN=Rebecca:
 http://njyp.org/profile/theRebecca
ATTENDEE;ROLE=REQ-PARTICIPANT;PARTSTAT=TENTATIVE;RSVP=TRUE;CN=Chris:ht
 tp://njyp.org/profile/Chris179
END:VEVENT
END:VCALENDAR
