BEGIN:VCALENDAR
PRODID:NingEventWidget-v1
VERSION:2.0
METHOD:PUBLISH
BEGIN:VTIMEZONE
TZID:America/New_York
X-LIC-LOCATION:America/New_York
BEGIN:DAYLIGHT
TZOFFSETFROM:-0500
TZOFFSETTO:-0400
TZNAME:EDT
DTSTART:19700308T020000
RRULE:FREQ=YEARLY;BYMONTH=3;BYDAY=2SU
END:DAYLIGHT
BEGIN:STANDARD
TZOFFSETFROM:-0400
TZOFFSETTO:-0500
TZNAME:EST
DTSTART:19701101T020000
RRULE:FREQ=YEARLY;BYMONTH=11;BYDAY=1SU
END:STANDARD
END:VTIMEZONE
BEGIN:VEVENT
UID:2938326:Event:545368
DTSTAMP:20260421T052822Z
SUMMARY:Speed Dating: Tall Men Ages 25 to 35
DESCRIPTION:Cut the agony out of first-dates with Speed Dating! Â Youâ
 €™ll have 10 to 15 dates in one night, each only lasting four minutes,
  so make the time count. Â At the end of each mini-rendezvous, private
 ly note whether youâ€™d like to see your date again â€“ simply circle 
 Yes or No on your scorecard. Â Enter your results online when you retu
 rn home and within 24 hours, youâ€™ll receive your matches from our sy
 stem. Â Setting up date number two is up to you!  Age Range: Men who a
 re 25 to 35 may attend. Women who are 21 to 35 my attend. Bring ID and
  make sure you are in our targeted age range. We host these events mon
 thly and we do mix up the age range.  MEN: You must be a minimum of 5'
 10\", barefoot. These events are done at the request of MANY tall wome
 n who are looking for tall men.  WOMEN: You may be any height but you 
 must love tall men :) There is no height req for women because many ME
 N have asked for it to be that way.\n\n\n\n\nMember Cost: $15 online $
 20 for walk-ins if there is space  Non-Member Cost: $20 online and at 
 the door if there is space  2 Item Minimum: Everyone must purchase 2 i
 tems during this event; food and/or any drink but soda. Bottled water,
  juice, virgin drinks do count toward the minimum.  Tickets: There are
  a limited number of Tickets for sale. Tickets are not mailed, but you
 r name will be kept at the door. All sales are final.  Directions: We 
 will be in the BACK of the restaurant. Ask staff if you cannot find th
 e sign-in table.Â http://hoboken.villagepourhouse.com/\n\nFor more inf
 ormation visit http://njyp.org/events/speed-dating-tall-men-ages-25-to
 -35-3
DTSTART;TZID=America/New_York:20140429T190000
DTEND;TZID=America/New_York:20140429T210000
CATEGORIES:"hudson county", social, singles
LOCATION:Village Pourhouse
WEBSITE:http://www.villagepourhouse.com/hoboken/
URL:http://www.villagepourhouse.com/hoboken/
CONTACT:
ORGANIZER;CN="Brian and Mike":http://njyp.org/profile/BrianMike
ATTACH;FMTTYPE="image/jpeg":http://storage.ning.com/topology/rest/1.0/
 file/get/1088756611?profile=original
ATTENDEE;ROLE=REQ-PARTICIPANT;PARTSTAT=ACCEPTED;RSVP=TRUE;CN=Richard:h
 ttp://njyp.org/profile/RichardSeifert
ATTENDEE;ROLE=REQ-PARTICIPANT;PARTSTAT=ACCEPTED;RSVP=TRUE;CN=Nikita:ht
 tp://njyp.org/profile/NikitaGohel
ATTENDEE;ROLE=REQ-PARTICIPANT;PARTSTAT=ACCEPTED;RSVP=TRUE;CN=Diana:htt
 p://njyp.org/profile/Diana116
ATTENDEE;ROLE=REQ-PARTICIPANT;PARTSTAT=ACCEPTED;RSVP=TRUE;CN=Mae:http:
 //njyp.org/profile/Mae
ATTENDEE;ROLE=REQ-PARTICIPANT;PARTSTAT=ACCEPTED;RSVP=TRUE;CN=Tina:http
 ://njyp.org/profile/TinaGeorgiou
ATTENDEE;ROLE=REQ-PARTICIPANT;PARTSTAT=ACCEPTED;RSVP=TRUE;CN=Evelyn:ht
 tp://njyp.org/profile/Evelyn110
ATTENDEE;ROLE=REQ-PARTICIPANT;PARTSTAT=ACCEPTED;RSVP=TRUE;CN="Brian an
 d Mike":http://njyp.org/profile/BrianMike
ATTENDEE;ROLE=REQ-PARTICIPANT;PARTSTAT=TENTATIVE;RSVP=TRUE;CN=Francesc
 a:http://njyp.org/profile/Francesca724
ATTENDEE;ROLE=REQ-PARTICIPANT;PARTSTAT=TENTATIVE;RSVP=TRUE;CN=Anna:htt
 p://njyp.org/profile/Anna692
END:VEVENT
END:VCALENDAR
