BEGIN:VCALENDAR
PRODID:NingEventWidget-v1
VERSION:2.0
METHOD:PUBLISH
BEGIN:VTIMEZONE
TZID:America/New_York
X-LIC-LOCATION:America/New_York
BEGIN:DAYLIGHT
TZOFFSETFROM:-0500
TZOFFSETTO:-0400
TZNAME:EDT
DTSTART:19700308T020000
RRULE:FREQ=YEARLY;BYMONTH=3;BYDAY=2SU
END:DAYLIGHT
BEGIN:STANDARD
TZOFFSETFROM:-0400
TZOFFSETTO:-0500
TZNAME:EST
DTSTART:19701101T020000
RRULE:FREQ=YEARLY;BYMONTH=11;BYDAY=1SU
END:STANDARD
END:VTIMEZONE
BEGIN:VEVENT
UID:2938326:Event:374618
DTSTAMP:20260420T013717Z
SUMMARY:Speed Dating: Tall Men Ages 25 to 39
DESCRIPTION:10 to 15 dates in one night! That is what you will get at 
 any of our Speed Dating events. You will meet one-on-one for 4 minutes
  with other single Young Professionals. At the end of each date you wi
 ll privately circle Yes or No on your scorecard; noting if you would w
 ant to see your date again. At the end of the night you will return ho
 me and enter your results online.  Within 24 hours you will receive y
 our mutual matches. Setting up real dates is then up to you!   Member 
 Cost: $10 for the first 20 to register $15 for the next 21 to 40 to re
 gister $20 for walk-ins  Non-Member Cost: $20 online and at the door  
 Age Range: Singles who are 25 to 39 may attend.  Bring ID and make sur
 e you are in our targeted age range. We host these events monthly and 
 we do mix up the age range.  MEN: You must be a minimum of 5'10\", bar
 efoot. These events are done at the request of MANY tall women who are
  looking for tall men.  WOMEN: You may be any height but you must love
  tall men :) There is no height req for women because many MEN have as
 ked for it to be that way.\n 2 Item Minimum: Everyone must purchase 2 
 items during this event; food and/or any drink but soda. Bottled water
 , juice, virgin drinks do count toward the minimum.  Tickets: There ar
 e a limited number of Tickets for sale. Tickets are not mailed, but yo
 ur name will be kept at the door. All sales are final.  Directions: We
  will be in the BACK of the restaurant.  Ask staff if you cannot find
  the sign-in table. http://hoboken.villagepourhouse.com/\n\nFor more 
 information visit http://njyp.org/events/speed-dating-tall-men-ages-25
 -to-39-2
DTSTART;TZID=America/New_York:20120919T190000
DTEND;TZID=America/New_York:20120919T210000
CATEGORIES:"hudson county", social, singles
LOCATION:Village Pourhouse
WEBSITE:http://hoboken.villagepourhouse.com/
URL:http://hoboken.villagepourhouse.com/
CONTACT:
ORGANIZER;CN="Brian and Mike":http://njyp.org/profile/BrianMike
ATTACH;FMTTYPE="image/jpeg":http://storage.ning.com/topology/rest/1.0/
 file/get/1088709424?profile=original
ATTENDEE;ROLE=REQ-PARTICIPANT;PARTSTAT=ACCEPTED;RSVP=TRUE;CN=Krista:ht
 tp://njyp.org/profile/Krista365
ATTENDEE;ROLE=REQ-PARTICIPANT;PARTSTAT=ACCEPTED;RSVP=TRUE;CN=Christoph
 er:http://njyp.org/profile/Christopher304
ATTENDEE;ROLE=REQ-PARTICIPANT;PARTSTAT=ACCEPTED;RSVP=TRUE;CN="Khyati R
 ana":http://njyp.org/profile/KhyatiRana
ATTENDEE;ROLE=REQ-PARTICIPANT;PARTSTAT=ACCEPTED;RSVP=TRUE;CN=Kathryn:h
 ttp://njyp.org/profile/Kathryn825
ATTENDEE;ROLE=REQ-PARTICIPANT;PARTSTAT=ACCEPTED;RSVP=TRUE;CN=Karla:htt
 p://njyp.org/profile/Karla
ATTENDEE;ROLE=REQ-PARTICIPANT;PARTSTAT=ACCEPTED;RSVP=TRUE;CN="Laura La
 briola":http://njyp.org/profile/LauraLabriola
ATTENDEE;ROLE=REQ-PARTICIPANT;PARTSTAT=ACCEPTED;RSVP=TRUE;CN="Brian an
 d Mike":http://njyp.org/profile/BrianMike
ATTENDEE;ROLE=REQ-PARTICIPANT;PARTSTAT=TENTATIVE;RSVP=TRUE;CN=Robert:h
 ttp://njyp.org/profile/Robert367
ATTENDEE;ROLE=REQ-PARTICIPANT;PARTSTAT=TENTATIVE;RSVP=TRUE;CN=Gail:htt
 p://njyp.org/profile/Gail715
ATTENDEE;ROLE=REQ-PARTICIPANT;PARTSTAT=TENTATIVE;RSVP=TRUE;CN=Danielle
 :http://njyp.org/profile/Daniellek86
ATTENDEE;ROLE=REQ-PARTICIPANT;PARTSTAT=TENTATIVE;RSVP=TRUE;CN=Byron:ht
 tp://njyp.org/profile/Byron
ATTENDEE;ROLE=REQ-PARTICIPANT;PARTSTAT=TENTATIVE;RSVP=TRUE;CN=Michele:
 http://njyp.org/profile/Michele360
ATTENDEE;ROLE=REQ-PARTICIPANT;PARTSTAT=TENTATIVE;RSVP=TRUE;CN=Monica:h
 ttp://njyp.org/profile/Monica421
ATTENDEE;ROLE=REQ-PARTICIPANT;PARTSTAT=TENTATIVE;RSVP=TRUE;CN=Rohini:h
 ttp://njyp.org/profile/Rohini
ATTENDEE;ROLE=REQ-PARTICIPANT;PARTSTAT=TENTATIVE;RSVP=TRUE;CN=Vincenza
 :http://njyp.org/profile/Vincenza
END:VEVENT
END:VCALENDAR
