BEGIN:VCALENDAR
PRODID:NingEventWidget-v1
VERSION:2.0
METHOD:PUBLISH
BEGIN:VTIMEZONE
TZID:America/New_York
X-LIC-LOCATION:America/New_York
BEGIN:DAYLIGHT
TZOFFSETFROM:-0500
TZOFFSETTO:-0400
TZNAME:EDT
DTSTART:19700308T020000
RRULE:FREQ=YEARLY;BYMONTH=3;BYDAY=2SU
END:DAYLIGHT
BEGIN:STANDARD
TZOFFSETFROM:-0400
TZOFFSETTO:-0500
TZNAME:EST
DTSTART:19701101T020000
RRULE:FREQ=YEARLY;BYMONTH=11;BYDAY=1SU
END:STANDARD
END:VTIMEZONE
BEGIN:VEVENT
UID:2938326:Event:411201
DTSTAMP:20260422T132359Z
SUMMARY:Speed Dating: Tall Men Ages 25 to 39
DESCRIPTION:10 to 15 dates in one night! That is what you will get at 
 any of our Speed Dating events. You will meet one-on-one for 4 minutes
  with other single Young Professionals. At the end of each date you wi
 ll privately circle Yes or No on your scorecard; noting if you would w
 ant to see your date again. At the end of the night you will return ho
 me and enter your results online.  Within 24 hours you will receive y
 our mutual matches. Setting up real dates is then up to you!\n Age Ran
 ge: Singles who are 25 to 39 may attend. Bring ID and make sure you ar
 e in our targeted age range. We host these events monthly and we do mi
 x up the age range.  MEN: You must be a minimum of 5'10\", barefoot. T
 hese events are done at the request of MANY tall women who are looking
  for tall men.  WOMEN: You may be any height but you must love tall me
 n :) There is no height req for women because many MEN have asked for 
 it to be that way.   Member Cost: $10 for the first 20 to register $15
  for the next 21 to 40 to register $20 for walk-ins if there is space 
  Non-Member Cost: $20 online and at the door if there is space  2 Item
  Minimum: Everyone must purchase 2 items during this event; food and/o
 r any drink but soda. Bottled water, juice, virgin drinks do count tow
 ard the minimum.  Tickets: There are a limited number of Tickets for s
 ale. Tickets are not mailed, but your name will be kept at the door. A
 ll sales are final.  Finding the Group: We will meet upstairs for regi
 stration.  Ask staff if you cannot find us.  Directions: http://www.s
 enoritasmexicangrill.com/ - Bloomfield location Various street parking
  and train station lot.\n\nFor more information visit http://njyp.org/
 events/speed-dating-tall-men-ages-25-to-39-3
DTSTART;TZID=America/New_York:20130206T190000
DTEND;TZID=America/New_York:20130206T210000
CATEGORIES:"essex county", social, singles
LOCATION:Senoritas Mexican Grill
WEBSITE:http://www.senoritasmexicangrill.com/
URL:http://www.senoritasmexicangrill.com/
CONTACT:
ORGANIZER;CN="Brian and Mike":http://njyp.org/profile/BrianMike
ATTACH;FMTTYPE="image/jpeg":http://storage.ning.com/topology/rest/1.0/
 file/get/1088832125?profile=original
ATTENDEE;ROLE=REQ-PARTICIPANT;PARTSTAT=ACCEPTED;RSVP=TRUE;CN=Julie:htt
 p://njyp.org/profile/Julie185
ATTENDEE;ROLE=REQ-PARTICIPANT;PARTSTAT=ACCEPTED;RSVP=TRUE;CN=Cynthia:h
 ttp://njyp.org/profile/Cynthia724
ATTENDEE;ROLE=REQ-PARTICIPANT;PARTSTAT=ACCEPTED;RSVP=TRUE;CN=Jendy:htt
 p://njyp.org/profile/Jendy
ATTENDEE;ROLE=REQ-PARTICIPANT;PARTSTAT=ACCEPTED;RSVP=TRUE;CN=Jovitha:h
 ttp://njyp.org/profile/Jovitha
ATTENDEE;ROLE=REQ-PARTICIPANT;PARTSTAT=ACCEPTED;RSVP=TRUE;CN=Sheila:ht
 tp://njyp.org/profile/Sheila
ATTENDEE;ROLE=REQ-PARTICIPANT;PARTSTAT=ACCEPTED;RSVP=TRUE;CN="Brian an
 d Mike":http://njyp.org/profile/BrianMike
ATTENDEE;ROLE=REQ-PARTICIPANT;PARTSTAT=TENTATIVE;RSVP=TRUE;CN="Raj Wat
 ers":http://njyp.org/profile/AnujKumar
ATTENDEE;ROLE=REQ-PARTICIPANT;PARTSTAT=TENTATIVE;RSVP=TRUE;CN=Marissa:
 http://njyp.org/profile/Marissa676
ATTENDEE;ROLE=REQ-PARTICIPANT;PARTSTAT=TENTATIVE;RSVP=TRUE;CN=Gianna:h
 ttp://njyp.org/profile/Gianna
ATTENDEE;ROLE=REQ-PARTICIPANT;PARTSTAT=TENTATIVE;RSVP=TRUE;CN=Jay:http
 ://njyp.org/profile/JamesLee
ATTENDEE;ROLE=REQ-PARTICIPANT;PARTSTAT=TENTATIVE;RSVP=TRUE;CN=Britain:
 http://njyp.org/profile/Britain
ATTENDEE;ROLE=REQ-PARTICIPANT;PARTSTAT=TENTATIVE;RSVP=TRUE;CN="Brian K
 insey":http://njyp.org/profile/BrianKinsey
ATTENDEE;ROLE=REQ-PARTICIPANT;PARTSTAT=TENTATIVE;RSVP=TRUE;CN=Steven:h
 ttp://njyp.org/profile/Steven841
END:VEVENT
END:VCALENDAR
