BEGIN:VCALENDAR
PRODID:NingEventWidget-v1
VERSION:2.0
METHOD:PUBLISH
BEGIN:VTIMEZONE
TZID:America/New_York
X-LIC-LOCATION:America/New_York
BEGIN:DAYLIGHT
TZOFFSETFROM:-0500
TZOFFSETTO:-0400
TZNAME:EDT
DTSTART:19700308T020000
RRULE:FREQ=YEARLY;BYMONTH=3;BYDAY=2SU
END:DAYLIGHT
BEGIN:STANDARD
TZOFFSETFROM:-0400
TZOFFSETTO:-0500
TZNAME:EST
DTSTART:19701101T020000
RRULE:FREQ=YEARLY;BYMONTH=11;BYDAY=1SU
END:STANDARD
END:VTIMEZONE
BEGIN:VEVENT
UID:2938326:Event:288432
DTSTAMP:20260419T211353Z
SUMMARY:Speed Dating: Tall Men Ages 25 to 39
DESCRIPTION:10 to 15 dates in one night! That is what you will get at 
 any of our Speed Dating events. You will meet one-on-one for 4 minutes
  with other single Young Professionals. At the end of each date you wi
 ll privately circle Yes or No on your scorecard; noting if you would w
 ant to see your date again. At the end of the night you will return ho
 me and enter your results online.  Within 24 hours you will receive y
 our mutual matches. Setting up real dates is then up to you!\n \n\n\nA
 ge Range:\nSingles who are 25 to 39 may attend.\nBring ID and make sur
 e you are in our targeted age range.\nWe host these events monthly and
  we do mix up the age range.\n\nMEN:\nYou must be a minimum of 5'10\",
  barefoot.\nThese events are done at the request of MANY tall women wh
 o are looking for tall men.\n\nWOMEN:\nYou may be any height but you m
 ust love tall men :)\nThere is no height req for women because many ME
 N have asked for it to be that way.\n\nMember Cost:\n$10 for the first
  20 to register\n$15 for the next 21 to 40 to register\n$20 for walk-i
 ns if there is space\n\nNon-Member Cost:\n$20 online and at the door i
 f there is space\n\n2 Item Minimum:\nEveryone must purchase 2 items du
 ring this event; food and/or any drink but soda. Bottled water, juice,
  virgin drinks do count toward the minimum.\n\nTickets:\nThere are a l
 imited number of Tickets for sale.\nTickets are not mailed, but your n
 ame will be kept at the door. All sales are final.\n\nFinding the Grou
 p:\nWe will  take over the venue.\n\nDirections:\nhttp://glonj.com/\n
 Various street parking and paid lots.\n\nFor more information visit ht
 tp://njyp.org/events/speed-dating-tall-men-ages-25-to-39
DTSTART;TZID=America/New_York:20111115T190000
DTEND;TZID=America/New_York:20111115T210000
CATEGORIES:"middlesex county", singles
LOCATION:Glo Lounge
WEBSITE:http://glonj.com/
URL:http://glonj.com/
CONTACT:
ORGANIZER;CN="Brian and Mike":http://njyp.org/profile/BrianMike
ATTACH;FMTTYPE="image/jpeg":http://storage.ning.com/topology/rest/1.0/
 file/get/1088713016?profile=original
ATTENDEE;ROLE=REQ-PARTICIPANT;PARTSTAT=ACCEPTED;RSVP=TRUE;CN=Katherine
 :http://njyp.org/profile/Katherine594
ATTENDEE;ROLE=REQ-PARTICIPANT;PARTSTAT=ACCEPTED;RSVP=TRUE;CN=J:http://
 njyp.org/profile/Jaime639
ATTENDEE;ROLE=REQ-PARTICIPANT;PARTSTAT=ACCEPTED;RSVP=TRUE;CN=Caroline:
 http://njyp.org/profile/Caroline19
ATTENDEE;ROLE=REQ-PARTICIPANT;PARTSTAT=ACCEPTED;RSVP=TRUE;CN=Stephanie
 :http://njyp.org/profile/Stephanie516
ATTENDEE;ROLE=REQ-PARTICIPANT;PARTSTAT=ACCEPTED;RSVP=TRUE;CN="Gregory 
 Egan":http://njyp.org/profile/GregoryEgan
ATTENDEE;ROLE=REQ-PARTICIPANT;PARTSTAT=ACCEPTED;RSVP=TRUE;CN=Jeannette
 :http://njyp.org/profile/Jeannette
ATTENDEE;ROLE=REQ-PARTICIPANT;PARTSTAT=ACCEPTED;RSVP=TRUE;CN=Anna:http
 ://njyp.org/profile/Anna150
ATTENDEE;ROLE=REQ-PARTICIPANT;PARTSTAT=ACCEPTED;RSVP=TRUE;CN="Brian an
 d Mike":http://njyp.org/profile/BrianMike
ATTENDEE;ROLE=REQ-PARTICIPANT;PARTSTAT=ACCEPTED;RSVP=TRUE;CN=Shakira:h
 ttp://njyp.org/profile/Shakira
ATTENDEE;ROLE=REQ-PARTICIPANT;PARTSTAT=TENTATIVE;RSVP=TRUE;CN=Edward:h
 ttp://njyp.org/profile/EKotwica
ATTENDEE;ROLE=REQ-PARTICIPANT;PARTSTAT=TENTATIVE;RSVP=TRUE;CN="Christi
 ne Migton":http://njyp.org/profile/ChristineMigton
ATTENDEE;ROLE=REQ-PARTICIPANT;PARTSTAT=TENTATIVE;RSVP=TRUE;CN=Robert:h
 ttp://njyp.org/profile/Robert882
ATTENDEE;ROLE=REQ-PARTICIPANT;PARTSTAT=TENTATIVE;RSVP=TRUE;CN=Kristine
 :http://njyp.org/profile/Kristine
ATTENDEE;ROLE=REQ-PARTICIPANT;PARTSTAT=TENTATIVE;RSVP=TRUE;CN=Mike:htt
 p://njyp.org/profile/Mike220
ATTENDEE;ROLE=REQ-PARTICIPANT;PARTSTAT=TENTATIVE;RSVP=TRUE;CN="Ivette 
 Baez":http://njyp.org/profile/IvetteBaez
ATTENDEE;ROLE=REQ-PARTICIPANT;PARTSTAT=TENTATIVE;RSVP=TRUE;CN=Nichole:
 http://njyp.org/profile/Nichole
ATTENDEE;ROLE=REQ-PARTICIPANT;PARTSTAT=TENTATIVE;RSVP=TRUE;CN=Sandra:h
 ttp://njyp.org/profile/Sandra960
END:VEVENT
END:VCALENDAR
