BEGIN:VCALENDAR
PRODID:NingEventWidget-v1
VERSION:2.0
METHOD:PUBLISH
BEGIN:VTIMEZONE
TZID:America/New_York
X-LIC-LOCATION:America/New_York
BEGIN:DAYLIGHT
TZOFFSETFROM:-0500
TZOFFSETTO:-0400
TZNAME:EDT
DTSTART:19700308T020000
RRULE:FREQ=YEARLY;BYMONTH=3;BYDAY=2SU
END:DAYLIGHT
BEGIN:STANDARD
TZOFFSETFROM:-0400
TZOFFSETTO:-0500
TZNAME:EST
DTSTART:19701101T020000
RRULE:FREQ=YEARLY;BYMONTH=11;BYDAY=1SU
END:STANDARD
END:VTIMEZONE
BEGIN:VEVENT
UID:2938326:Event:424734
DTSTAMP:20260421T020456Z
SUMMARY:Speed Friending: Englewood
DESCRIPTION:So sorry, not enough people signed up so we need to cancel
  this. Refunds will be sent soon.\n\nExpand your social circle by 10 t
 o 20 Young Professionals in one night at our Speed Friending event! Al
 l attendees will meet face to face, one to one, with 10 to 20 local YP
 s. Come to make new friends or to network. By the end of the evening y
 ou will walk away feeling you made some serious and long lasting conne
 ctions.  Bonus: We will share the guest list with you! That means upon
  arrival you will receive a list of the names, emails, and hobbies of 
 those who pre-registered. Following the event you can easily reach out
  to your new contacts.\n \n\n\n\nMember* Cost: $5 online $10 at the d
 oor  *Anyone who joined NJYP on or after 12.1.12 can attend at no cost
  but you MUST register online. Email Laura@njyp.org for your comp'd ti
 cket.  Non-Member Cost: $10 online and at the door  Who should attend:
  This event is open to men and women who are 21-39, single or married.
  Come out to make new friends or come to network. There is no dress co
 de and you may bring business cards.  2 Item Minimum: Everyone must pu
 rchase 2 items during this event; any drink but soda counts. Bottled w
 ater, juice, virgin drinks, food, etc. do count toward the minimum.  T
 ickets: There are a limited number of Tickets for sale. Tickets are no
 t mailed, but your name will be kept at the door. All sales are final.
   Directions: Ask staff for NJYP.  Parking after 6pm is free in most
  spots. http://www.bluemoonmexicancafe.com/locations\n\nFor more info
 rmation visit http://njyp.org/events/speed-friending-englewood
DTSTART;TZID=America/New_York:20130408T190000
DTEND;TZID=America/New_York:20130408T210000
CATEGORIES:"bergen county", social, friending
LOCATION:Blue Moon Mexican Cafe
WEBSITE:http://www.bluemoonmexicancafe.com/locations
URL:http://www.bluemoonmexicancafe.com/locations
CONTACT:
ORGANIZER;CN="Brian and Mike":http://njyp.org/profile/BrianMike
ATTACH;FMTTYPE="image/jpeg":http://storage.ning.com/topology/rest/1.0/
 file/get/1088829147?profile=original
ATTENDEE;ROLE=REQ-PARTICIPANT;PARTSTAT=ACCEPTED;RSVP=TRUE;CN="Jay Bee"
 :http://njyp.org/profile/JayBee
ATTENDEE;ROLE=REQ-PARTICIPANT;PARTSTAT=ACCEPTED;RSVP=TRUE;CN=Jennifer:
 http://njyp.org/profile/Jennifer448
ATTENDEE;ROLE=REQ-PARTICIPANT;PARTSTAT=ACCEPTED;RSVP=TRUE;CN=Jennifer:
 http://njyp.org/profile/Jennifer553
ATTENDEE;ROLE=REQ-PARTICIPANT;PARTSTAT=ACCEPTED;RSVP=TRUE;CN="Brian an
 d Mike":http://njyp.org/profile/BrianMike
ATTENDEE;ROLE=REQ-PARTICIPANT;PARTSTAT=TENTATIVE;RSVP=TRUE;CN="Christi
 ne Migton":http://njyp.org/profile/ChristineMigton
ATTENDEE;ROLE=REQ-PARTICIPANT;PARTSTAT=TENTATIVE;RSVP=TRUE;CN=Rhoda:ht
 tp://njyp.org/profile/Rhoda416
ATTENDEE;ROLE=REQ-PARTICIPANT;PARTSTAT=TENTATIVE;RSVP=TRUE;CN=John:htt
 p://njyp.org/profile/John607
END:VEVENT
END:VCALENDAR
