BEGIN:VCALENDAR
PRODID:NingEventWidget-v1
VERSION:2.0
METHOD:PUBLISH
BEGIN:VTIMEZONE
TZID:America/New_York
X-LIC-LOCATION:America/New_York
BEGIN:DAYLIGHT
TZOFFSETFROM:-0500
TZOFFSETTO:-0400
TZNAME:EDT
DTSTART:19700308T020000
RRULE:FREQ=YEARLY;BYMONTH=3;BYDAY=2SU
END:DAYLIGHT
BEGIN:STANDARD
TZOFFSETFROM:-0400
TZOFFSETTO:-0500
TZNAME:EST
DTSTART:19701101T020000
RRULE:FREQ=YEARLY;BYMONTH=11;BYDAY=1SU
END:STANDARD
END:VTIMEZONE
BEGIN:VEVENT
UID:2938326:Event:82424
DTSTAMP:20260419T225425Z
SUMMARY:Speed Networking: Business Owners
DESCRIPTION:Hi All,\n\nOnly 10 people signed up for the Speed Networki
 ng so I am going to cancel it. I'll try again in the Fall as I know Su
 mmer can be tough for networking.\n\nRefunds will be sent ASAP.\n\nLau
 ra\n\n\nMeet other Business Owners at our Speed Networking event. You 
 will meet 1:1 with another business owner for a few minutes, then, at 
 the ring of a bell you will move on to the next person. You will conti
 nue these \"mini-meetings\" until you have met most of the participant
 s. The night will end with open networking and you will be able to app
 roach those you have already met or connect with those you did not get
  to meet.\n\n\n\nWho should attend:\nYou MUST be a business owner to s
 elect a ticket.\nIf you do not fully own your business you may not att
 end this event. For instance, if you work for Mary Kay you may have yo
 ur own tax ID or LLC but you may not attend unless you actually own Ma
 ry Kay, the company.\nThis event is open to ALL ages.\n\nBusiness Card
 s:\nIf you have them, bring MANY, you will be giving them out. If you 
 do not have business cards please bring a pen and notebook.\n\nInforma
 tion Share:\nWalk away with a list of those who attended. Everyone wil
 l receive an information sheet that will list each attendee’s first 
 name, job title, company, and email.\n\n2 item minimum:\nEveryone is r
 equired to purchase two drink items.\n\nMember Cost:\n$10 for the firs
 t 20\n$15 for the next 21 to 40\n\nNon-Member Cost:\n$20 online or at 
 the door\n\nDirections:\nhttp://www.glonj.com\n\nFor more information 
 visit http://njyp.org/events/speed-networking-business
DTSTART;TZID=America/New_York:20100728T190000
DTEND;TZID=America/New_York:20100728T210000
CATEGORIES:"middlesex county", networking
LOCATION:Glo Lounge
WEBSITE:http://www.glonj.com
URL:http://www.glonj.com
CONTACT:
ORGANIZER;CN="Brian and Mike":http://njyp.org/profile/BrianMike
ATTACH;FMTTYPE="image/jpeg":http://storage.ning.com/topology/rest/1.0/
 file/get/1088630513?profile=original
ATTENDEE;ROLE=REQ-PARTICIPANT;PARTSTAT=ACCEPTED;RSVP=TRUE;CN="joshuwa 
 armstrong":http://njyp.org/profile/joshuwaarmstrong
ATTENDEE;ROLE=REQ-PARTICIPANT;PARTSTAT=ACCEPTED;RSVP=TRUE;CN="Michael 
 Serico":http://njyp.org/profile/MichaelSerico
ATTENDEE;ROLE=REQ-PARTICIPANT;PARTSTAT=ACCEPTED;RSVP=TRUE;CN=Matthew:h
 ttp://njyp.org/profile/Matthew284
ATTENDEE;ROLE=REQ-PARTICIPANT;PARTSTAT=ACCEPTED;RSVP=TRUE;CN=Scott:htt
 p://njyp.org/profile/Scott504
ATTENDEE;ROLE=REQ-PARTICIPANT;PARTSTAT=ACCEPTED;RSVP=TRUE;CN=Andrea:ht
 tp://njyp.org/profile/Andrea709
ATTENDEE;ROLE=REQ-PARTICIPANT;PARTSTAT=ACCEPTED;RSVP=TRUE;CN="james mi
 kusi":http://njyp.org/profile/jimbox
ATTENDEE;ROLE=REQ-PARTICIPANT;PARTSTAT=ACCEPTED;RSVP=TRUE;CN="Paul Kie
 sche":http://njyp.org/profile/PaulKiesche
ATTENDEE;ROLE=REQ-PARTICIPANT;PARTSTAT=ACCEPTED;RSVP=TRUE;CN="Brian an
 d Mike":http://njyp.org/profile/BrianMike
ATTENDEE;ROLE=REQ-PARTICIPANT;PARTSTAT=TENTATIVE;RSVP=TRUE;CN=Keith:ht
 tp://njyp.org/profile/Keith
ATTENDEE;ROLE=REQ-PARTICIPANT;PARTSTAT=TENTATIVE;RSVP=TRUE;CN=Moire:ht
 tp://njyp.org/profile/Moire
ATTENDEE;ROLE=REQ-PARTICIPANT;PARTSTAT=TENTATIVE;RSVP=TRUE;CN="Gabriel
 a Salamanca":http://njyp.org/profile/GabrielaSalamanca
ATTENDEE;ROLE=REQ-PARTICIPANT;PARTSTAT=TENTATIVE;RSVP=TRUE;CN=Kunal:ht
 tp://njyp.org/profile/KunalAgarwal
ATTENDEE;ROLE=REQ-PARTICIPANT;PARTSTAT=TENTATIVE;RSVP=TRUE;CN="Jenna C
 lausen":http://njyp.org/profile/JennaClausen
ATTENDEE;ROLE=REQ-PARTICIPANT;PARTSTAT=TENTATIVE;RSVP=TRUE;CN=Michele:
 http://njyp.org/profile/MicheleSanto
ATTENDEE;ROLE=REQ-PARTICIPANT;PARTSTAT=TENTATIVE;RSVP=TRUE;CN="Jessica
  Levin, CMP, CAE":http://njyp.org/profile/JessicaLevinCMP
ATTENDEE;ROLE=REQ-PARTICIPANT;PARTSTAT=TENTATIVE;RSVP=TRUE;CN="Kevin H
 aughwout":http://njyp.org/profile/KevinHaughwout
ATTENDEE;ROLE=REQ-PARTICIPANT;PARTSTAT=TENTATIVE;RSVP=TRUE;CN="Nick Ol
 son":http://njyp.org/profile/NickOlson
END:VEVENT
END:VCALENDAR
