BEGIN:VCALENDAR
PRODID:NingEventWidget-v1
VERSION:2.0
METHOD:PUBLISH
BEGIN:VTIMEZONE
TZID:America/New_York
X-LIC-LOCATION:America/New_York
BEGIN:DAYLIGHT
TZOFFSETFROM:-0500
TZOFFSETTO:-0400
TZNAME:EDT
DTSTART:19700308T020000
RRULE:FREQ=YEARLY;BYMONTH=3;BYDAY=2SU
END:DAYLIGHT
BEGIN:STANDARD
TZOFFSETFROM:-0400
TZOFFSETTO:-0500
TZNAME:EST
DTSTART:19701101T020000
RRULE:FREQ=YEARLY;BYMONTH=11;BYDAY=1SU
END:STANDARD
END:VTIMEZONE
BEGIN:VEVENT
UID:2938326:Event:257714
DTSTAMP:20260422T064942Z
SUMMARY:Speed Networking in New Brunswick
DESCRIPTION:Meet other Young Professionals at our Speed Networking eve
 nt. You will meet 1:1 with another YP for a few minutes, then, at the 
 ring of a bell you will move on to the next person. You will continue 
 these \"mini-meetings\" until you have met most of the participants. T
 he night will end with open networking and you will be able to approac
 h those you have already met or connect with those you did not get to 
 meet.Who should attend:Those 21 to 39 who are looking to network.Pleas
 e no financial advisers/planners/or anything related may attend.Please
  no direct sales professionals may attend (aka Mary Kay, Arbonne, Lia 
 Sophia, etc)Business Cards:If you have them, bring MANY, you will be g
 iving them out. If you do not have business cards please bring a pen a
 nd notebook.Information Share:Walk away with a list of those who atten
 ded.  Everyone will receive an information sheet that will list each 
 attendee’s first name, job title, company, and email.2 item minimum:
 Everyone is required to purchase two drink items.\n \n \nMember Cost:
 $10 for the first 20$15 for the next 21 to 40Non-Member Cost:$20 onlin
 e or at the doorDirections:http://www.tulalounge.com/ordereze/intro.ht
 ml\n\nFor more information visit http://njyp.org/events/speed-networki
 ng-in-new-brunswick
DTSTART;TZID=America/New_York:20110920T190000
DTEND;TZID=America/New_York:20110920T210000
CATEGORIES:"middlesex county", networking
LOCATION:Tula Lounge
WEBSITE:http://www.tulalounge.com/ordereze/intro.html
URL:http://www.tulalounge.com/ordereze/intro.html
CONTACT:
ORGANIZER;CN="Brian and Mike":http://njyp.org/profile/BrianMike
ATTACH;FMTTYPE="image/jpeg":http://storage.ning.com/topology/rest/1.0/
 file/get/1088709274?profile=original
ATTENDEE;ROLE=REQ-PARTICIPANT;PARTSTAT=ACCEPTED;RSVP=TRUE;CN=Jim:http:
 //njyp.org/profile/Jim80
ATTENDEE;ROLE=REQ-PARTICIPANT;PARTSTAT=ACCEPTED;RSVP=TRUE;CN=Michelle:
 http://njyp.org/profile/Michelle693
ATTENDEE;ROLE=REQ-PARTICIPANT;PARTSTAT=ACCEPTED;RSVP=TRUE;CN="Mark Gra
 ham":http://njyp.org/profile/MarkGraham
ATTENDEE;ROLE=REQ-PARTICIPANT;PARTSTAT=ACCEPTED;RSVP=TRUE;CN="Rachel O
 !":http://njyp.org/profile/RachelOrtiga
ATTENDEE;ROLE=REQ-PARTICIPANT;PARTSTAT=ACCEPTED;RSVP=TRUE;CN=Jeff:http
 ://njyp.org/profile/Jeff417
ATTENDEE;ROLE=REQ-PARTICIPANT;PARTSTAT=ACCEPTED;RSVP=TRUE;CN=Michael:h
 ttp://njyp.org/profile/Michael688
ATTENDEE;ROLE=REQ-PARTICIPANT;PARTSTAT=ACCEPTED;RSVP=TRUE;CN=Jessica:h
 ttp://njyp.org/profile/Jessica30
ATTENDEE;ROLE=REQ-PARTICIPANT;PARTSTAT=ACCEPTED;RSVP=TRUE;CN="Brian an
 d Mike":http://njyp.org/profile/BrianMike
ATTENDEE;ROLE=REQ-PARTICIPANT;PARTSTAT=TENTATIVE;RSVP=TRUE;CN="Ahmed U
 ddin":http://njyp.org/profile/AhmedUddin
ATTENDEE;ROLE=REQ-PARTICIPANT;PARTSTAT=TENTATIVE;RSVP=TRUE;CN=Katie:ht
 tp://njyp.org/profile/Katie168
ATTENDEE;ROLE=REQ-PARTICIPANT;PARTSTAT=TENTATIVE;RSVP=TRUE;CN=Mike:htt
 p://njyp.org/profile/Mike220
ATTENDEE;ROLE=REQ-PARTICIPANT;PARTSTAT=TENTATIVE;RSVP=TRUE;CN=Keith:ht
 tp://njyp.org/profile/Keith662
ATTENDEE;ROLE=REQ-PARTICIPANT;PARTSTAT=TENTATIVE;RSVP=TRUE;CN=Leah:htt
 p://njyp.org/profile/LeahF
ATTENDEE;ROLE=REQ-PARTICIPANT;PARTSTAT=TENTATIVE;RSVP=TRUE;CN=Anysa:ht
 tp://njyp.org/profile/Any
ATTENDEE;ROLE=REQ-PARTICIPANT;PARTSTAT=TENTATIVE;RSVP=TRUE;CN="james m
 ikusi":http://njyp.org/profile/jimbox
ATTENDEE;ROLE=REQ-PARTICIPANT;PARTSTAT=TENTATIVE;RSVP=TRUE;CN=Robert:h
 ttp://njyp.org/profile/Robert882
ATTENDEE;ROLE=REQ-PARTICIPANT;PARTSTAT=TENTATIVE;RSVP=TRUE;CN=frank:ht
 tp://njyp.org/profile/frank682
ATTENDEE;ROLE=REQ-PARTICIPANT;PARTSTAT=TENTATIVE;RSVP=TRUE;CN=Marissa:
 http://njyp.org/profile/RissyMissy
ATTENDEE;ROLE=REQ-PARTICIPANT;PARTSTAT=TENTATIVE;RSVP=TRUE;CN="Brian P
 hillips":http://njyp.org/profile/BrianPhillips
END:VEVENT
END:VCALENDAR
