BEGIN:VCALENDAR
PRODID:NingEventWidget-v1
VERSION:2.0
METHOD:PUBLISH
BEGIN:VTIMEZONE
TZID:America/New_York
X-LIC-LOCATION:America/New_York
BEGIN:DAYLIGHT
TZOFFSETFROM:-0500
TZOFFSETTO:-0400
TZNAME:EDT
DTSTART:19700308T020000
RRULE:FREQ=YEARLY;BYMONTH=3;BYDAY=2SU
END:DAYLIGHT
BEGIN:STANDARD
TZOFFSETFROM:-0400
TZOFFSETTO:-0500
TZNAME:EST
DTSTART:19701101T020000
RRULE:FREQ=YEARLY;BYMONTH=11;BYDAY=1SU
END:STANDARD
END:VTIMEZONE
BEGIN:VEVENT
UID:2938326:Event:584
DTSTAMP:20260420T010007Z
SUMMARY:Speed Networking in New Brunswick
DESCRIPTION:Join us for our Speed Networking event. What is Speed Netw
 orking? You will meet 1:1 with someone for a few minutes then, at the 
 ring of a bell, move on to the next person. You will continue these \"
 mini-meetings\" until you have met about half of the room in this uniq
 ue, 1:1 manner. The night will end with open networking and you will b
 e able to approach those you have already met or connect with those yo
 u did not get to meet.\n\n\nRSVP (to the right) and we will let you kn
 ow when tix are almost gone, when prices are going up, if there are an
 y changes, etc.\n\nThis is a time sensitive event. If you arrive after
  7:30 we cannot seat you nor refund your money.\n\nWho should attend:\
 nThis event is open to ALL ages but is being sponsored by \"New Jersey
  Young Professionals\". This is NOT a singles event.\n\nBusiness Cards
 :\nIf you have them, bring MANY, you will be giving them out. If you d
 o not have business cards please bring a pen and notebook.\n\nInformat
 ion Share:\nWalk away with a list of those who attended. Everyone will
  receive an information sheet that will list each attendee's first nam
 e, job title, company, and email.\n\n2 item minimum:\nEveryone is requ
 ired to purchase two items (food and/or drink).\nThese purchases will 
 be tracked. Please tip :)\n\nUNEMPLOYED BONUS:\nIf you are unemployed 
 and collecting benefits BRING YOUR UNEMPLOYMENT CARD (or other evidenc
 e) to get in for FREE (just make sure you register as well)! We'll als
 o give you a glow in the dark bracelet so that others know you are loo
 king (optional).\n\nMember Cost:\n$10 by 5.20.09 (early bird)\n$15 fro
 m 5.21.09 to 6.1.09\n$20 at the door\n\nNon-Member Cost:\n$20 online a
 nd at the door.\n\nPremium Member Cost:\nFREE! Yup, totally FREE for P
 remium Members.\nJust request a FREE ticket so we know you are coming!
 \n\nTickets:\nThere are a limited number of Tickets for sale.\nTickets
  are not mailed, but your name will be kept at the door.\nAll sales ar
 e final.\n\nFor more information visit http://njyp.org/events/speed-ne
 tworking-in-new
DTSTART;TZID=America/New_York:20090602T190000
DTEND;TZID=America/New_York:20090602T210000
CATEGORIES:"middlesex county", networking
LOCATION:Glo Lounge
WEBSITE:http://www.glonj.com
URL:http://www.glonj.com
CONTACT:
ORGANIZER;CN="Brian and Mike":http://njyp.org/profile/BrianMike
ATTACH;FMTTYPE="image/jpeg":http://storage.ning.com/topology/rest/1.0/
 file/get/1088528037?profile=original
ATTENDEE;ROLE=REQ-PARTICIPANT;PARTSTAT=ACCEPTED;RSVP=TRUE;CN=Megan:htt
 p://njyp.org/profile/MeganSullivan
ATTENDEE;ROLE=REQ-PARTICIPANT;PARTSTAT=ACCEPTED;RSVP=TRUE;CN="NIcole V
 innal":http://njyp.org/profile/NIcoleVinnal
ATTENDEE;ROLE=REQ-PARTICIPANT;PARTSTAT=ACCEPTED;RSVP=TRUE;CN="Rick Man
 n":http://njyp.org/profile/RickMann
ATTENDEE;ROLE=REQ-PARTICIPANT;PARTSTAT=ACCEPTED;RSVP=TRUE;CN="Carrie N
 .":http://njyp.org/profile/CarrieNeigel
ATTENDEE;ROLE=REQ-PARTICIPANT;PARTSTAT=ACCEPTED;RSVP=TRUE;CN="Ruth Flo
 res":http://njyp.org/profile/RuthFlores
ATTENDEE;ROLE=REQ-PARTICIPANT;PARTSTAT=ACCEPTED;RSVP=TRUE;CN="Joao-Pie
 rre Ruth":http://njyp.org/profile/JoaoPierreRuth
ATTENDEE;ROLE=REQ-PARTICIPANT;PARTSTAT=ACCEPTED;RSVP=TRUE;CN="Hugo X C
 arvajal":http://njyp.org/profile/HugoXCarvajal
ATTENDEE;ROLE=REQ-PARTICIPANT;PARTSTAT=ACCEPTED;RSVP=TRUE;CN="Bibi B t
 he Nutritionist":http://njyp.org/profile/BibianaBendikova
ATTENDEE;ROLE=REQ-PARTICIPANT;PARTSTAT=ACCEPTED;RSVP=TRUE;CN="Brian an
 d Mike":http://njyp.org/profile/BrianMike
ATTENDEE;ROLE=REQ-PARTICIPANT;PARTSTAT=TENTATIVE;RSVP=TRUE;CN=Charity:
 http://njyp.org/profile/CharityLynnFues
ATTENDEE;ROLE=REQ-PARTICIPANT;PARTSTAT=TENTATIVE;RSVP=TRUE;CN="Justin 
 Lejava":http://njyp.org/profile/JustinLejava
ATTENDEE;ROLE=REQ-PARTICIPANT;PARTSTAT=TENTATIVE;RSVP=TRUE;CN="Nikitas
  M":http://njyp.org/profile/NikitasM
ATTENDEE;ROLE=REQ-PARTICIPANT;PARTSTAT=TENTATIVE;RSVP=TRUE;CN="Adam Sh
 edd":http://njyp.org/profile/AdamShedd
ATTENDEE;ROLE=REQ-PARTICIPANT;PARTSTAT=TENTATIVE;RSVP=TRUE;CN=Kunal:ht
 tp://njyp.org/profile/KunalAgarwal
ATTENDEE;ROLE=REQ-PARTICIPANT;PARTSTAT=TENTATIVE;RSVP=TRUE;CN="Allison
  Williams":http://njyp.org/profile/AllisonWilliams
ATTENDEE;ROLE=REQ-PARTICIPANT;PARTSTAT=TENTATIVE;RSVP=TRUE;CN="Mike Ra
 polas Jr.":http://njyp.org/profile/MikeRapolasJr
ATTENDEE;ROLE=REQ-PARTICIPANT;PARTSTAT=TENTATIVE;RSVP=TRUE;CN="Paul Ki
 esche":http://njyp.org/profile/PaulKiesche
ATTENDEE;ROLE=REQ-PARTICIPANT;PARTSTAT=TENTATIVE;RSVP=TRUE;CN="Dennis 
 Lee":http://njyp.org/profile/leeden
ATTENDEE;ROLE=REQ-PARTICIPANT;PARTSTAT=TENTATIVE;RSVP=TRUE;CN="Janet S
 tevens":http://njyp.org/profile/JanetStevens
END:VEVENT
END:VCALENDAR
