BEGIN:VCALENDAR
PRODID:NingEventWidget-v1
VERSION:2.0
METHOD:PUBLISH
BEGIN:VTIMEZONE
TZID:America/New_York
X-LIC-LOCATION:America/New_York
BEGIN:DAYLIGHT
TZOFFSETFROM:-0500
TZOFFSETTO:-0400
TZNAME:EDT
DTSTART:19700308T020000
RRULE:FREQ=YEARLY;BYMONTH=3;BYDAY=2SU
END:DAYLIGHT
BEGIN:STANDARD
TZOFFSETFROM:-0400
TZOFFSETTO:-0500
TZNAME:EST
DTSTART:19701101T020000
RRULE:FREQ=YEARLY;BYMONTH=11;BYDAY=1SU
END:STANDARD
END:VTIMEZONE
BEGIN:VEVENT
UID:2938326:Event:717957
DTSTAMP:20260419T203911Z
SUMMARY:Spring Fest in New Brunswick
DESCRIPTION:\nSpring Fest - Join us for a big New Brunswick party at G
 lo! We'll have the whole lounge private to our party, with DJ, bartend
 ers, and drink specials. This is NOT a singles-only event--All welcome
 !\nSpecials: $4 Beers, $5 Mixed Drinks\nMember Cost: $5.99 Early Bird 
 until 5/6 $8.99 4/23+, $14.99 at the door\nNon-Member Cost: $12.99 on
 line and $14.99 at the door.  Who can attend: Young professionals, si
 ngle or married, who are 21-39 years of age.  Tickets: There are a li
 mited number of Tickets for sale. Tickets are not mailed, but your nam
 e will be kept at the door. All sales are final.\n Directions/Parking
 : Public Parking Garages and Lots.http://www.perlenj.com/contact/\n\n
 Finding us: We will have the entire club to ourselves.\n\n\nFor more 
 information visit http://njyp.org/events/spring-mingle-in-new-brunswic
 k
DTSTART;TZID=America/New_York:20160513T190000
DTEND;TZID=America/New_York:20160513T211500
CATEGORIES:"middlesex county", social, holiday, anniversary
LOCATION:Glo
WEBSITE:
URL:
CONTACT:
ORGANIZER;CN="Michael Park":http://njyp.org/profile/MichaelPark
ATTACH;FMTTYPE="image/jpeg":http://storage.ning.com/topology/rest/1.0/
 file/get/1089114852?profile=original
ATTENDEE;ROLE=REQ-PARTICIPANT;PARTSTAT=ACCEPTED;RSVP=TRUE;CN="Brian Me
 lnick":http://njyp.org/profile/Brian1218
ATTENDEE;ROLE=REQ-PARTICIPANT;PARTSTAT=ACCEPTED;RSVP=TRUE;CN=Phillip-M
 ichael:http://njyp.org/profile/PhillipMichael
ATTENDEE;ROLE=REQ-PARTICIPANT;PARTSTAT=ACCEPTED;RSVP=TRUE;CN=Naveen:ht
 tp://njyp.org/profile/Naveen279
ATTENDEE;ROLE=REQ-PARTICIPANT;PARTSTAT=ACCEPTED;RSVP=TRUE;CN="Michael 
 Park":http://njyp.org/profile/MichaelPark
ATTENDEE;ROLE=REQ-PARTICIPANT;PARTSTAT=ACCEPTED;RSVP=TRUE;CN=Marie:htt
 p://njyp.org/profile/Marie810
ATTENDEE;ROLE=REQ-PARTICIPANT;PARTSTAT=ACCEPTED;RSVP=TRUE;CN=Alphy:htt
 p://njyp.org/profile/3os6qyrzgytzb
ATTENDEE;ROLE=REQ-PARTICIPANT;PARTSTAT=ACCEPTED;RSVP=TRUE;CN=Katie:htt
 p://njyp.org/profile/Katie950
ATTENDEE;ROLE=REQ-PARTICIPANT;PARTSTAT=ACCEPTED;RSVP=TRUE;CN=Keith:htt
 p://njyp.org/profile/Keith873
ATTENDEE;ROLE=REQ-PARTICIPANT;PARTSTAT=TENTATIVE;RSVP=TRUE;CN="Diondra
  Simmons":http://njyp.org/profile/DiondraSimmons
ATTENDEE;ROLE=REQ-PARTICIPANT;PARTSTAT=TENTATIVE;RSVP=TRUE;CN=Robert:h
 ttp://njyp.org/profile/Robert555
ATTENDEE;ROLE=REQ-PARTICIPANT;PARTSTAT=TENTATIVE;RSVP=TRUE;CN=Tina:htt
 p://njyp.org/profile/Tina117
ATTENDEE;ROLE=REQ-PARTICIPANT;PARTSTAT=TENTATIVE;RSVP=TRUE;CN=Robert:h
 ttp://njyp.org/profile/Robert882
ATTENDEE;ROLE=REQ-PARTICIPANT;PARTSTAT=TENTATIVE;RSVP=TRUE;CN=Patrick:
 http://njyp.org/profile/Patrick986
END:VEVENT
END:VCALENDAR
