BEGIN:VCALENDAR
PRODID:NingEventWidget-v1
VERSION:2.0
METHOD:PUBLISH
BEGIN:VTIMEZONE
TZID:America/New_York
X-LIC-LOCATION:America/New_York
BEGIN:DAYLIGHT
TZOFFSETFROM:-0500
TZOFFSETTO:-0400
TZNAME:EDT
DTSTART:19700308T020000
RRULE:FREQ=YEARLY;BYMONTH=3;BYDAY=2SU
END:DAYLIGHT
BEGIN:STANDARD
TZOFFSETFROM:-0400
TZOFFSETTO:-0500
TZNAME:EST
DTSTART:19701101T020000
RRULE:FREQ=YEARLY;BYMONTH=11;BYDAY=1SU
END:STANDARD
END:VTIMEZONE
BEGIN:VEVENT
UID:2938326:Event:420541
DTSTAMP:20260421T152550Z
SUMMARY:Spring Wine Festival
DESCRIPTION:Enjoy 150+ Wines from the Wine Library at our Always Exci
 ting Spring Wine Event!\n\nTaste a large variety of wines from all aro
 und the globe\nEnjoy passed hors d’oeuvres, cheese & bread displays,
  pasta dishes & dessert\nGet tasting notes and recommendations directl
 y from experts at each table\nLearn about wine and food pairings, gr
 eat values, and selecting the right vintage\nInteract with top wine af
 icionados at an optional, private class during the event\nEnjoy LIVE w
 orld class jazz, adding to the festive atmosphere\n\n\nNew Jersey Wine
  Festivals is pleased to invite you to our 6th Annual Spring Wine F
 estival. Join us to welcome in this beautiful time of year… enjoyi
 ng 150+ amazing wines, delicious light bites, a terrific crowd of win
 e-lovers, PLUS contemporary live jazz to complete the fun-filled eveni
 ng!\n \nWINE & FOOD: Once again, we tap the extensive knowledge of th
 e experts of The Wine Library who’ll be back to select over 150 
 wines for every palate’s pleasure. And ,what’s a tasting without
  delicious bites? The Hilton's AAA Four Diamond award winning culin
 ary experts will provide a first class selection of hors d'oeuvres,
 antipasto, cheese, breads and pasta. \n \nWINE CLASSES: Three (3) 
 wine classes will be held in our special tasting area at 7:15PM, 8:1
 5PM & 9:15PM.  The instructor will conduct a side-by-side tasting of
  exclusive wine selections, explaining grape varietal origins and pro
 viding tasting notes for each. Class cost is an additional $25 per per
 son and advance reservations must be made online or by phone during t
 icket purchase.  Class sizes are limited so be sure to RESERVE EARL
 Y!\n \nMUSIC: Stay tuned! An amazing contemporary jazz act will be 
 announced shortly. Enjoy world-class LIVE music all evening long!\n 
 \nDISCOUNT HOTEL ROOMS: Discounted rate of $159.  Use promo code “
 SWF” when calling 1-800-HILTONS to reserve.\n \nCHARITY: A porti
 on of the proceeds from this event go to Family Promise of Bergen Co
 unty. \n***** Cost: 10% off the prices below – USE CODE: NJYP when 
 purchasing your ticket *****\n\nFinal Week: $89\n\nTickets: http://ne
 wjerseywinefestivals.com or 866-811-4111\n\nQuestions? Email info@n
 ewjerseywinefestivals.com\n\n\nFor more information visit http://njyp.
 org/events/spring-wine-festival
DTSTART;TZID=America/New_York:20130419T190000
DTEND;TZID=America/New_York:20130419T220000
CATEGORIES:"essex county", social
LOCATION:Hilton Short Hills
WEBSITE:http://www.newjerseywinefestivals.com
URL:http://www.newjerseywinefestivals.com
CONTACT:
ORGANIZER;CN="Brian and Mike":http://njyp.org/profile/BrianMike
ATTACH;FMTTYPE="image/jpeg":http://storage.ning.com/topology/rest/1.0/
 file/get/1088846215?profile=original
ATTENDEE;ROLE=REQ-PARTICIPANT;PARTSTAT=ACCEPTED;RSVP=TRUE;CN=Carina:ht
 tp://njyp.org/profile/Carina
ATTENDEE;ROLE=REQ-PARTICIPANT;PARTSTAT=ACCEPTED;RSVP=TRUE;CN=Caitlin:h
 ttp://njyp.org/profile/Caitlin683
ATTENDEE;ROLE=REQ-PARTICIPANT;PARTSTAT=ACCEPTED;RSVP=TRUE;CN=Andy:http
 ://njyp.org/profile/Andy212
ATTENDEE;ROLE=REQ-PARTICIPANT;PARTSTAT=ACCEPTED;RSVP=TRUE;CN="Brian an
 d Mike":http://njyp.org/profile/BrianMike
ATTENDEE;ROLE=REQ-PARTICIPANT;PARTSTAT=TENTATIVE;RSVP=TRUE;CN=Pete:htt
 p://njyp.org/profile/Pete
ATTENDEE;ROLE=REQ-PARTICIPANT;PARTSTAT=TENTATIVE;RSVP=TRUE;CN=Christin
 a:http://njyp.org/profile/14ptt6o0nfv2b
ATTENDEE;ROLE=REQ-PARTICIPANT;PARTSTAT=TENTATIVE;RSVP=TRUE;CN=Dominiqu
 e:http://njyp.org/profile/Dominique959
ATTENDEE;ROLE=REQ-PARTICIPANT;PARTSTAT=TENTATIVE;RSVP=TRUE;CN=James:ht
 tp://njyp.org/profile/James995
ATTENDEE;ROLE=REQ-PARTICIPANT;PARTSTAT=TENTATIVE;RSVP=TRUE;CN=Joseph:h
 ttp://njyp.org/profile/Joseph163
ATTENDEE;ROLE=REQ-PARTICIPANT;PARTSTAT=TENTATIVE;RSVP=TRUE;CN=Gina:htt
 p://njyp.org/profile/Gina815
ATTENDEE;ROLE=REQ-PARTICIPANT;PARTSTAT=TENTATIVE;RSVP=TRUE;CN=Marie:ht
 tp://njyp.org/profile/Marie810
ATTENDEE;ROLE=REQ-PARTICIPANT;PARTSTAT=TENTATIVE;RSVP=TRUE;CN="Michael
  E":http://njyp.org/profile/MichaelEverhart
END:VEVENT
END:VCALENDAR
