BEGIN:VCALENDAR
PRODID:NingEventWidget-v1
VERSION:2.0
METHOD:PUBLISH
BEGIN:VTIMEZONE
TZID:America/New_York
X-LIC-LOCATION:America/New_York
BEGIN:DAYLIGHT
TZOFFSETFROM:-0500
TZOFFSETTO:-0400
TZNAME:EDT
DTSTART:19700308T020000
RRULE:FREQ=YEARLY;BYMONTH=3;BYDAY=2SU
END:DAYLIGHT
BEGIN:STANDARD
TZOFFSETFROM:-0400
TZOFFSETTO:-0500
TZNAME:EST
DTSTART:19701101T020000
RRULE:FREQ=YEARLY;BYMONTH=11;BYDAY=1SU
END:STANDARD
END:VTIMEZONE
BEGIN:VEVENT
UID:2938326:Event:364222
DTSTAMP:20260422T081102Z
SUMMARY:Stand Up Paddle Boarding Lesson
DESCRIPTION:UPDATE: So sorry but we will not be doing this event in th
 e summer as there were not enough RSVPs.  We are going to keep it on 
 the calendar and may try again in the fall so RSVP if you have any int
 erest.\n---------------------------------------------\nIF you can atte
 nd on this date AND would be willing to pay $70 right away please RSVP
  as a YES (don't worry, you aren't locked in until you pay).\n\nFor $7
 0 you'll get a small group lesson on SUP.\nCost will include all equip
 ment, 1:5 teacher to student ratio, and a 1.5 hour lesson.\n\nFor a gr
 eat article on Stand Up Paddle Boarding go here, http://njmonthly.com
 /articles/jerseyshore/above-the-waves.html\n\nFor more information vis
 it http://njyp.org/events/stand-up-paddle-boarding-lesson
DTSTART;TZID=America/New_York:20120722T100000
DTEND;TZID=America/New_York:20120722T120000
CATEGORIES:"monmouth county", athletic
LOCATION:On a River
WEBSITE:
URL:
CONTACT:
ORGANIZER;CN="Brian and Mike":http://njyp.org/profile/BrianMike
ATTACH;FMTTYPE="image/jpeg":http://storage.ning.com/topology/rest/1.0/
 file/get/1088790963?profile=original
ATTENDEE;ROLE=REQ-PARTICIPANT;PARTSTAT=ACCEPTED;RSVP=TRUE;CN="Michelle
  Iden":http://njyp.org/profile/MichelleIden
ATTENDEE;ROLE=REQ-PARTICIPANT;PARTSTAT=ACCEPTED;RSVP=TRUE;CN=Kristan:h
 ttp://njyp.org/profile/Kristan
ATTENDEE;ROLE=REQ-PARTICIPANT;PARTSTAT=ACCEPTED;RSVP=TRUE;CN=Keri:http
 ://njyp.org/profile/Keri690
ATTENDEE;ROLE=REQ-PARTICIPANT;PARTSTAT=ACCEPTED;RSVP=TRUE;CN=Jill:http
 ://njyp.org/profile/JillBuonincontri
ATTENDEE;ROLE=REQ-PARTICIPANT;PARTSTAT=ACCEPTED;RSVP=TRUE;CN=Amanda:ht
 tp://njyp.org/profile/Amanda710
ATTENDEE;ROLE=REQ-PARTICIPANT;PARTSTAT=ACCEPTED;RSVP=TRUE;CN="Brian an
 d Mike":http://njyp.org/profile/BrianMike
ATTENDEE;ROLE=REQ-PARTICIPANT;PARTSTAT=TENTATIVE;RSVP=TRUE;CN=Millicen
 t:http://njyp.org/profile/Millicent
ATTENDEE;ROLE=REQ-PARTICIPANT;PARTSTAT=TENTATIVE;RSVP=TRUE;CN="Nelly G
 alan":http://njyp.org/profile/NellyGalan
ATTENDEE;ROLE=REQ-PARTICIPANT;PARTSTAT=TENTATIVE;RSVP=TRUE;CN=Jennifer
 :http://njyp.org/profile/Jennifer234
ATTENDEE;ROLE=REQ-PARTICIPANT;PARTSTAT=TENTATIVE;RSVP=TRUE;CN=Leo:http
 ://njyp.org/profile/Leo
ATTENDEE;ROLE=REQ-PARTICIPANT;PARTSTAT=TENTATIVE;RSVP=TRUE;CN=Danielle
 :http://njyp.org/profile/Danielle818
ATTENDEE;ROLE=REQ-PARTICIPANT;PARTSTAT=TENTATIVE;RSVP=TRUE;CN=Gina:htt
 p://njyp.org/profile/Gina815
ATTENDEE;ROLE=REQ-PARTICIPANT;PARTSTAT=TENTATIVE;RSVP=TRUE;CN=Janene:h
 ttp://njyp.org/profile/Janene
ATTENDEE;ROLE=REQ-PARTICIPANT;PARTSTAT=TENTATIVE;RSVP=TRUE;CN=Peter:ht
 tp://njyp.org/profile/Peter669
ATTENDEE;ROLE=REQ-PARTICIPANT;PARTSTAT=TENTATIVE;RSVP=TRUE;CN=Ken:http
 ://njyp.org/profile/Ken547
ATTENDEE;ROLE=REQ-PARTICIPANT;PARTSTAT=TENTATIVE;RSVP=TRUE;CN=Nidhi:ht
 tp://njyp.org/profile/Nidhi
END:VEVENT
END:VCALENDAR
