BEGIN:VCALENDAR
PRODID:NingEventWidget-v1
VERSION:2.0
METHOD:PUBLISH
BEGIN:VTIMEZONE
TZID:America/New_York
X-LIC-LOCATION:America/New_York
BEGIN:DAYLIGHT
TZOFFSETFROM:-0500
TZOFFSETTO:-0400
TZNAME:EDT
DTSTART:19700308T020000
RRULE:FREQ=YEARLY;BYMONTH=3;BYDAY=2SU
END:DAYLIGHT
BEGIN:STANDARD
TZOFFSETFROM:-0400
TZOFFSETTO:-0500
TZNAME:EST
DTSTART:19701101T020000
RRULE:FREQ=YEARLY;BYMONTH=11;BYDAY=1SU
END:STANDARD
END:VTIMEZONE
BEGIN:VEVENT
UID:2938326:Event:717803
DTSTAMP:20260422T051221Z
SUMMARY:Summer Fest in Hoboken
DESCRIPTION:\nEvent is FREE for NJYP members and only $3 for non-membe
 rs.\nSummer Fest - Join us for a big Hoboken party at Little Town Soc
 ial! We'll have the whole floor private to our party, with DJ, bartend
 ers, and drink/food specials. We will have the private room on the lef
 t with dedicated bartender.\nNJYP-only Specials: $2 Coors Light drafts
 , $4 mixed drinks, $5 select apps\nMember Cost: FREE\nNon-Member Cost:
  $3 online or at the door  Who can attend: Young professionals, sing
 le or married, who are 21-39 years of age.  Tickets: There are a limi
 ted number of Tickets for sale. Tickets are not mailed, but your name 
 will be kept at the door. All sales are final.\n\nFor more informatio
 n visit http://njyp.org/events/summer-fest-in-hoboken
DTSTART;TZID=America/New_York:20160617T200000
DTEND;TZID=America/New_York:20160617T220000
CATEGORIES:"hudson county", social, friday, feel, good, hoboken, speci
 als
LOCATION:Little Town Social
WEBSITE:
URL:
CONTACT:Brian Melnick
ORGANIZER;CN="Michael Park":http://njyp.org/profile/MichaelPark
ATTACH;FMTTYPE="image/jpeg":http://storage.ning.com/topology/rest/1.0/
 file/get/1089115284?profile=original
ATTENDEE;ROLE=REQ-PARTICIPANT;PARTSTAT=ACCEPTED;RSVP=TRUE;CN=Kevin:htt
 p://njyp.org/profile/Kevin164
ATTENDEE;ROLE=REQ-PARTICIPANT;PARTSTAT=ACCEPTED;RSVP=TRUE;CN="Jennifer
  Cohen":http://njyp.org/profile/Jennifer938
ATTENDEE;ROLE=REQ-PARTICIPANT;PARTSTAT=ACCEPTED;RSVP=TRUE;CN="Brian Me
 lnick":http://njyp.org/profile/Brian1218
ATTENDEE;ROLE=REQ-PARTICIPANT;PARTSTAT=ACCEPTED;RSVP=TRUE;CN=Jarrell:h
 ttp://njyp.org/profile/Jarrell
ATTENDEE;ROLE=REQ-PARTICIPANT;PARTSTAT=ACCEPTED;RSVP=TRUE;CN=Ilyssa:ht
 tp://njyp.org/profile/Ilyssa
ATTENDEE;ROLE=REQ-PARTICIPANT;PARTSTAT=ACCEPTED;RSVP=TRUE;CN=Keith:htt
 p://njyp.org/profile/Keith873
ATTENDEE;ROLE=REQ-PARTICIPANT;PARTSTAT=ACCEPTED;RSVP=TRUE;CN=Daphnee:h
 ttp://njyp.org/profile/Daphnee
ATTENDEE;ROLE=REQ-PARTICIPANT;PARTSTAT=ACCEPTED;RSVP=TRUE;CN="Michael 
 Park":http://njyp.org/profile/MichaelPark
ATTENDEE;ROLE=REQ-PARTICIPANT;PARTSTAT=TENTATIVE;RSVP=TRUE;CN=Damien:h
 ttp://njyp.org/profile/DamienCaillault
ATTENDEE;ROLE=REQ-PARTICIPANT;PARTSTAT=TENTATIVE;RSVP=TRUE;CN=Sally:ht
 tp://njyp.org/profile/Sally
ATTENDEE;ROLE=REQ-PARTICIPANT;PARTSTAT=TENTATIVE;RSVP=TRUE;CN=Crys:htt
 p://njyp.org/profile/crys413
ATTENDEE;ROLE=REQ-PARTICIPANT;PARTSTAT=TENTATIVE;RSVP=TRUE;CN="Catheri
 ne Valero":http://njyp.org/profile/CatherineValero
ATTENDEE;ROLE=REQ-PARTICIPANT;PARTSTAT=TENTATIVE;RSVP=TRUE;CN="Jorge D
 ":http://njyp.org/profile/JorgeD
END:VEVENT
END:VCALENDAR
