BEGIN:VCALENDAR
PRODID:NingEventWidget-v1
VERSION:2.0
METHOD:PUBLISH
BEGIN:VTIMEZONE
TZID:America/New_York
X-LIC-LOCATION:America/New_York
BEGIN:DAYLIGHT
TZOFFSETFROM:-0500
TZOFFSETTO:-0400
TZNAME:EDT
DTSTART:19700308T020000
RRULE:FREQ=YEARLY;BYMONTH=3;BYDAY=2SU
END:DAYLIGHT
BEGIN:STANDARD
TZOFFSETFROM:-0400
TZOFFSETTO:-0500
TZNAME:EST
DTSTART:19701101T020000
RRULE:FREQ=YEARLY;BYMONTH=11;BYDAY=1SU
END:STANDARD
END:VTIMEZONE
BEGIN:VEVENT
UID:2938326:Event:721622
DTSTAMP:20260422T035451Z
SUMMARY:CANCELED: Summer Fun Party in Asbury Park
DESCRIPTION:\nUpdate: Unfortunately we need to postpone this. Refunds 
 have been issued.\nJoin us in Asbury Park for summer fun! Let's have d
 rinks and food, meet new young professionals, and enjoy the summer air
  in the beautiful Watermark. \nMember Cost: $5 online, $8 at the door
  Non-Member Cost: $10 online and at the door\nWho can attend: Young 
 professionals, single or married, who are 21-39 years of age.  Special
 s: Happy Hour food and drink specials.  Dress Code: Summer casual \n
 Tickets: All sales are final. A limited number of tickets will be so
 ld. This event is rain or shine.  Directions: http://www.watermarkap.
 com/hours.html Also it is .8 miles from the Asbury Park train station.
  Tons of metered parking.  How to find the group: Meet us upstairs on
  the patio. There will be signs or ask staff for the group.\n\n\nFor m
 ore information visit http://njyp.org/events/summer-fun-party-in-asbur
 y-park
DTSTART;TZID=America/New_York:20160820T140000
DTEND;TZID=America/New_York:20160820T160000
CATEGORIES:"monmouth county", social, summer, party, asbury, park
LOCATION:Watermark
WEBSITE:http://www.watermarkap.com/hours.html
URL:http://www.watermarkap.com/hours.html
CONTACT:
ORGANIZER;CN="Michael Park":http://njyp.org/profile/MichaelPark
ATTACH;FMTTYPE="image/jpeg":http://storage.ning.com/topology/rest/1.0/
 file/get/1089118477?profile=original
ATTENDEE;ROLE=REQ-PARTICIPANT;PARTSTAT=ACCEPTED;RSVP=TRUE;CN="Michael 
 Park":http://njyp.org/profile/MichaelPark
END:VEVENT
END:VCALENDAR
