BEGIN:VCALENDAR
PRODID:NingEventWidget-v1
VERSION:2.0
METHOD:PUBLISH
BEGIN:VTIMEZONE
TZID:America/New_York
X-LIC-LOCATION:America/New_York
BEGIN:DAYLIGHT
TZOFFSETFROM:-0500
TZOFFSETTO:-0400
TZNAME:EDT
DTSTART:19700308T020000
RRULE:FREQ=YEARLY;BYMONTH=3;BYDAY=2SU
END:DAYLIGHT
BEGIN:STANDARD
TZOFFSETFROM:-0400
TZOFFSETTO:-0500
TZNAME:EST
DTSTART:19701101T020000
RRULE:FREQ=YEARLY;BYMONTH=11;BYDAY=1SU
END:STANDARD
END:VTIMEZONE
BEGIN:VEVENT
UID:2938326:Event:3018
DTSTAMP:20260420T060054Z
SUMMARY:Sundress and Tie Party (Outdoors)
DESCRIPTION:Celebrate the warm air at our Sundress and Tie Party. The 
 concept is simple: Women wear dresses and men wear ties and we all mix
  and mingle under the stars while sipping cocktails in the beautiful c
 ourtyard at Evelyn's. It will be a fabulously fun night that will brin
 g out 75 to 100 young professionals.\n\n\nRSVP (to the right) and we w
 ill let you know when tix are almost gone, when prices are going up, i
 f there are any changes, etc.\n\nMember Cost:\n$5 for the first 25 to 
 register\n$10 for the next 26 to 60 to register\n$15 for the next 61 t
 o 125 to register\n$20 for walk-ins\n\nNon-Member Cost:\n$20 online an
 d at the door\n\nPremium Member Cost:\nFREE but you must register on E
 ventbrite.\n\nWho can attend:\nYoung professionals, single or married,
  who are 21-39 years of age.\n\nMandatory Dress Code:\nWomen wear dres
 ses (skirts count)\nMen wear ties (you can wear them over t-shirts or 
 with short sleeved collared shirts)\nThe dress code will be enforced a
 nd is all in good fun.\n\nDirections:\nhttp://www.evelynsrestaurant.co
 m/\n\nHow to find the group:\nWe will meet in the outside courtyard ar
 ea. Enter through the restaurant and look for the sign-in table. If it
  rains we will most likely have to move the party inside.\n\nFor more 
 information visit http://njyp.org/events/sundress-and-tie-party-1
DTSTART;TZID=America/New_York:20090628T180000
DTEND;TZID=America/New_York:20090628T200000
CATEGORIES:"middlesex county", social
LOCATION:Evelyn's Restaurant
WEBSITE:http://www.evelynsrestaurant.com/
URL:http://www.evelynsrestaurant.com/
CONTACT:
ORGANIZER;CN="Brian and Mike":http://njyp.org/profile/BrianMike
ATTACH;FMTTYPE="image/jpeg":http://storage.ning.com/topology/rest/1.0/
 file/get/1088526411?profile=original
ATTENDEE;ROLE=REQ-PARTICIPANT;PARTSTAT=ACCEPTED;RSVP=TRUE;CN="Kate Swe
 eney":http://njyp.org/profile/KateSweeney
ATTENDEE;ROLE=REQ-PARTICIPANT;PARTSTAT=ACCEPTED;RSVP=TRUE;CN=Elizabeth
 :http://njyp.org/profile/ElizabethWilliams
ATTENDEE;ROLE=REQ-PARTICIPANT;PARTSTAT=ACCEPTED;RSVP=TRUE;CN=Eridania:
 http://njyp.org/profile/Eridania
ATTENDEE;ROLE=REQ-PARTICIPANT;PARTSTAT=ACCEPTED;RSVP=TRUE;CN="Christop
 her Hennessey":http://njyp.org/profile/ChristopherHennessey
ATTENDEE;ROLE=REQ-PARTICIPANT;PARTSTAT=ACCEPTED;RSVP=TRUE;CN="Rochelle
  Trotman":http://njyp.org/profile/RochelleTrotman
ATTENDEE;ROLE=REQ-PARTICIPANT;PARTSTAT=ACCEPTED;RSVP=TRUE;CN="April Mc
 Elwee":http://njyp.org/profile/AprilMcElwee
ATTENDEE;ROLE=REQ-PARTICIPANT;PARTSTAT=ACCEPTED;RSVP=TRUE;CN="Diana Br
 unner":http://njyp.org/profile/DianaBrunner
ATTENDEE;ROLE=REQ-PARTICIPANT;PARTSTAT=ACCEPTED;RSVP=TRUE;CN=Serkan:ht
 tp://njyp.org/profile/ST
ATTENDEE;ROLE=REQ-PARTICIPANT;PARTSTAT=ACCEPTED;RSVP=TRUE;CN=Christian
 :http://njyp.org/profile/ChristianSanje
ATTENDEE;ROLE=REQ-PARTICIPANT;PARTSTAT=ACCEPTED;RSVP=TRUE;CN=Anita:htt
 p://njyp.org/profile/Anita
ATTENDEE;ROLE=REQ-PARTICIPANT;PARTSTAT=ACCEPTED;RSVP=TRUE;CN="Xiomara 
 Ortiz":http://njyp.org/profile/XiomaraOrtiz
ATTENDEE;ROLE=REQ-PARTICIPANT;PARTSTAT=ACCEPTED;RSVP=TRUE;CN="Nicole N
 avid":http://njyp.org/profile/NicoleNavid
ATTENDEE;ROLE=REQ-PARTICIPANT;PARTSTAT=ACCEPTED;RSVP=TRUE;CN="Kristi R
 iedinger":http://njyp.org/profile/KristiRiedinger
ATTENDEE;ROLE=REQ-PARTICIPANT;PARTSTAT=ACCEPTED;RSVP=TRUE;CN="Sonii Ko
 llie":http://njyp.org/profile/SoaniiK
ATTENDEE;ROLE=REQ-PARTICIPANT;PARTSTAT=ACCEPTED;RSVP=TRUE;CN="Bibi B t
 he Nutritionist":http://njyp.org/profile/BibianaBendikova
ATTENDEE;ROLE=REQ-PARTICIPANT;PARTSTAT=ACCEPTED;RSVP=TRUE;CN="Dmitriy 
 Koval":http://njyp.org/profile/DmitriyKoval
ATTENDEE;ROLE=REQ-PARTICIPANT;PARTSTAT=ACCEPTED;RSVP=TRUE;CN="Kevin J.
  Plunkett":http://njyp.org/profile/KevinJPlunkett
ATTENDEE;ROLE=REQ-PARTICIPANT;PARTSTAT=ACCEPTED;RSVP=TRUE;CN="Leslie Y
 oung":http://njyp.org/profile/wLeslieYoung
ATTENDEE;ROLE=REQ-PARTICIPANT;PARTSTAT=ACCEPTED;RSVP=TRUE;CN=Eileen:ht
 tp://njyp.org/profile/EileenLintao
ATTENDEE;ROLE=REQ-PARTICIPANT;PARTSTAT=ACCEPTED;RSVP=TRUE;CN="Allison 
 Williams":http://njyp.org/profile/AllisonWilliams
ATTENDEE;ROLE=REQ-PARTICIPANT;PARTSTAT=ACCEPTED;RSVP=TRUE;CN=Kunal:htt
 p://njyp.org/profile/KunalAgarwal
ATTENDEE;ROLE=REQ-PARTICIPANT;PARTSTAT=ACCEPTED;RSVP=TRUE;CN=nicole:ht
 tp://njyp.org/profile/nicole
ATTENDEE;ROLE=REQ-PARTICIPANT;PARTSTAT=ACCEPTED;RSVP=TRUE;CN=Michael:h
 ttp://njyp.org/profile/Michael03
ATTENDEE;ROLE=REQ-PARTICIPANT;PARTSTAT=ACCEPTED;RSVP=TRUE;CN="Heather 
  Kuhn":http://njyp.org/profile/HeatherKuhn
ATTENDEE;ROLE=REQ-PARTICIPANT;PARTSTAT=ACCEPTED;RSVP=TRUE;CN=Sara:http
 ://njyp.org/profile/SaraLevenstein
ATTENDEE;ROLE=REQ-PARTICIPANT;PARTSTAT=ACCEPTED;RSVP=TRUE;CN="Marc Sem
 enta":http://njyp.org/profile/MarcSementa
ATTENDEE;ROLE=REQ-PARTICIPANT;PARTSTAT=ACCEPTED;RSVP=TRUE;CN="Lozelle 
 Watson":http://njyp.org/profile/LozelleWatson
ATTENDEE;ROLE=REQ-PARTICIPANT;PARTSTAT=ACCEPTED;RSVP=TRUE;CN="Karen S.
 ":http://njyp.org/profile/KarenS
ATTENDEE;ROLE=REQ-PARTICIPANT;PARTSTAT=ACCEPTED;RSVP=TRUE;CN="Denise O
 liveri":http://njyp.org/profile/DeniseOliveri
ATTENDEE;ROLE=REQ-PARTICIPANT;PARTSTAT=ACCEPTED;RSVP=TRUE;CN=Chris:htt
 p://njyp.org/profile/Chris
ATTENDEE;ROLE=REQ-PARTICIPANT;PARTSTAT=ACCEPTED;RSVP=TRUE;CN="Jon Berr
 ian":http://njyp.org/profile/JonBerrian
ATTENDEE;ROLE=REQ-PARTICIPANT;PARTSTAT=ACCEPTED;RSVP=TRUE;CN=Charity:h
 ttp://njyp.org/profile/CharityLynnFues
ATTENDEE;ROLE=REQ-PARTICIPANT;PARTSTAT=ACCEPTED;RSVP=TRUE;CN="Christop
 her Dingman":http://njyp.org/profile/ChristopherDingman
ATTENDEE;ROLE=REQ-PARTICIPANT;PARTSTAT=ACCEPTED;RSVP=TRUE;CN="Joshua C
 hermak":http://njyp.org/profile/JoshuaChermak
ATTENDEE;ROLE=REQ-PARTICIPANT;PARTSTAT=ACCEPTED;RSVP=TRUE;CN="Kendall 
 R.":http://njyp.org/profile/KR
ATTENDEE;ROLE=REQ-PARTICIPANT;PARTSTAT=ACCEPTED;RSVP=TRUE;CN=Susan:htt
 p://njyp.org/profile/Susan
ATTENDEE;ROLE=REQ-PARTICIPANT;PARTSTAT=ACCEPTED;RSVP=TRUE;CN="Olga Ch"
 :http://njyp.org/profile/OlgaChaban
ATTENDEE;ROLE=REQ-PARTICIPANT;PARTSTAT=ACCEPTED;RSVP=TRUE;CN="Rhandi L
 ":http://njyp.org/profile/RhandiL
ATTENDEE;ROLE=REQ-PARTICIPANT;PARTSTAT=ACCEPTED;RSVP=TRUE;CN="Jim Perr
 y":http://njyp.org/profile/JamesMPerry
ATTENDEE;ROLE=REQ-PARTICIPANT;PARTSTAT=ACCEPTED;RSVP=TRUE;CN=Helen:htt
 p://njyp.org/profile/Helen
ATTENDEE;ROLE=REQ-PARTICIPANT;PARTSTAT=ACCEPTED;RSVP=TRUE;CN="Kelly Od
 om":http://njyp.org/profile/KellyOdom
ATTENDEE;ROLE=REQ-PARTICIPANT;PARTSTAT=ACCEPTED;RSVP=TRUE;CN="Marc Las
 sman":http://njyp.org/profile/MarcLassman
ATTENDEE;ROLE=REQ-PARTICIPANT;PARTSTAT=ACCEPTED;RSVP=TRUE;CN=Latisha:h
 ttp://njyp.org/profile/Latisha
ATTENDEE;ROLE=REQ-PARTICIPANT;PARTSTAT=ACCEPTED;RSVP=TRUE;CN="laura id
 en":http://njyp.org/profile/lauraiden
ATTENDEE;ROLE=REQ-PARTICIPANT;PARTSTAT=ACCEPTED;RSVP=TRUE;CN=Will:http
 ://njyp.org/profile/William
ATTENDEE;ROLE=REQ-PARTICIPANT;PARTSTAT=ACCEPTED;RSVP=TRUE;CN="Kelly Jo
 nes":http://njyp.org/profile/KellyJones
ATTENDEE;ROLE=REQ-PARTICIPANT;PARTSTAT=ACCEPTED;RSVP=TRUE;CN="Angie Me
 yer":http://njyp.org/profile/AngieMeyer
ATTENDEE;ROLE=REQ-PARTICIPANT;PARTSTAT=ACCEPTED;RSVP=TRUE;CN="Michelle
  Iden":http://njyp.org/profile/MichelleIden
ATTENDEE;ROLE=REQ-PARTICIPANT;PARTSTAT=ACCEPTED;RSVP=TRUE;CN="Leora Gr
 eenhaus":http://njyp.org/profile/LeoraDagani
ATTENDEE;ROLE=REQ-PARTICIPANT;PARTSTAT=ACCEPTED;RSVP=TRUE;CN=Lizzie:ht
 tp://njyp.org/profile/ElizabethKuhns
ATTENDEE;ROLE=REQ-PARTICIPANT;PARTSTAT=TENTATIVE;RSVP=TRUE;CN=Marlena:
 http://njyp.org/profile/MarlenaLouiseHuesmann
ATTENDEE;ROLE=REQ-PARTICIPANT;PARTSTAT=TENTATIVE;RSVP=TRUE;CN="JW Sche
 rm":http://njyp.org/profile/JWScherm
ATTENDEE;ROLE=REQ-PARTICIPANT;PARTSTAT=TENTATIVE;RSVP=TRUE;CN="Christi
 ne Berry":http://njyp.org/profile/ChristineBerry
ATTENDEE;ROLE=REQ-PARTICIPANT;PARTSTAT=TENTATIVE;RSVP=TRUE;CN="Doug Be
 man":http://njyp.org/profile/DougBeman
ATTENDEE;ROLE=REQ-PARTICIPANT;PARTSTAT=TENTATIVE;RSVP=TRUE;CN=Justin:h
 ttp://njyp.org/profile/Justin
ATTENDEE;ROLE=REQ-PARTICIPANT;PARTSTAT=TENTATIVE;RSVP=TRUE;CN="Steve B
 rown":http://njyp.org/profile/SteveBrown
ATTENDEE;ROLE=REQ-PARTICIPANT;PARTSTAT=TENTATIVE;RSVP=TRUE;CN=Dove1925
 :http://njyp.org/profile/Dove1925
ATTENDEE;ROLE=REQ-PARTICIPANT;PARTSTAT=TENTATIVE;RSVP=TRUE;CN="Kristen
  Ann":http://njyp.org/profile/KristenAnn
ATTENDEE;ROLE=REQ-PARTICIPANT;PARTSTAT=TENTATIVE;RSVP=TRUE;CN="Michael
  Hauser":http://njyp.org/profile/MichaelHauser
ATTENDEE;ROLE=REQ-PARTICIPANT;PARTSTAT=TENTATIVE;RSVP=TRUE;CN="Kokil C
 hachra":http://njyp.org/profile/KokilChachra
ATTENDEE;ROLE=REQ-PARTICIPANT;PARTSTAT=TENTATIVE;RSVP=TRUE;CN="Dennis 
 Lee":http://njyp.org/profile/leeden
ATTENDEE;ROLE=REQ-PARTICIPANT;PARTSTAT=TENTATIVE;RSVP=TRUE;CN=LSM:http
 ://njyp.org/profile/NYCLS
ATTENDEE;ROLE=REQ-PARTICIPANT;PARTSTAT=TENTATIVE;RSVP=TRUE;CN=Jennie:h
 ttp://njyp.org/profile/junglebunnie
ATTENDEE;ROLE=REQ-PARTICIPANT;PARTSTAT=TENTATIVE;RSVP=TRUE;CN=Jon:http
 ://njyp.org/profile/Jon
ATTENDEE;ROLE=REQ-PARTICIPANT;PARTSTAT=TENTATIVE;RSVP=TRUE;CN="Alix Fo
 ster":http://njyp.org/profile/AlixFoster
ATTENDEE;ROLE=REQ-PARTICIPANT;PARTSTAT=TENTATIVE;RSVP=TRUE;CN="Christi
 na Seigel":http://njyp.org/profile/ChristinaSeigel
ATTENDEE;ROLE=REQ-PARTICIPANT;PARTSTAT=TENTATIVE;RSVP=TRUE;CN="Fan Fan
 ":http://njyp.org/profile/FanFan
ATTENDEE;ROLE=REQ-PARTICIPANT;PARTSTAT=TENTATIVE;RSVP=TRUE;CN="Steven 
 Holtzman":http://njyp.org/profile/StevenHoltzman
ATTENDEE;ROLE=REQ-PARTICIPANT;PARTSTAT=TENTATIVE;RSVP=TRUE;CN="Brian E
 pstein":http://njyp.org/profile/BrianEpstein
ATTENDEE;ROLE=REQ-PARTICIPANT;PARTSTAT=TENTATIVE;RSVP=TRUE;CN="A D Y":
 http://njyp.org/profile/ADY
ATTENDEE;ROLE=REQ-PARTICIPANT;PARTSTAT=TENTATIVE;RSVP=TRUE;CN="Janet S
 tevens":http://njyp.org/profile/JanetStevens
ATTENDEE;ROLE=REQ-PARTICIPANT;PARTSTAT=TENTATIVE;RSVP=TRUE;CN="Peter E
 skow":http://njyp.org/profile/PeterEskow
END:VEVENT
END:VCALENDAR
