BEGIN:VCALENDAR
PRODID:NingEventWidget-v1
VERSION:2.0
METHOD:PUBLISH
BEGIN:VTIMEZONE
TZID:America/New_York
X-LIC-LOCATION:America/New_York
BEGIN:DAYLIGHT
TZOFFSETFROM:-0500
TZOFFSETTO:-0400
TZNAME:EDT
DTSTART:19700308T020000
RRULE:FREQ=YEARLY;BYMONTH=3;BYDAY=2SU
END:DAYLIGHT
BEGIN:STANDARD
TZOFFSETFROM:-0400
TZOFFSETTO:-0500
TZNAME:EST
DTSTART:19701101T020000
RRULE:FREQ=YEARLY;BYMONTH=11;BYDAY=1SU
END:STANDARD
END:VTIMEZONE
BEGIN:VEVENT
UID:2938326:Event:718017
DTSTAMP:20260420T032458Z
SUMMARY:Sundress and Tie Party in Asbury Park
DESCRIPTION:\nUpdate: Expecting 25+ people! Note that we don't show we
 bsite RSVPs as it does not correlate to the number of tix that have be
 en purchased. Get tix online for discounts!\nCelebrate theÂ fresh air 
 and the sunÂ at our Sundress and Tie Party at the super sexy Watermark
 . As always the women will be sporting beautiful dresses and the men w
 ill be wearing ties. Together we will mix, mingle, and sipÂ cocktailsÂ
  on theÂ open air terraceÂ that features incredible ocean views. Expec
 t a lazy afternoonÂ and plenty of Young Professionals.\nMember Cost: $
 5 online, $8 at the door\nNon-Member Cost:Â $10 online and at the door
   Who can attend:Â Young professionals, single or married, who are 21-
 39 years of age.  Specials:Â Happy Hour food and drink specials.  Mand
 atory Dress Code: Women wear dresses (skirts count). Men wear ties (pl
 ease NO flip flops, t-shirts, or sneakers or you will be turned away).
  The dress code will be enforced and is all in good fun.\n Tickets:Â A
 ll sales are final. A limited number of tickets will be sold. This eve
 nt is rain or shine.  Directions:Â http://www.watermarkap.com/hours.ht
 ml Also it is .8 miles from the Asbury Park train station. Tons of met
 ered parking.  How to find the group: Meet us upstairs on the patio. T
 here will be signs or ask staff for the group.\n\n\nFor more informati
 on visit http://njyp.org/events/sundress-and-tie-party-in-asbury-park
DTSTART;TZID=America/New_York:20160611T140000
DTEND;TZID=America/New_York:20160611T160000
CATEGORIES:"monmouth county", social, sundress15
LOCATION:Watermark
WEBSITE:http://www.watermarkap.com/hours.html
URL:http://www.watermarkap.com/hours.html
CONTACT:
ORGANIZER;CN="Michael Park":http://njyp.org/profile/MichaelPark
ATTACH;FMTTYPE="image/jpeg":http://storage.ning.com/topology/rest/1.0/
 file/get/1088609644?profile=original
ATTENDEE;ROLE=REQ-PARTICIPANT;PARTSTAT=ACCEPTED;RSVP=TRUE;CN=Sarah:htt
 p://njyp.org/profile/Sarah867
ATTENDEE;ROLE=REQ-PARTICIPANT;PARTSTAT=ACCEPTED;RSVP=TRUE;CN=Michelle:
 http://njyp.org/profile/Michelle183
ATTENDEE;ROLE=REQ-PARTICIPANT;PARTSTAT=ACCEPTED;RSVP=TRUE;CN=Alexis:ht
 tp://njyp.org/profile/0rh0hlsd22gxr
ATTENDEE;ROLE=REQ-PARTICIPANT;PARTSTAT=ACCEPTED;RSVP=TRUE;CN=Tiffany:h
 ttp://njyp.org/profile/Tiffany903
ATTENDEE;ROLE=REQ-PARTICIPANT;PARTSTAT=ACCEPTED;RSVP=TRUE;CN="Brian Me
 lnick":http://njyp.org/profile/Brian1218
ATTENDEE;ROLE=REQ-PARTICIPANT;PARTSTAT=ACCEPTED;RSVP=TRUE;CN=Erick:htt
 p://njyp.org/profile/Erick994
ATTENDEE;ROLE=REQ-PARTICIPANT;PARTSTAT=ACCEPTED;RSVP=TRUE;CN=Daphnee:h
 ttp://njyp.org/profile/Daphnee
ATTENDEE;ROLE=REQ-PARTICIPANT;PARTSTAT=ACCEPTED;RSVP=TRUE;CN=Cassandra
 :http://njyp.org/profile/Cassandra
ATTENDEE;ROLE=REQ-PARTICIPANT;PARTSTAT=ACCEPTED;RSVP=TRUE;CN="Michael 
 Park":http://njyp.org/profile/MichaelPark
ATTENDEE;ROLE=REQ-PARTICIPANT;PARTSTAT=TENTATIVE;RSVP=TRUE;CN=Janet:ht
 tp://njyp.org/profile/Janet
ATTENDEE;ROLE=REQ-PARTICIPANT;PARTSTAT=TENTATIVE;RSVP=TRUE;CN=Samantha
 :http://njyp.org/profile/Samantha478
END:VEVENT
END:VCALENDAR
