BEGIN:VCALENDAR
PRODID:NingEventWidget-v1
VERSION:2.0
METHOD:PUBLISH
BEGIN:VTIMEZONE
TZID:America/New_York
X-LIC-LOCATION:America/New_York
BEGIN:DAYLIGHT
TZOFFSETFROM:-0500
TZOFFSETTO:-0400
TZNAME:EDT
DTSTART:19700308T020000
RRULE:FREQ=YEARLY;BYMONTH=3;BYDAY=2SU
END:DAYLIGHT
BEGIN:STANDARD
TZOFFSETFROM:-0400
TZOFFSETTO:-0500
TZNAME:EST
DTSTART:19701101T020000
RRULE:FREQ=YEARLY;BYMONTH=11;BYDAY=1SU
END:STANDARD
END:VTIMEZONE
BEGIN:VEVENT
UID:2938326:Event:430055
DTSTAMP:20260421T053610Z
SUMMARY:Superhero Bash For A Cure
DESCRIPTION:Every cancer survivor is a real life Superhero.  You can 
 serve as a Caped Crusader by supporting the fight.  Join us for a nig
 ht to battle blood cancers and benefit The Leukemia & Lymphoma Society
 .   The evening will feature a Gourmet Buffet, a Top Shelf Open Bar wi
 th Superhero Cocktails, a DJ, and Raffles!  Who Can Attend: Anyone 21 
 and Over  Tickets: $100 if purchased by April 1 $125 after April 1  Yo
 u can purchase tickets online here.  Or, you can mail a check made ou
 t to Dinamarie Alcuri to:\nDinamarie Alcuri PO Box 5082 South Hackensa
 ck, NJ 07606-5082  Guests will receive an LLS donation acknowledgement
  at check-in.  Email AlcuriForACure@hotmail.com with any questions.\n
 This is a sponsored event posting. If you wish to meet up with other M
 embers of NJYP please contact them through the NJYP website.\n\n\nFor 
 more information visit http://njyp.org/events/superhero-bash-for-a-cur
 e
DTSTART;TZID=America/New_York:20130411T183000
DTEND;TZID=America/New_York:20130411T223000
CATEGORIES:community, social, "bergen county"
LOCATION:The Venetian
WEBSITE:https://itrulycare.com/events/superhero-bash-for-a-cure
URL:https://itrulycare.com/events/superhero-bash-for-a-cure
CONTACT:
ORGANIZER;CN=Admin:http://njyp.org/profile/Admin
ATTACH;FMTTYPE="image/jpeg":http://storage.ning.com/topology/rest/1.0/
 file/get/1088849507?profile=original
ATTENDEE;ROLE=REQ-PARTICIPANT;PARTSTAT=ACCEPTED;RSVP=TRUE;CN=Admin:htt
 p://njyp.org/profile/Admin
END:VEVENT
END:VCALENDAR
