BEGIN:VCALENDAR
PRODID:NingEventWidget-v1
VERSION:2.0
METHOD:PUBLISH
BEGIN:VTIMEZONE
TZID:America/New_York
X-LIC-LOCATION:America/New_York
BEGIN:DAYLIGHT
TZOFFSETFROM:-0500
TZOFFSETTO:-0400
TZNAME:EDT
DTSTART:19700308T020000
RRULE:FREQ=YEARLY;BYMONTH=3;BYDAY=2SU
END:DAYLIGHT
BEGIN:STANDARD
TZOFFSETFROM:-0400
TZOFFSETTO:-0500
TZNAME:EST
DTSTART:19701101T020000
RRULE:FREQ=YEARLY;BYMONTH=11;BYDAY=1SU
END:STANDARD
END:VTIMEZONE
BEGIN:VEVENT
UID:2938326:Event:282471
DTSTAMP:20260420T002100Z
SUMMARY:Survivors Expedition
DESCRIPTION:Make Friends. Get Out(side)! NJYPers (and their guests) ha
 ve been invited to join Trail Blazers for their Survivors Expedition! 
 This weekend getaway will include hikes through the beautiful autumn f
 oliage, campfires and campfire cooking, sleeping under the stars (in t
 he case of implement weather, we will sleep indoors) and a culminating
  celebratory feast!  You and around 14 others will learn survival ski
 lls but primarily this will be an enjoyable getaway and all will walk 
 away with new friends and lungs filled with Fall autumn air.\n\nCost: 
 \n$100 per person (discounted from $250)\n\nTickets:\nEmail Tiffany an
 d let her know you are with NJYP. You can also email Tiffany with any 
 questions you may have.\ntcaton@trailblazers.org\n\nWhat to Bring:\nBa
 ckpack, sturdy hiking boots, appropriate warm outdoor clothing, toilet
 ries and towel, headtorch or flashlight, water bottle, Swiss Army knif
 e or Leatherman or other pocketknife, sleeping bag.\n\nDo not need to 
 bring: \nFood - we will provide brunch and dinner. If there are specia
 l dietary needs, please do let us know. \nTents – depending on weath
 er we will bunk 2 or 3 in our Hogan tents or, if it is cold, dormitory
  style in the Great Hall (a cabin-style building). Campers will be sle
 eping on cots in either location but should have their own sleeping ba
 gs. \nAlcohol – we are a dry site, alcohol will not be permitted. \n
 Electronics – please note there is limited access to outlets for cha
 rging.\n\nMore Information on Trail Blazers:\nhttp://www.trailblazers.
 org/programs/expedition/\n\nFor more information visit http://njyp.org
 /events/survivors-expedition
DTSTART;TZID=America/New_York:20111105T100000
DTEND;TZID=America/New_York:20111106T140000
CATEGORIES:"sussex county", athletic, "other county"
LOCATION:Trail Blazer Camps
WEBSITE:http://www.trailblazers.org/programs/expedition/
URL:http://www.trailblazers.org/programs/expedition/
CONTACT:
ORGANIZER;CN="Brian and Mike":http://njyp.org/profile/BrianMike
ATTACH;FMTTYPE="image/jpeg":http://storage.ning.com/topology/rest/1.0/
 file/get/1088715890?profile=original
ATTENDEE;ROLE=REQ-PARTICIPANT;PARTSTAT=ACCEPTED;RSVP=TRUE;CN="Brian an
 d Mike":http://njyp.org/profile/BrianMike
ATTENDEE;ROLE=REQ-PARTICIPANT;PARTSTAT=TENTATIVE;RSVP=TRUE;CN=Kristina
 :http://njyp.org/profile/Kristina
ATTENDEE;ROLE=REQ-PARTICIPANT;PARTSTAT=TENTATIVE;RSVP=TRUE;CN=Alesha:h
 ttp://njyp.org/profile/Alesha
ATTENDEE;ROLE=REQ-PARTICIPANT;PARTSTAT=TENTATIVE;RSVP=TRUE;CN=Ken:http
 ://njyp.org/profile/Ken547
END:VEVENT
END:VCALENDAR
