BEGIN:VCALENDAR
PRODID:NingEventWidget-v1
VERSION:2.0
METHOD:PUBLISH
BEGIN:VTIMEZONE
TZID:America/New_York
X-LIC-LOCATION:America/New_York
BEGIN:DAYLIGHT
TZOFFSETFROM:-0500
TZOFFSETTO:-0400
TZNAME:EDT
DTSTART:19700308T020000
RRULE:FREQ=YEARLY;BYMONTH=3;BYDAY=2SU
END:DAYLIGHT
BEGIN:STANDARD
TZOFFSETFROM:-0400
TZOFFSETTO:-0500
TZNAME:EST
DTSTART:19701101T020000
RRULE:FREQ=YEARLY;BYMONTH=11;BYDAY=1SU
END:STANDARD
END:VTIMEZONE
BEGIN:VEVENT
UID:2938326:Event:131965
DTSTAMP:20260420T004045Z
SUMMARY:Table for Twenty: 20-Somethings
DESCRIPTION:Introducing Table for Twenty!Â  This is a pilot event wher
 eby a common group will gather to break bread. Up to 20 YPs will be ab
 le to participate. For this first event only those 21 to 29 can partic
 ipate.Meet other local, young professionals over a three course meal.Â
   In between courses everyone will gather their napkins, utensils, and
  drinks and switch seats!Â  By the end of the night you will leave hav
 ing laughed, learned, and landed yourself new friends.Who Can Attend:A
 nyone who is 21 to 29 years old.A maximum of 20 YPs can participate.\n
 Â \nMember Cost:$5 online (to save your seat) then an additional $20 a
 t the doorNo walk-insNon-Member Cost:$10 online (to save your seat) th
 en an additional $20 at the doorNo walk-insCost includes:3 course meal
  (apps served family style, entree, dessert), non-alcoholic beverages,
  tax and tip.You will pay for drinks from the bar as you want them.Tic
 kets:There are a limited number of Tickets for sale. Tickets are not m
 ailed, but your name will be kept at the door. All sales are final.Fin
 ding the Group:Ask the hostess for the NJYP reservation once you arriv
 e.Dinner begins promptly at 7pm.Directions:http://www.famishedfrog.com
 /content/view/15/26/Various street parking and a GIANT parking deck be
 hind The Frog.\n\nFor more information visit http://njyp.org/events/ta
 ble-for-twenty-20somethings
DTSTART;TZID=America/New_York:20110216T190000
DTEND;TZID=America/New_York:20110216T210000
CATEGORIES:"morris county", social, networking
LOCATION:The Famished Frog
WEBSITE:http://www.famishedfrog.com/content/view/15/26/
URL:http://www.famishedfrog.com/content/view/15/26/
CONTACT:
ORGANIZER;CN="Brian and Mike":http://njyp.org/profile/BrianMike
ATTACH;FMTTYPE="image/jpeg":http://storage.ning.com/topology/rest/1.0/
 file/get/1088675876?profile=original
ATTENDEE;ROLE=REQ-PARTICIPANT;PARTSTAT=ACCEPTED;RSVP=TRUE;CN=Melissa:h
 ttp://njyp.org/profile/Melissa110
ATTENDEE;ROLE=REQ-PARTICIPANT;PARTSTAT=ACCEPTED;RSVP=TRUE;CN=Erin:http
 ://njyp.org/profile/ErinLen
ATTENDEE;ROLE=REQ-PARTICIPANT;PARTSTAT=ACCEPTED;RSVP=TRUE;CN=Steven:ht
 tp://njyp.org/profile/Steven66
ATTENDEE;ROLE=REQ-PARTICIPANT;PARTSTAT=ACCEPTED;RSVP=TRUE;CN="Laura Si
 lvius":http://njyp.org/profile/LauraSilvius
ATTENDEE;ROLE=REQ-PARTICIPANT;PARTSTAT=ACCEPTED;RSVP=TRUE;CN=Brendan:h
 ttp://njyp.org/profile/BrendanKeavney
ATTENDEE;ROLE=REQ-PARTICIPANT;PARTSTAT=ACCEPTED;RSVP=TRUE;CN="Larissa 
 Steinberg":http://njyp.org/profile/LarissaSteinberg
ATTENDEE;ROLE=REQ-PARTICIPANT;PARTSTAT=ACCEPTED;RSVP=TRUE;CN="Michael 
 Wargo":http://njyp.org/profile/MichaelWargo
ATTENDEE;ROLE=REQ-PARTICIPANT;PARTSTAT=ACCEPTED;RSVP=TRUE;CN=Viola:htt
 p://njyp.org/profile/Viola
ATTENDEE;ROLE=REQ-PARTICIPANT;PARTSTAT=ACCEPTED;RSVP=TRUE;CN=Keith:htt
 p://njyp.org/profile/Keith
ATTENDEE;ROLE=REQ-PARTICIPANT;PARTSTAT=ACCEPTED;RSVP=TRUE;CN=Rachelle:
 http://njyp.org/profile/Rachelle
ATTENDEE;ROLE=REQ-PARTICIPANT;PARTSTAT=ACCEPTED;RSVP=TRUE;CN=Kate:http
 ://njyp.org/profile/Kate252
ATTENDEE;ROLE=REQ-PARTICIPANT;PARTSTAT=ACCEPTED;RSVP=TRUE;CN=Kate:http
 ://njyp.org/profile/Kate347
ATTENDEE;ROLE=REQ-PARTICIPANT;PARTSTAT=ACCEPTED;RSVP=TRUE;CN="Brian an
 d Mike":http://njyp.org/profile/BrianMike
ATTENDEE;ROLE=REQ-PARTICIPANT;PARTSTAT=TENTATIVE;RSVP=TRUE;CN=Jason:ht
 tp://njyp.org/profile/Jason358
ATTENDEE;ROLE=REQ-PARTICIPANT;PARTSTAT=TENTATIVE;RSVP=TRUE;CN=Peter:ht
 tp://njyp.org/profile/PeterMcDonnell
ATTENDEE;ROLE=REQ-PARTICIPANT;PARTSTAT=TENTATIVE;RSVP=TRUE;CN=Seth:htt
 p://njyp.org/profile/Seth
ATTENDEE;ROLE=REQ-PARTICIPANT;PARTSTAT=TENTATIVE;RSVP=TRUE;CN=Marcelo:
 http://njyp.org/profile/EzraS
ATTENDEE;ROLE=REQ-PARTICIPANT;PARTSTAT=TENTATIVE;RSVP=TRUE;CN=Julia:ht
 tp://njyp.org/profile/Julia645
ATTENDEE;ROLE=REQ-PARTICIPANT;PARTSTAT=TENTATIVE;RSVP=TRUE;CN=Kendra:h
 ttp://njyp.org/profile/Kendra
ATTENDEE;ROLE=REQ-PARTICIPANT;PARTSTAT=TENTATIVE;RSVP=TRUE;CN=Robert:h
 ttp://njyp.org/profile/Robert367
ATTENDEE;ROLE=REQ-PARTICIPANT;PARTSTAT=TENTATIVE;RSVP=TRUE;CN=Lena:htt
 p://njyp.org/profile/Lena493
ATTENDEE;ROLE=REQ-PARTICIPANT;PARTSTAT=TENTATIVE;RSVP=TRUE;CN=Dennis:h
 ttp://njyp.org/profile/Dennis711
ATTENDEE;ROLE=REQ-PARTICIPANT;PARTSTAT=TENTATIVE;RSVP=TRUE;CN=Erin:htt
 p://njyp.org/profile/ErinSullivan
ATTENDEE;ROLE=REQ-PARTICIPANT;PARTSTAT=TENTATIVE;RSVP=TRUE;CN=Lauren:h
 ttp://njyp.org/profile/LaurenBulger
ATTENDEE;ROLE=REQ-PARTICIPANT;PARTSTAT=TENTATIVE;RSVP=TRUE;CN=Jennifer
 :http://njyp.org/profile/Jennifer622
ATTENDEE;ROLE=REQ-PARTICIPANT;PARTSTAT=TENTATIVE;RSVP=TRUE;CN=Rohan:ht
 tp://njyp.org/profile/braveheart
ATTENDEE;ROLE=REQ-PARTICIPANT;PARTSTAT=TENTATIVE;RSVP=TRUE;CN="Michael
  Park":http://njyp.org/profile/MichaelPark
ATTENDEE;ROLE=REQ-PARTICIPANT;PARTSTAT=TENTATIVE;RSVP=TRUE;CN=Amanda:h
 ttp://njyp.org/profile/Amanda710
ATTENDEE;ROLE=REQ-PARTICIPANT;PARTSTAT=TENTATIVE;RSVP=TRUE;CN=Colleen:
 http://njyp.org/profile/Colleen720
ATTENDEE;ROLE=REQ-PARTICIPANT;PARTSTAT=TENTATIVE;RSVP=TRUE;CN="Isaac B
 earg":http://njyp.org/profile/IsaacBearg
ATTENDEE;ROLE=REQ-PARTICIPANT;PARTSTAT=TENTATIVE;RSVP=TRUE;CN=Ahsan:ht
 tp://njyp.org/profile/Ahsan
ATTENDEE;ROLE=REQ-PARTICIPANT;PARTSTAT=TENTATIVE;RSVP=TRUE;CN=Jason:ht
 tp://njyp.org/profile/Jason163
ATTENDEE;ROLE=REQ-PARTICIPANT;PARTSTAT=TENTATIVE;RSVP=TRUE;CN=Alexis:h
 ttp://njyp.org/profile/Alexis
END:VEVENT
END:VCALENDAR
