BEGIN:VCALENDAR
PRODID:NingEventWidget-v1
VERSION:2.0
METHOD:PUBLISH
BEGIN:VTIMEZONE
TZID:America/New_York
X-LIC-LOCATION:America/New_York
BEGIN:DAYLIGHT
TZOFFSETFROM:-0500
TZOFFSETTO:-0400
TZNAME:EDT
DTSTART:19700308T020000
RRULE:FREQ=YEARLY;BYMONTH=3;BYDAY=2SU
END:DAYLIGHT
BEGIN:STANDARD
TZOFFSETFROM:-0400
TZOFFSETTO:-0500
TZNAME:EST
DTSTART:19701101T020000
RRULE:FREQ=YEARLY;BYMONTH=11;BYDAY=1SU
END:STANDARD
END:VTIMEZONE
BEGIN:VEVENT
UID:2938326:Event:149284
DTSTAMP:20260420T023456Z
SUMMARY:Table for Twenty: Business Owners
DESCRIPTION:Meet other local, young professionals over a three course 
 meal.  In between courses everyone will gather their napkins, utensil
 s, and drinks and switch seats!  By the end of the night you will lea
 ve having laughed, learned, and landed yourself new friends.\n\nWho Ca
 n Attend:Business Owners  and those who are starting their own busine
 ss. A maximum of 20 YPs can participate.Member Cost:$5 online (to save
  your seat) then an additional $20 at the doorNo walk-insNon-Member Co
 st:$10 online (to save your seat) then an additional $20 at the doorNo
  walk-insCost includes:3 course meal (apps served family style, entree
 , dessert), non-alcoholic beverages, tax and tip.You will pay for drin
 ks from the bar as you want them.Tickets:There are a limited number of
  Tickets for sale. Tickets are not mailed, but your name will be kept 
 at the door. All sales are final.Finding the Group:Ask the hostess for
  the NJYP reservation once you arrive.Dinner begins promptly at 7pm.Di
 rections:http://www.famishedfrog.com/content/view/15/26/Various street
  parking and a GIANT parking deck behind The Frog.\n\nFor more informa
 tion visit http://njyp.org/events/table-for-twenty-business
DTSTART;TZID=America/New_York:20110323T190000
DTEND;TZID=America/New_York:20110323T210000
CATEGORIES:"morris county", social, networking
LOCATION:The Famished Frog
WEBSITE:http://www.famishedfrog.com/content/view/15/26/
URL:http://www.famishedfrog.com/content/view/15/26/
CONTACT:
ORGANIZER;CN="Brian and Mike":http://njyp.org/profile/BrianMike
ATTACH;FMTTYPE="image/jpeg":http://storage.ning.com/topology/rest/1.0/
 file/get/1088681195?profile=original
ATTENDEE;ROLE=REQ-PARTICIPANT;PARTSTAT=ACCEPTED;RSVP=TRUE;CN=Thomas:ht
 tp://njyp.org/profile/Thomas511
ATTENDEE;ROLE=REQ-PARTICIPANT;PARTSTAT=ACCEPTED;RSVP=TRUE;CN="Lon Hech
 t":http://njyp.org/profile/LonHecht
ATTENDEE;ROLE=REQ-PARTICIPANT;PARTSTAT=ACCEPTED;RSVP=TRUE;CN="Noelle S
 tary":http://njyp.org/profile/NoelleStary
ATTENDEE;ROLE=REQ-PARTICIPANT;PARTSTAT=ACCEPTED;RSVP=TRUE;CN=Eric:http
 ://njyp.org/profile/Eric884
ATTENDEE;ROLE=REQ-PARTICIPANT;PARTSTAT=ACCEPTED;RSVP=TRUE;CN=MISTI:htt
 p://njyp.org/profile/MISTI
ATTENDEE;ROLE=REQ-PARTICIPANT;PARTSTAT=ACCEPTED;RSVP=TRUE;CN=David:htt
 p://njyp.org/profile/David212
ATTENDEE;ROLE=REQ-PARTICIPANT;PARTSTAT=ACCEPTED;RSVP=TRUE;CN=Brian:htt
 p://njyp.org/profile/BrianWeber
ATTENDEE;ROLE=REQ-PARTICIPANT;PARTSTAT=ACCEPTED;RSVP=TRUE;CN=Dave:http
 ://njyp.org/profile/Dave
ATTENDEE;ROLE=REQ-PARTICIPANT;PARTSTAT=ACCEPTED;RSVP=TRUE;CN="Michael 
 Petracca":http://njyp.org/profile/MichaelPetracca
ATTENDEE;ROLE=REQ-PARTICIPANT;PARTSTAT=ACCEPTED;RSVP=TRUE;CN="Brian an
 d Mike":http://njyp.org/profile/BrianMike
ATTENDEE;ROLE=REQ-PARTICIPANT;PARTSTAT=TENTATIVE;RSVP=TRUE;CN="Sherri 
 K":http://njyp.org/profile/SherriKaufman
ATTENDEE;ROLE=REQ-PARTICIPANT;PARTSTAT=TENTATIVE;RSVP=TRUE;CN=Tei:http
 ://njyp.org/profile/Tei
ATTENDEE;ROLE=REQ-PARTICIPANT;PARTSTAT=TENTATIVE;RSVP=TRUE;CN=Charles:
 http://njyp.org/profile/Charles
ATTENDEE;ROLE=REQ-PARTICIPANT;PARTSTAT=TENTATIVE;RSVP=TRUE;CN=Andrea:h
 ttp://njyp.org/profile/Andrea222
ATTENDEE;ROLE=REQ-PARTICIPANT;PARTSTAT=TENTATIVE;RSVP=TRUE;CN=Jun:http
 ://njyp.org/profile/Jun
ATTENDEE;ROLE=REQ-PARTICIPANT;PARTSTAT=TENTATIVE;RSVP=TRUE;CN="Claudia
  Persichilli":http://njyp.org/profile/ClaudiaPersichilli
ATTENDEE;ROLE=REQ-PARTICIPANT;PARTSTAT=TENTATIVE;RSVP=TRUE;CN=Stan:htt
 p://njyp.org/profile/slouissaint
ATTENDEE;ROLE=REQ-PARTICIPANT;PARTSTAT=TENTATIVE;RSVP=TRUE;CN="james m
 ikusi":http://njyp.org/profile/jimbox
ATTENDEE;ROLE=REQ-PARTICIPANT;PARTSTAT=TENTATIVE;RSVP=TRUE;CN=Justine:
 http://njyp.org/profile/Justine
END:VEVENT
END:VCALENDAR
