BEGIN:VCALENDAR
PRODID:NingEventWidget-v1
VERSION:2.0
METHOD:PUBLISH
BEGIN:VTIMEZONE
TZID:America/New_York
X-LIC-LOCATION:America/New_York
BEGIN:DAYLIGHT
TZOFFSETFROM:-0500
TZOFFSETTO:-0400
TZNAME:EDT
DTSTART:19700308T020000
RRULE:FREQ=YEARLY;BYMONTH=3;BYDAY=2SU
END:DAYLIGHT
BEGIN:STANDARD
TZOFFSETFROM:-0400
TZOFFSETTO:-0500
TZNAME:EST
DTSTART:19701101T020000
RRULE:FREQ=YEARLY;BYMONTH=11;BYDAY=1SU
END:STANDARD
END:VTIMEZONE
BEGIN:VEVENT
UID:2938326:Event:534547
DTSTAMP:20260421T033728Z
SUMMARY:The Amazing Easter Egg Scavenger Hunt (Sponsored)
DESCRIPTION:     Join us in celebrating Easter in NYC with an old f
 ashioned Easter Egg Hunt in a new technology way! Using an app, you wi
 ll figure out clues, perform challenges and have a blast searching for
  Easter Eggs around NYC.\n\n     POGO Events The Amazing New York S
 cavenger Hunt is part scavenger hunt, part obstacle course and ALL NEW
  YORK. A series of clues leads you around the city performing physical
  and mental challenges along the way.\n\n     Each member of the wi
 nning team receives a New York City gift package. The hunt takes three
  hours. Please wear comfortable shoes and bring a Metrocard. One membe
 r of the team should have a smart phone (either Android or I-Phone). T
 he hunt is run through an app called ScanQuest. Please download that b
 efore you come to the event.\n\n     It is a great way to connect w
 ith friends or meet new ones.\n\n     To register go to www.pogoeve
 nts.com and click on the date of the Easter Egg Hunt on our calendar. 
  Cost is $20 per person.\n\n     The Adults Only Hunt will be from
  5pm to 8pm starting and ending at Libation (137 Ludlow Street)\n4:3
 0pm to 5pm - Registration\n5pm to 8pm - Hunt\n8pm to 8:30pm - Winne
 rs announced\n   \n     In addition to this Adults Only Egg Hunt 
 there will be a Kid Friendly one is from 1pm to 4pm starting and en
 ding at Sony Center (550 Madison). \n12:30pm to 1pm - Registration\n
 1pm to 4pm - Hunt\n 4pm to 4:30pm - Winners announced\n\nPlease not
 e this is a sponsored event. If you wish to meet up with other NJYP Me
 mbers please post on the event wall.\n\nFor more information visit htt
 p://njyp.org/events/the-amazing-easter-egg-scavenger-hunt-sponsored
DTSTART;TZID=America/New_York:20140426T170000
DTEND;TZID=America/New_York:20140426T200000
CATEGORIES:"hudson county", social, athletic
LOCATION:Libation
WEBSITE:http://www.pogoevents.com
URL:http://www.pogoevents.com
CONTACT:
ORGANIZER;CN=Admin:http://njyp.org/profile/Admin
ATTACH;FMTTYPE="image/jpeg":http://storage.ning.com/topology/rest/1.0/
 file/get/1088943878?profile=original
ATTENDEE;ROLE=REQ-PARTICIPANT;PARTSTAT=ACCEPTED;RSVP=TRUE;CN=Melissa:h
 ttp://njyp.org/profile/Melissa27
ATTENDEE;ROLE=REQ-PARTICIPANT;PARTSTAT=ACCEPTED;RSVP=TRUE;CN=Hema:http
 ://njyp.org/profile/Hema
ATTENDEE;ROLE=REQ-PARTICIPANT;PARTSTAT=ACCEPTED;RSVP=TRUE;CN=Admin:htt
 p://njyp.org/profile/Admin
ATTENDEE;ROLE=REQ-PARTICIPANT;PARTSTAT=TENTATIVE;RSVP=TRUE;CN=Joseph:h
 ttp://njyp.org/profile/JosephTakach
ATTENDEE;ROLE=REQ-PARTICIPANT;PARTSTAT=TENTATIVE;RSVP=TRUE;CN=Imel:htt
 p://njyp.org/profile/Imel
ATTENDEE;ROLE=REQ-PARTICIPANT;PARTSTAT=TENTATIVE;RSVP=TRUE;CN=Kaitlyn:
 http://njyp.org/profile/Kaitlyn666
ATTENDEE;ROLE=REQ-PARTICIPANT;PARTSTAT=TENTATIVE;RSVP=TRUE;CN=Alexis:h
 ttp://njyp.org/profile/Alexis808
ATTENDEE;ROLE=REQ-PARTICIPANT;PARTSTAT=TENTATIVE;RSVP=TRUE;CN=Jentora:
 http://njyp.org/profile/Jentora
ATTENDEE;ROLE=REQ-PARTICIPANT;PARTSTAT=TENTATIVE;RSVP=TRUE;CN="Heidi K
 olb":http://njyp.org/profile/HeidiKolb
END:VEVENT
END:VCALENDAR
