BEGIN:VCALENDAR
PRODID:NingEventWidget-v1
VERSION:2.0
METHOD:PUBLISH
BEGIN:VTIMEZONE
TZID:America/New_York
X-LIC-LOCATION:America/New_York
BEGIN:DAYLIGHT
TZOFFSETFROM:-0500
TZOFFSETTO:-0400
TZNAME:EDT
DTSTART:19700308T020000
RRULE:FREQ=YEARLY;BYMONTH=3;BYDAY=2SU
END:DAYLIGHT
BEGIN:STANDARD
TZOFFSETFROM:-0400
TZOFFSETTO:-0500
TZNAME:EST
DTSTART:19701101T020000
RRULE:FREQ=YEARLY;BYMONTH=11;BYDAY=1SU
END:STANDARD
END:VTIMEZONE
BEGIN:VEVENT
UID:2938326:Event:322233
DTSTAMP:20260419T155633Z
SUMMARY:The Ultimate Pink Floyd Tribute Band - The Machine
DESCRIPTION:America’s top Pink Floyd tribute band performs a diverse
  mix of The Floyd’s extensive repertoire -- complete with faithful r
 enditions of popular hits as well as obscure gems -- with stellar musi
 cianship, dramatic lighting and video, and passionate delivery that se
 ts them above other Floyd tribute bands. Cost:Special YP Price $25 (re
 gularly $42)Price includes ticket to event, seating with other YPers a
 nd entry into the Happy Hour where you can network and mingle with oth
 er YPers. Please note that the Happy Hourwill be held in our newly ren
 ovated balcony lobby. Light fare and 1st drink free are included at th
 e Happy Hour. How to order tickets:www.mayoarts.org or (973) 539-8008
  and use code 12YPWho can attend:Any young professional, ages 21 to 39
 .Schedule:6:30 pm Happy Hour (in newly renovated balcony lobby - use f
 ront Theatre entrance for access to balcony lobby)8 pm PerformanceHow 
 to find the group:Use the front Theatre entrance to get to the balcony
  lobby.Directions:http://www.mayoarts.org/parking.htm\n\nFor more info
 rmation visit http://njyp.org/events/the-ultimate-pink-floyd-tribute-b
 and-the-machine
DTSTART;TZID=America/New_York:20120309T183000
DTEND;TZID=America/New_York:20120309T220000
CATEGORIES:"morris county", arts
LOCATION:Mayo Performing Arts Center
WEBSITE:http://www.mayoarts.org/
URL:http://www.mayoarts.org/
CONTACT:
ORGANIZER;CN="Brian and Mike":http://njyp.org/profile/BrianMike
ATTACH;FMTTYPE="image/jpeg":http://storage.ning.com/topology/rest/1.0/
 file/get/1088758495?profile=original
ATTENDEE;ROLE=REQ-PARTICIPANT;PARTSTAT=ACCEPTED;RSVP=TRUE;CN=Joseph:ht
 tp://njyp.org/profile/Joseph736
ATTENDEE;ROLE=REQ-PARTICIPANT;PARTSTAT=ACCEPTED;RSVP=TRUE;CN="eefrin a
 ka \"E\"":http://njyp.org/profile/Eefrin
ATTENDEE;ROLE=REQ-PARTICIPANT;PARTSTAT=ACCEPTED;RSVP=TRUE;CN=Brian:htt
 p://njyp.org/profile/Brian125
ATTENDEE;ROLE=REQ-PARTICIPANT;PARTSTAT=ACCEPTED;RSVP=TRUE;CN=Anne:http
 ://njyp.org/profile/AnneMinkoff
ATTENDEE;ROLE=REQ-PARTICIPANT;PARTSTAT=ACCEPTED;RSVP=TRUE;CN="Brian an
 d Mike":http://njyp.org/profile/BrianMike
ATTENDEE;ROLE=REQ-PARTICIPANT;PARTSTAT=TENTATIVE;RSVP=TRUE;CN=Dejan:ht
 tp://njyp.org/profile/Dejan
ATTENDEE;ROLE=REQ-PARTICIPANT;PARTSTAT=TENTATIVE;RSVP=TRUE;CN=Rebecca:
 http://njyp.org/profile/Rebecca772
ATTENDEE;ROLE=REQ-PARTICIPANT;PARTSTAT=TENTATIVE;RSVP=TRUE;CN=Robert:h
 ttp://njyp.org/profile/Robert882
END:VEVENT
END:VCALENDAR
