BEGIN:VCALENDAR
PRODID:NingEventWidget-v1
VERSION:2.0
METHOD:PUBLISH
BEGIN:VTIMEZONE
TZID:America/New_York
X-LIC-LOCATION:America/New_York
BEGIN:DAYLIGHT
TZOFFSETFROM:-0500
TZOFFSETTO:-0400
TZNAME:EDT
DTSTART:19700308T020000
RRULE:FREQ=YEARLY;BYMONTH=3;BYDAY=2SU
END:DAYLIGHT
BEGIN:STANDARD
TZOFFSETFROM:-0400
TZOFFSETTO:-0500
TZNAME:EST
DTSTART:19701101T020000
RRULE:FREQ=YEARLY;BYMONTH=11;BYDAY=1SU
END:STANDARD
END:VTIMEZONE
BEGIN:VEVENT
UID:2938326:Event:5299
DTSTAMP:20260420T055833Z
SUMMARY:The Wallflowers
DESCRIPTION:Enjoy making new friends at our exclusive YP Happy Hour wh
 ile rocking out to the music from one of your favorite bands from the 
 90’s, The Wallflowers. It’s the ultimate Young Professionals night
  at The Community Theatre in Morristown!\n\nThe Wallflowers:\nLed by J
 akob Dylan, these Grammy-nominated rockers stand out for innovative ly
 rics, powerful musicianship and imaginative storytelling on such hits 
 as “6th Avenue Heartache,” “The Difference” and “One Headlig
 ht.”\n\nCheck out The Wallflowers on YouTube.\n\nSchedule:\nThe excl
 usive YP Happy Hour begins at 6:00 pm in the Starlight Room Performanc
 e begins at 8:00pm\n\nTickets:\n$39 package (a 20% savings) by phone o
 nly.\nYou will be seated with the YP Group.\nCall (973) 539-8008 and m
 ention code 10YPRO for tickets to the exclusive YP Happy Hour and The 
 Wallflowers performance.\n\nDirections:\nhttp://www.mayoarts.org/direc
 tions.htm.\n\nHow to find Everyone:\nArrive on time and ask for the St
 arlight Room at the Box Office.\n\nFor more information visit http://n
 jyp.org/events/the-wallflowers
DTSTART;TZID=America/New_York:20090708T180000
DTEND;TZID=America/New_York:20090708T220000
CATEGORIES:"morris county", arts
LOCATION:The Community Theatre
WEBSITE:http://www.mayoarts.org/directions.htm
URL:http://www.mayoarts.org/directions.htm
CONTACT:(973) 539-8008 and mention code 10YPRO
ORGANIZER;CN="Brian and Mike":http://njyp.org/profile/BrianMike
ATTACH;FMTTYPE="image/jpeg":http://storage.ning.com/topology/rest/1.0/
 file/get/1088536241?profile=original
ATTENDEE;ROLE=REQ-PARTICIPANT;PARTSTAT=ACCEPTED;RSVP=TRUE;CN="Damien D
 oherty":http://njyp.org/profile/DamienDoherty
ATTENDEE;ROLE=REQ-PARTICIPANT;PARTSTAT=ACCEPTED;RSVP=TRUE;CN="Jason Fl
 uegge":http://njyp.org/profile/JasonFluegge
ATTENDEE;ROLE=REQ-PARTICIPANT;PARTSTAT=ACCEPTED;RSVP=TRUE;CN="Virginia
  Roberts":http://njyp.org/profile/VirginiaRoberts
ATTENDEE;ROLE=REQ-PARTICIPANT;PARTSTAT=ACCEPTED;RSVP=TRUE;CN=Alex:http
 ://njyp.org/profile/Alex
ATTENDEE;ROLE=REQ-PARTICIPANT;PARTSTAT=ACCEPTED;RSVP=TRUE;CN="Karl  A 
 Kraus":http://njyp.org/profile/KarlAKraus
ATTENDEE;ROLE=REQ-PARTICIPANT;PARTSTAT=ACCEPTED;RSVP=TRUE;CN=Jen:http:
 //njyp.org/profile/Jen
ATTENDEE;ROLE=REQ-PARTICIPANT;PARTSTAT=ACCEPTED;RSVP=TRUE;CN="Brian an
 d Mike":http://njyp.org/profile/BrianMike
ATTENDEE;ROLE=REQ-PARTICIPANT;PARTSTAT=TENTATIVE;RSVP=TRUE;CN="Kristy 
 Lavin":http://njyp.org/profile/KristyLavin
ATTENDEE;ROLE=REQ-PARTICIPANT;PARTSTAT=TENTATIVE;RSVP=TRUE;CN=Kristen:
 http://njyp.org/profile/KristenVanEtten
ATTENDEE;ROLE=REQ-PARTICIPANT;PARTSTAT=TENTATIVE;RSVP=TRUE;CN="Kevin H
 aughwout":http://njyp.org/profile/KevinHaughwout
END:VEVENT
END:VCALENDAR
