BEGIN:VCALENDAR
PRODID:NingEventWidget-v1
VERSION:2.0
METHOD:PUBLISH
BEGIN:VTIMEZONE
TZID:America/New_York
X-LIC-LOCATION:America/New_York
BEGIN:DAYLIGHT
TZOFFSETFROM:-0500
TZOFFSETTO:-0400
TZNAME:EDT
DTSTART:19700308T020000
RRULE:FREQ=YEARLY;BYMONTH=3;BYDAY=2SU
END:DAYLIGHT
BEGIN:STANDARD
TZOFFSETFROM:-0400
TZOFFSETTO:-0500
TZNAME:EST
DTSTART:19701101T020000
RRULE:FREQ=YEARLY;BYMONTH=11;BYDAY=1SU
END:STANDARD
END:VTIMEZONE
BEGIN:VEVENT
UID:2938326:Event:14455
DTSTAMP:20260422T214429Z
SUMMARY:Theatre Night in NYC
DESCRIPTION:It is Theatre Night with NJYP! We have arranged for all me
 mbers of NJYP to receive discounted tickets to see the hilarious New J
 ersey based musical, THE TOXIC AVENGER in NYC. This night out is going
  to start with an after work Meet and Greet at the Time Out NY Lounge 
 followed directly by the performance. So, if you are looking for a gre
 at Friday night out in the city RSVP and grab your tickets before the 
 show sells out!\n\nAbout the Show:\nNow starring Diana DeGarmo from Am
 erican Idol!\nThe Toxic Avenger is a charming love story and an award-
 winning, laugh-out-loud musical. Featuring music from Bon Jovi‘s Dav
 id Bryan and a freakin’ hilarious story, it’s got a smokin’ onst
 age rock band, a corrupt New Jersey mayor, a gorgeous blind librarian,
  her monstrous toxic boyfriend, and two guys who play…well, everyone
  else. Don’t miss the show that guarantees easily 1,000 laughs!\n\nS
 chedule:\n6:30 to 7:30 Meet and Greet in the Time Out NY Lounge\n8:00 
 Toxic Avenger Begins\n\nSeating:\nWe cannot guarantee you will be sitt
 ing together as a group. Please buy your ticket with friends if you do
  not want to sit alone or contact others who RSVP. When you call the b
 ox office you can ask to see if they can sit you by others who used th
 e code below.\n\nCost*:\n$45 for select orchestra seats\n$35 for rear 
 orchestra seats.\nRegular price is $71.50/$51.50.\n\nThree Easy Ways t
 o Get Your Discounted Tickets:\n1. ONLINE: Click here or visit Broadwa
 yOffers.com and use code TONJPUP8\n2. BY PHONE: Call (212) 947-8844 an
 d use code TONJPUP8\n3. IN PERSON: Bring this page to the New World St
 ages Box Office, 340 West 50th Street (Between 8th and 9th Aves).\n\nN
 JYP Host:\nWe need a host for this event. Hosting is SUPER easy and fu
 n!\nEmail Laura@NJYP.org if you are going to attend and can help us ou
 t by hosting.\n\nHow to Find the Group:\nFrom 630 to 730 we will Meet 
 and Greet at the bar. Please look for NJYP signs.\n\nDirections:\nhttp
 ://toxiefans.com/page/directions-1\nThe Time Out NY Lounge is downstai
 rs in the New World Stages Theatre.\n\nAlso:\nYou can’t make this sh
 ow? You can still use the discount as the offer is valid for select pe
 rformances thru 9/27/09. Please call the box office to find out more.\
 n\n* $45 for select orchestra seats; $35 for rear orchestra seats. Thi
 s offer is valid for select performances thru 9/27/09 and is subject t
 o availability. Regular price is $71.50/$51.50. Not valid on prior pur
 chase. Offer cannot be combined with other discounts or Promotions: bl
 ackout dates and restrictions may apply. Limit eight (8) tickets per o
 rder. No refunds or exchanges. Offer may be revoked at any time.\n\nFo
 r more information visit http://njyp.org/events/theatre-night-in-nyc
DTSTART;TZID=America/New_York:20090918T183000
DTEND;TZID=America/New_York:20090918T220000
CATEGORIES:social, arts
LOCATION:New World Stages AND Time Out NY Lounge (same address)
WEBSITE:http://toxiefans.com/page/directions-1
URL:http://toxiefans.com/page/directions-1
CONTACT:
ORGANIZER;CN="Brian and Mike":http://njyp.org/profile/BrianMike
ATTACH;FMTTYPE="image/jpeg":http://storage.ning.com/topology/rest/1.0/
 file/get/1088549982?profile=original
ATTENDEE;ROLE=REQ-PARTICIPANT;PARTSTAT=ACCEPTED;RSVP=TRUE;CN="Kevin J.
  Plunkett":http://njyp.org/profile/KevinJPlunkett
ATTENDEE;ROLE=REQ-PARTICIPANT;PARTSTAT=ACCEPTED;RSVP=TRUE;CN="Megan Wi
 lliams":http://njyp.org/profile/MeganWilliams
ATTENDEE;ROLE=REQ-PARTICIPANT;PARTSTAT=TENTATIVE;RSVP=TRUE;CN=John:htt
 p://njyp.org/profile/JohnCoviello
ATTENDEE;ROLE=REQ-PARTICIPANT;PARTSTAT=TENTATIVE;RSVP=TRUE;CN="Heidi K
 olb":http://njyp.org/profile/HeidiKolb
ATTENDEE;ROLE=REQ-PARTICIPANT;PARTSTAT=TENTATIVE;RSVP=TRUE;CN="Lillian
  T.":http://njyp.org/profile/LillianT
ATTENDEE;ROLE=REQ-PARTICIPANT;PARTSTAT=TENTATIVE;RSVP=TRUE;CN="Kristin
  Kopec":http://njyp.org/profile/KristinKopec
ATTENDEE;ROLE=REQ-PARTICIPANT;PARTSTAT=TENTATIVE;RSVP=TRUE;CN="Lisa F"
 :http://njyp.org/profile/LisaF
ATTENDEE;ROLE=REQ-PARTICIPANT;PARTSTAT=TENTATIVE;RSVP=TRUE;CN="rachel 
 irene":http://njyp.org/profile/rachel_irene
ATTENDEE;ROLE=REQ-PARTICIPANT;PARTSTAT=TENTATIVE;RSVP=TRUE;CN="Alycia 
 Yerves":http://njyp.org/profile/AlyciaYerves
ATTENDEE;ROLE=REQ-PARTICIPANT;PARTSTAT=TENTATIVE;RSVP=TRUE;CN="Kelly J
 ones":http://njyp.org/profile/KellyJones
ATTENDEE;ROLE=REQ-PARTICIPANT;PARTSTAT=TENTATIVE;RSVP=TRUE;CN=Lizzie:h
 ttp://njyp.org/profile/ElizabethKuhns
END:VEVENT
END:VCALENDAR
