BEGIN:VCALENDAR
PRODID:NingEventWidget-v1
VERSION:2.0
METHOD:PUBLISH
BEGIN:VTIMEZONE
TZID:America/New_York
X-LIC-LOCATION:America/New_York
BEGIN:DAYLIGHT
TZOFFSETFROM:-0500
TZOFFSETTO:-0400
TZNAME:EDT
DTSTART:19700308T020000
RRULE:FREQ=YEARLY;BYMONTH=3;BYDAY=2SU
END:DAYLIGHT
BEGIN:STANDARD
TZOFFSETFROM:-0400
TZOFFSETTO:-0500
TZNAME:EST
DTSTART:19701101T020000
RRULE:FREQ=YEARLY;BYMONTH=11;BYDAY=1SU
END:STANDARD
END:VTIMEZONE
BEGIN:VEVENT
UID:2938326:Event:1416
DTSTAMP:20260420T042939Z
SUMMARY:Theatre ROCKS! The Full Monty
DESCRIPTION:What does theatre for the Young Professional look like? Pi
 cture discounted premium seats to the performance followed by a privat
 e reception just for you and your peers. You may even get free drinks 
 and food and the chance to meet the cast and crew!\n\nAbout The Full M
 onty:\n(From Paper Mill Playhouse’s description)\n“In this musical
  adaptation of the Academy Award-winning comedy, a group of down-on-th
 eir-luck steelworkers figure out how they can make some cash in a flas
 h. The result is a raucous delight that promises to leave a lasting im
 pression!”\n\nThis is going to be the most fun you’ll have all Jun
 e! We’ll start out with an after-work, pre-show thing at 6:30. The s
 how happens at 8, and then we’re taking the party down the street to
  Martini’s.\n\nWhat is Theatre Rocks!:\nTheatre ROCKS! is a program 
 of the NJ Theatre Alliance specifically designed for Young Professiona
 ls who enjoy theatre but can't afford to go as often as they might lik
 e. Each Theatre ROCKS! event is specially priced at $25 which includes
  a theatre ticket, and a private reception where you can mingle with o
 ther Theatre ROCKERS, as well as the cast and crew of the play. Each T
 heatre ROCKS party is themed to the performance.\n\nSchedule:\nRight a
 fter work, 6:30pm for the party.\nThe show is at 8pm, followed by afte
 r-party at Martini’s.\n\nTickets:\n$25 in advance, $35 at the door\n
 Call 973.376.4343 and mention Theatre ROCKS! for tickets and the after
 -party. Price includes performance, pre-show reception, and after-show
  specials\n\nWarning:\nIf you do not purchase a ticket specifically fo
 r Theatre ROCKS!, there will be an additional $10 charge for admission
  to the party, regardless of the cost of your ticket.\n\nDirections:\n
 Visit Paper Mill Playhouse's Directions page\n\nFor more information v
 isit http://njyp.org/events/theatre-rocks-the-full-monty
DTSTART;TZID=America/New_York:20090619T183000
DTEND;TZID=America/New_York:20090619T220000
CATEGORIES:"essex county", arts
LOCATION:Papermill Playhouse
WEBSITE:http://www.papermill.org/visit/directions.php
URL:http://www.papermill.org/visit/directions.php
CONTACT:
ORGANIZER;CN="Brian and Mike":http://njyp.org/profile/BrianMike
ATTACH;FMTTYPE="image/jpeg":http://storage.ning.com/topology/rest/1.0/
 file/get/1088518851?profile=original
ATTENDEE;ROLE=REQ-PARTICIPANT;PARTSTAT=ACCEPTED;RSVP=TRUE;CN=Danielle:
 http://njyp.org/profile/DanielleSteckler
ATTENDEE;ROLE=REQ-PARTICIPANT;PARTSTAT=ACCEPTED;RSVP=TRUE;CN="Erin Eli
 zabeth Stiehl":http://njyp.org/profile/ErinElizabethStiehl
ATTENDEE;ROLE=REQ-PARTICIPANT;PARTSTAT=ACCEPTED;RSVP=TRUE;CN="Rob Rizz
 o":http://njyp.org/profile/RobertRizzoJr
ATTENDEE;ROLE=REQ-PARTICIPANT;PARTSTAT=ACCEPTED;RSVP=TRUE;CN=Maris:htt
 p://njyp.org/profile/Maris
ATTENDEE;ROLE=REQ-PARTICIPANT;PARTSTAT=ACCEPTED;RSVP=TRUE;CN="Brian an
 d Mike":http://njyp.org/profile/BrianMike
ATTENDEE;ROLE=REQ-PARTICIPANT;PARTSTAT=TENTATIVE;RSVP=TRUE;CN="Lisa F"
 :http://njyp.org/profile/LisaF
ATTENDEE;ROLE=REQ-PARTICIPANT;PARTSTAT=TENTATIVE;RSVP=TRUE;CN="Kendall
  R.":http://njyp.org/profile/KR
ATTENDEE;ROLE=REQ-PARTICIPANT;PARTSTAT=TENTATIVE;RSVP=TRUE;CN=Dove1925
 :http://njyp.org/profile/Dove1925
ATTENDEE;ROLE=REQ-PARTICIPANT;PARTSTAT=TENTATIVE;RSVP=TRUE;CN="Heidi K
 olb":http://njyp.org/profile/HeidiKolb
ATTENDEE;ROLE=REQ-PARTICIPANT;PARTSTAT=TENTATIVE;RSVP=TRUE;CN="Kate Ke
 nnedy":http://njyp.org/profile/KateKennedy
END:VEVENT
END:VCALENDAR
