BEGIN:VCALENDAR
PRODID:NingEventWidget-v1
VERSION:2.0
METHOD:PUBLISH
BEGIN:VTIMEZONE
TZID:America/New_York
X-LIC-LOCATION:America/New_York
BEGIN:DAYLIGHT
TZOFFSETFROM:-0500
TZOFFSETTO:-0400
TZNAME:EDT
DTSTART:19700308T020000
RRULE:FREQ=YEARLY;BYMONTH=3;BYDAY=2SU
END:DAYLIGHT
BEGIN:STANDARD
TZOFFSETFROM:-0400
TZOFFSETTO:-0500
TZNAME:EST
DTSTART:19701101T020000
RRULE:FREQ=YEARLY;BYMONTH=11;BYDAY=1SU
END:STANDARD
END:VTIMEZONE
BEGIN:VEVENT
UID:2938326:Event:715412
DTSTAMP:20260419T190342Z
SUMMARY:FREE Thirsty Thursday in Montclair
DESCRIPTION:\nFREE\nJoin NJYPers for drinks and food in Montclair at J
 ust Jakes for happy hour. Network with dozens of young professionals f
 or FREE.\nNJYP-only Drink and Food Specials: \n$2 off selected pints 
 & bottles until 8PM 1/2 price drinks (excl. top shelf) until 8PM $8 pi
 tchers of Miller Lite starting 8PM $4 well drinks starting 8PM $5 bomb
 s Food specials TBA\n Who can attend: Young professionals, single or 
 married, who are 21-39 years of age. Expect people to walk up to you 
 to introduce themselves and feel free to walk up to others who you do 
 not know. Newbies are at EVERY NJYP event so if this is your first, yo
 u won't be alone.  How to get there: Just Jakes is in Montclair. The 
 venue is <10 min walking from the train, and parking at meters is free
  starting at 7:00PM. See directions here: DIRECTIONS\n How to find t
 he group: We will meet in a private area--there will be signs.\n\n\nF
 or more information visit http://njyp.org/events/thirsty-thursday-in-m
 ontclair
DTSTART;TZID=America/New_York:20160526T190000
DTEND;TZID=America/New_York:20160526T211500
CATEGORIES:"essex county", social, wednesday, party, private, specials
LOCATION:Just Jakes
WEBSITE:http://www.justjakes.com/
URL:http://www.justjakes.com/
CONTACT:
ORGANIZER;CN="Michael Park":http://njyp.org/profile/MichaelPark
ATTACH;FMTTYPE="image/jpeg":http://storage.ning.com/topology/rest/1.0/
 file/get/1089077145?profile=original
ATTENDEE;ROLE=REQ-PARTICIPANT;PARTSTAT=ACCEPTED;RSVP=TRUE;CN=Pamela:ht
 tp://njyp.org/profile/Pamela487
ATTENDEE;ROLE=REQ-PARTICIPANT;PARTSTAT=ACCEPTED;RSVP=TRUE;CN=Alex:http
 ://njyp.org/profile/Alex163
ATTENDEE;ROLE=REQ-PARTICIPANT;PARTSTAT=ACCEPTED;RSVP=TRUE;CN="Jeffrey 
 Gates":http://njyp.org/profile/JeffreyGates
ATTENDEE;ROLE=REQ-PARTICIPANT;PARTSTAT=ACCEPTED;RSVP=TRUE;CN="Brian Me
 lnick":http://njyp.org/profile/Brian1218
ATTENDEE;ROLE=REQ-PARTICIPANT;PARTSTAT=ACCEPTED;RSVP=TRUE;CN=Kim:http:
 //njyp.org/profile/Kim17
ATTENDEE;ROLE=REQ-PARTICIPANT;PARTSTAT=ACCEPTED;RSVP=TRUE;CN=Judith:ht
 tp://njyp.org/profile/Judith
ATTENDEE;ROLE=REQ-PARTICIPANT;PARTSTAT=ACCEPTED;RSVP=TRUE;CN=Jovitha:h
 ttp://njyp.org/profile/Jovitha
ATTENDEE;ROLE=REQ-PARTICIPANT;PARTSTAT=ACCEPTED;RSVP=TRUE;CN=Jesus:htt
 p://njyp.org/profile/Jesus
ATTENDEE;ROLE=REQ-PARTICIPANT;PARTSTAT=ACCEPTED;RSVP=TRUE;CN=Jarrell:h
 ttp://njyp.org/profile/Jarrell
ATTENDEE;ROLE=REQ-PARTICIPANT;PARTSTAT=ACCEPTED;RSVP=TRUE;CN="Marisa N
 ogueira":http://njyp.org/profile/Marisa
ATTENDEE;ROLE=REQ-PARTICIPANT;PARTSTAT=ACCEPTED;RSVP=TRUE;CN=Vishal:ht
 tp://njyp.org/profile/Vishal
ATTENDEE;ROLE=REQ-PARTICIPANT;PARTSTAT=ACCEPTED;RSVP=TRUE;CN="Michael 
 Park":http://njyp.org/profile/MichaelPark
ATTENDEE;ROLE=REQ-PARTICIPANT;PARTSTAT=TENTATIVE;RSVP=TRUE;CN=Michael:
 http://njyp.org/profile/Michael190
ATTENDEE;ROLE=REQ-PARTICIPANT;PARTSTAT=TENTATIVE;RSVP=TRUE;CN=Julie:ht
 tp://njyp.org/profile/Julie942
ATTENDEE;ROLE=REQ-PARTICIPANT;PARTSTAT=TENTATIVE;RSVP=TRUE;CN="Catheri
 ne Valero":http://njyp.org/profile/CatherineValero
ATTENDEE;ROLE=REQ-PARTICIPANT;PARTSTAT=TENTATIVE;RSVP=TRUE;CN="Jorge D
 ":http://njyp.org/profile/JorgeD
ATTENDEE;ROLE=REQ-PARTICIPANT;PARTSTAT=TENTATIVE;RSVP=TRUE;CN="Melissa
  Ann Keogh":http://njyp.org/profile/MelissaAnnKeogh
ATTENDEE;ROLE=REQ-PARTICIPANT;PARTSTAT=TENTATIVE;RSVP=TRUE;CN=Stefanie
 :http://njyp.org/profile/Stefanie47
ATTENDEE;ROLE=REQ-PARTICIPANT;PARTSTAT=TENTATIVE;RSVP=TRUE;CN=Damien:h
 ttp://njyp.org/profile/DamienCaillault
ATTENDEE;ROLE=REQ-PARTICIPANT;PARTSTAT=TENTATIVE;RSVP=TRUE;CN=Kevin:ht
 tp://njyp.org/profile/Kevin164
END:VEVENT
END:VCALENDAR
