BEGIN:VCALENDAR
PRODID:NingEventWidget-v1
VERSION:2.0
METHOD:PUBLISH
BEGIN:VTIMEZONE
TZID:America/New_York
X-LIC-LOCATION:America/New_York
BEGIN:DAYLIGHT
TZOFFSETFROM:-0500
TZOFFSETTO:-0400
TZNAME:EDT
DTSTART:19700308T020000
RRULE:FREQ=YEARLY;BYMONTH=3;BYDAY=2SU
END:DAYLIGHT
BEGIN:STANDARD
TZOFFSETFROM:-0400
TZOFFSETTO:-0500
TZNAME:EST
DTSTART:19701101T020000
RRULE:FREQ=YEARLY;BYMONTH=11;BYDAY=1SU
END:STANDARD
END:VTIMEZONE
BEGIN:VEVENT
UID:2938326:Event:708119
DTSTAMP:20260419T235700Z
SUMMARY:Thirsty Thursday in New Brunswick
DESCRIPTION:\nUpdate: We had 34 attendees for the Thurs HH, great time
 s! Check out the pics in the NJYP album\nMember Cost: $3 online (NO Ev
 entbrite Fee!), $3 at the door\nNon-Member Cost: $4 online (plus $0.9
 9), $5 at the door\nEnjoy Thirsty Thursday in New Brunswick at Harves
 t Moon with dozens of young professionals!\nEvent fee gives you a guar
 anteed good crowd to mix with in our reserved area, plus NJYP-only Dri
 nk and Food Specials: \n$2 off all house beers 20% off all food order
 ed\nWe will have section on the right after you walk in the building, 
 can't miss it.  Who can attend: Young professionals, single or married
 , who are 21-39 years of age. Expect people to walk up to you to intr
 oduce themselves and feel free to walk up to others who you do not kno
 w. Newbies are at EVERY NJYP event so if this is your first, you won't
  be alone.\n Tickets: All sales are final. A limited number of ticket
 s will be sold.  This event is rain or shine.  How to get there: htt
 p://www.harvestmoonbrewery.com/directions/\n\n\nFor more information v
 isit http://njyp.org/events/thirsty-thursday-in-new-brunswick-1
DTSTART;TZID=America/New_York:20160114T183000
DTEND;TZID=America/New_York:20160114T203000
CATEGORIES:"middlesex county", social, thirsty, thursday, party, priva
 te, specials
LOCATION:Harvest Moon
WEBSITE:
URL:
CONTACT:Brian Melnick
ORGANIZER;CN="Michael Park":http://njyp.org/profile/MichaelPark
ATTACH;FMTTYPE="image/jpeg":http://storage.ning.com/topology/rest/1.0/
 file/get/1089084732?profile=original
ATTENDEE;ROLE=REQ-PARTICIPANT;PARTSTAT=ACCEPTED;RSVP=TRUE;CN=Keith:htt
 p://njyp.org/profile/Keith873
ATTENDEE;ROLE=REQ-PARTICIPANT;PARTSTAT=ACCEPTED;RSVP=TRUE;CN=Deep:http
 ://njyp.org/profile/Deep
ATTENDEE;ROLE=REQ-PARTICIPANT;PARTSTAT=ACCEPTED;RSVP=TRUE;CN=Mike:http
 ://njyp.org/profile/Mike568
ATTENDEE;ROLE=REQ-PARTICIPANT;PARTSTAT=ACCEPTED;RSVP=TRUE;CN="Jeffrey 
 Key":http://njyp.org/profile/JeffreyKey
ATTENDEE;ROLE=REQ-PARTICIPANT;PARTSTAT=ACCEPTED;RSVP=TRUE;CN="Brian Me
 lnick":http://njyp.org/profile/Brian1218
ATTENDEE;ROLE=REQ-PARTICIPANT;PARTSTAT=ACCEPTED;RSVP=TRUE;CN=Anjali:ht
 tp://njyp.org/profile/Anjali841
ATTENDEE;ROLE=REQ-PARTICIPANT;PARTSTAT=ACCEPTED;RSVP=TRUE;CN="Michael 
 Park":http://njyp.org/profile/MichaelPark
ATTENDEE;ROLE=REQ-PARTICIPANT;PARTSTAT=TENTATIVE;RSVP=TRUE;CN=Jonathan
 :http://njyp.org/profile/Jonathan590
ATTENDEE;ROLE=REQ-PARTICIPANT;PARTSTAT=TENTATIVE;RSVP=TRUE;CN=Chris:ht
 tp://njyp.org/profile/Chris179
ATTENDEE;ROLE=REQ-PARTICIPANT;PARTSTAT=TENTATIVE;RSVP=TRUE;CN=Olivia:h
 ttp://njyp.org/profile/Olivia178
ATTENDEE;ROLE=REQ-PARTICIPANT;PARTSTAT=TENTATIVE;RSVP=TRUE;CN=Jose:htt
 p://njyp.org/profile/JoseRebustesIII
ATTENDEE;ROLE=REQ-PARTICIPANT;PARTSTAT=TENTATIVE;RSVP=TRUE;CN=Jennie:h
 ttp://njyp.org/profile/junglebunnie
ATTENDEE;ROLE=REQ-PARTICIPANT;PARTSTAT=TENTATIVE;RSVP=TRUE;CN=Janet:ht
 tp://njyp.org/profile/Janet
ATTENDEE;ROLE=REQ-PARTICIPANT;PARTSTAT=TENTATIVE;RSVP=TRUE;CN=Damien:h
 ttp://njyp.org/profile/DamienCaillault
ATTENDEE;ROLE=REQ-PARTICIPANT;PARTSTAT=TENTATIVE;RSVP=TRUE;CN="Janet S
 tevens":http://njyp.org/profile/JanetStevens
ATTENDEE;ROLE=REQ-PARTICIPANT;PARTSTAT=TENTATIVE;RSVP=TRUE;CN=Kevin:ht
 tp://njyp.org/profile/Kevin164
END:VEVENT
END:VCALENDAR
