BEGIN:VCALENDAR
PRODID:NingEventWidget-v1
VERSION:2.0
METHOD:PUBLISH
BEGIN:VTIMEZONE
TZID:America/New_York
X-LIC-LOCATION:America/New_York
BEGIN:DAYLIGHT
TZOFFSETFROM:-0500
TZOFFSETTO:-0400
TZNAME:EDT
DTSTART:19700308T020000
RRULE:FREQ=YEARLY;BYMONTH=3;BYDAY=2SU
END:DAYLIGHT
BEGIN:STANDARD
TZOFFSETFROM:-0400
TZOFFSETTO:-0500
TZNAME:EST
DTSTART:19701101T020000
RRULE:FREQ=YEARLY;BYMONTH=11;BYDAY=1SU
END:STANDARD
END:VTIMEZONE
BEGIN:VEVENT
UID:2938326:Event:707637
DTSTAMP:20260422T101619Z
SUMMARY:Thirsty Thursday in Parsippany
DESCRIPTION:\nMember Cost:Â $2 online (NO Eventbrite Fee!),Â $3 at the
  door\nNon-Member Cost:Â $3 online (plus $0.99),Â $5 at the door\nJoin
  us for Thirsty Thursday at Pure Parsippany!\nEvent fee gives you a gu
 aranteed good crowd to mix with in our reserved area, plusÂ \nNJYP-onl
 y Drink and Food Specials:Â  Drinks: $5 Mixed Well Drinks ($2 suppleme
 nt for martinis and specialty cocktails); $4 Red Sangria; $5 Draft Bee
 r; $3 Domestic Bottles; $6 Wine: Riesling, Pinot Grigio, Pinot Noir, C
 abernet Sauvignon\nFood: $7 6 Blue Point Oysters; $4 Steamed Edamame; 
 $6 Vegetable Spring Rolls; $6 Gyoza (chicken); $6 Short Rib Slides (2)
 ; $7 Thai Chili Wings; $9 Fire & Ice Shrimp; $10 Calamari; $5 Spicy Sa
 lmon Roll; $6 California Roll; $6 Shrimp Tempura Roll\n\nWho can atten
 d:Â Young professionals, single or married, 21-39 years of age.  Ticke
 ts:Â All sales are final.Â A limited number of tickets will be sold.Â 
 This event is rain or shine.\n What to expect:Â Our Happy Hours are ve
 ry casual. We will have a host check you in. Expect people to walk up 
 to you to introduce themselves and feel free to walk up to others who 
 you do not know. Newbies are at EVERY NJYP event so if this is your fi
 rst, you won't be alone.  Directions:Â http://www.pureparsippany.com/Â
  Parking lot next to the Holiday Inn.\n\n\nFor more information visit 
 http://njyp.org/events/thirsty-thursday-in-parsippany
DTSTART;TZID=America/New_York:20151203T183000
DTEND;TZID=America/New_York:20151203T203000
CATEGORIES:"morris county", social, members, happy, hour, parsippany, 
 specials
LOCATION:Pure Parsippany
WEBSITE:http://www.pureparsippany.com/
URL:http://www.pureparsippany.com/
CONTACT:Host: Brian Melnick
ORGANIZER;CN="Michael Park":http://njyp.org/profile/MichaelPark
ATTACH;FMTTYPE="image/jpeg":http://storage.ning.com/topology/rest/1.0/
 file/get/1089090364?profile=original
ATTENDEE;ROLE=REQ-PARTICIPANT;PARTSTAT=ACCEPTED;RSVP=TRUE;CN=Steven:ht
 tp://njyp.org/profile/Steven66
ATTENDEE;ROLE=REQ-PARTICIPANT;PARTSTAT=ACCEPTED;RSVP=TRUE;CN=JR:http:/
 /njyp.org/profile/JR
ATTENDEE;ROLE=REQ-PARTICIPANT;PARTSTAT=ACCEPTED;RSVP=TRUE;CN="Jay Bee"
 :http://njyp.org/profile/JayBee
ATTENDEE;ROLE=REQ-PARTICIPANT;PARTSTAT=ACCEPTED;RSVP=TRUE;CN="Jeffrey 
 Gates":http://njyp.org/profile/JeffreyGates
ATTENDEE;ROLE=REQ-PARTICIPANT;PARTSTAT=ACCEPTED;RSVP=TRUE;CN=Deep:http
 ://njyp.org/profile/Deep
ATTENDEE;ROLE=REQ-PARTICIPANT;PARTSTAT=ACCEPTED;RSVP=TRUE;CN="John She
 a":http://njyp.org/profile/JohnShea
ATTENDEE;ROLE=REQ-PARTICIPANT;PARTSTAT=ACCEPTED;RSVP=TRUE;CN=Janet:htt
 p://njyp.org/profile/Janet
ATTENDEE;ROLE=REQ-PARTICIPANT;PARTSTAT=ACCEPTED;RSVP=TRUE;CN=Jeff:http
 ://njyp.org/profile/Jeff77
ATTENDEE;ROLE=REQ-PARTICIPANT;PARTSTAT=ACCEPTED;RSVP=TRUE;CN=Michael:h
 ttp://njyp.org/profile/Michael190
ATTENDEE;ROLE=REQ-PARTICIPANT;PARTSTAT=ACCEPTED;RSVP=TRUE;CN="Chintan 
 Kamdar":http://njyp.org/profile/Chintan
ATTENDEE;ROLE=REQ-PARTICIPANT;PARTSTAT=ACCEPTED;RSVP=TRUE;CN=Andrew:ht
 tp://njyp.org/profile/Andrew670
ATTENDEE;ROLE=REQ-PARTICIPANT;PARTSTAT=ACCEPTED;RSVP=TRUE;CN="Ashley P
 ark":http://njyp.org/profile/AshleyPark
ATTENDEE;ROLE=REQ-PARTICIPANT;PARTSTAT=ACCEPTED;RSVP=TRUE;CN="Brian Me
 lnick":http://njyp.org/profile/Brian1218
ATTENDEE;ROLE=REQ-PARTICIPANT;PARTSTAT=ACCEPTED;RSVP=TRUE;CN=Erica:htt
 p://njyp.org/profile/Erica105
ATTENDEE;ROLE=REQ-PARTICIPANT;PARTSTAT=ACCEPTED;RSVP=TRUE;CN=Megs:http
 ://njyp.org/profile/Megs
ATTENDEE;ROLE=REQ-PARTICIPANT;PARTSTAT=ACCEPTED;RSVP=TRUE;CN=James:htt
 p://njyp.org/profile/JamesShow
ATTENDEE;ROLE=REQ-PARTICIPANT;PARTSTAT=ACCEPTED;RSVP=TRUE;CN="Michael 
 Park":http://njyp.org/profile/MichaelPark
ATTENDEE;ROLE=REQ-PARTICIPANT;PARTSTAT=TENTATIVE;RSVP=TRUE;CN=Jennifer
 :http://njyp.org/profile/Jennifer949
ATTENDEE;ROLE=REQ-PARTICIPANT;PARTSTAT=TENTATIVE;RSVP=TRUE;CN=Tim:http
 ://njyp.org/profile/Tim297
ATTENDEE;ROLE=REQ-PARTICIPANT;PARTSTAT=TENTATIVE;RSVP=TRUE;CN=Alex:htt
 p://njyp.org/profile/Alex985
ATTENDEE;ROLE=REQ-PARTICIPANT;PARTSTAT=TENTATIVE;RSVP=TRUE;CN=Michelle
 :http://njyp.org/profile/MichelleBell
ATTENDEE;ROLE=REQ-PARTICIPANT;PARTSTAT=TENTATIVE;RSVP=TRUE;CN=Will:htt
 p://njyp.org/profile/William
ATTENDEE;ROLE=REQ-PARTICIPANT;PARTSTAT=TENTATIVE;RSVP=TRUE;CN=Damien:h
 ttp://njyp.org/profile/DamienCaillault
ATTENDEE;ROLE=REQ-PARTICIPANT;PARTSTAT=TENTATIVE;RSVP=TRUE;CN=Katie:ht
 tp://njyp.org/profile/Katie192
ATTENDEE;ROLE=REQ-PARTICIPANT;PARTSTAT=TENTATIVE;RSVP=TRUE;CN="Stephan
 ie Zalewski":http://njyp.org/profile/StephanieZalewski
ATTENDEE;ROLE=REQ-PARTICIPANT;PARTSTAT=TENTATIVE;RSVP=TRUE;CN=Kevin:ht
 tp://njyp.org/profile/Kevin164
END:VEVENT
END:VCALENDAR
