BEGIN:VCALENDAR
PRODID:NingEventWidget-v1
VERSION:2.0
METHOD:PUBLISH
BEGIN:VTIMEZONE
TZID:America/New_York
X-LIC-LOCATION:America/New_York
BEGIN:DAYLIGHT
TZOFFSETFROM:-0500
TZOFFSETTO:-0400
TZNAME:EDT
DTSTART:19700308T020000
RRULE:FREQ=YEARLY;BYMONTH=3;BYDAY=2SU
END:DAYLIGHT
BEGIN:STANDARD
TZOFFSETFROM:-0400
TZOFFSETTO:-0500
TZNAME:EST
DTSTART:19701101T020000
RRULE:FREQ=YEARLY;BYMONTH=11;BYDAY=1SU
END:STANDARD
END:VTIMEZONE
BEGIN:VEVENT
UID:2938326:Event:716356
DTSTAMP:20260422T051247Z
SUMMARY:Thirsty Thursday with Diageo in Hoboken
DESCRIPTION:\nEnjoyÂ Thirsty ThursdayÂ in Hoboken at Cadillac Cantina!
 Â Diageo is the leader in premium alcohol with brands includingÂ Ciroc
 , Ketel One,Â J&B, Windsor, Buchanan, Smirnoff, Baileys, Captain Morga
 n, Tanqueray, and Guinness,Â Johnnie Walker, and Crown Royal. They wil
 l be there to provide samples and specials!\nMember Cost:Â $5 online,Â
  $6 at the door\nNon-Member Cost:Â $6 online,Â $8 at the door\nEvent f
 ee gives you a guaranteed good crowd to mix with in our reserved area,
  plusÂ NJYP-only Drink and Food Specials: Deeply discounted beers and 
 mixed drinks, including Diageo-specific specials:\n$5 basic cocktails:
  Ketel One, Captain Morgan, Crown Royal, Don Julio, and Guinness\n$8 s
 pecialty cocktails:\nSpiked Palmer (Ketel Citroen, Sweet Tea, Club Sod
 a, Garnish Lemon and Mint)\nKetel One Dirty Martini (Dutch Mule, Ketel
  One, Ginger beer, lime juice)\n\nCaptains Punch (Captain Morgan, Peac
 h Schnapps, Cranberry, Pineapple)\nCrown Royal Flush (Crown Royal, Pea
 ch Schnapps, cranberry, Pineapple)\n\nCrown Appletini (Crown Royal app
 le, Sour Mix, Splash of Sprite)\nRoyal Old Fashioned (Crown Royal, das
 h of bitters, simple syrup)\nJalapeno Spiced margaritaÂ (Don Julio Bla
 nco, Triple Sec, Lime Juice, Muddled JalapeÃ±os, Splash of OJ)\nMexica
 n Mule (Don Julio, Ginger Beer, JalapeÃ±os, Lime Juice)\n\n\n\n Who ca
 n attend:Â Young professionals, single or married, who are 21-39 years
  of age. We cordially invite Moishe House of Hoboken!\n Tickets:Â All 
 sales areÂ final. A limited number of tickets will be sold. This event
  is rain or shine.  How to get there: Cadillac CantinaÂ is in Hoboken 
 right by the PATH/NJ Transit trainsÂ \n How to find the group:Â We wil
 l meet in the backroom private--there will be signs.\nÂ \nÂ \n\nFor mo
 re information visit http://njyp.org/events/thirsty-thursday-with-diag
 eo-in-hoboken
DTSTART;TZID=America/New_York:20160421T193000
DTEND;TZID=America/New_York:20160421T220000
CATEGORIES:"hudson county", social, fall, winter, party, fest, private
 , specials
LOCATION:Cadillac Cantina Hoboken
WEBSITE:
URL:
CONTACT:Brian Melnick
ORGANIZER;CN="Michael Park":http://njyp.org/profile/MichaelPark
ATTACH;FMTTYPE="image/jpeg":http://storage.ning.com/topology/rest/1.0/
 file/get/1089112652?profile=original
ATTENDEE;ROLE=REQ-PARTICIPANT;PARTSTAT=ACCEPTED;RSVP=TRUE;CN=Erica:htt
 p://njyp.org/profile/Erica
ATTENDEE;ROLE=REQ-PARTICIPANT;PARTSTAT=ACCEPTED;RSVP=TRUE;CN="Amit Ram
 jee":http://njyp.org/profile/AmitRamjee
ATTENDEE;ROLE=REQ-PARTICIPANT;PARTSTAT=ACCEPTED;RSVP=TRUE;CN=Emil:http
 ://njyp.org/profile/Emil912
ATTENDEE;ROLE=REQ-PARTICIPANT;PARTSTAT=ACCEPTED;RSVP=TRUE;CN="Michael 
 Park":http://njyp.org/profile/MichaelPark
ATTENDEE;ROLE=REQ-PARTICIPANT;PARTSTAT=ACCEPTED;RSVP=TRUE;CN=Grace:htt
 p://njyp.org/profile/Grace24
ATTENDEE;ROLE=REQ-PARTICIPANT;PARTSTAT=ACCEPTED;RSVP=TRUE;CN=Chris:htt
 p://njyp.org/profile/Chris959
ATTENDEE;ROLE=REQ-PARTICIPANT;PARTSTAT=TENTATIVE;RSVP=TRUE;CN="Jeffrey
  Key":http://njyp.org/profile/JeffreyKey
END:VEVENT
END:VCALENDAR
