BEGIN:VCALENDAR
PRODID:NingEventWidget-v1
VERSION:2.0
METHOD:PUBLISH
BEGIN:VTIMEZONE
TZID:America/New_York
X-LIC-LOCATION:America/New_York
BEGIN:DAYLIGHT
TZOFFSETFROM:-0500
TZOFFSETTO:-0400
TZNAME:EDT
DTSTART:19700308T020000
RRULE:FREQ=YEARLY;BYMONTH=3;BYDAY=2SU
END:DAYLIGHT
BEGIN:STANDARD
TZOFFSETFROM:-0400
TZOFFSETTO:-0500
TZNAME:EST
DTSTART:19701101T020000
RRULE:FREQ=YEARLY;BYMONTH=11;BYDAY=1SU
END:STANDARD
END:VTIMEZONE
BEGIN:VEVENT
UID:2938326:Event:373615
DTSTAMP:20260419T235700Z
SUMMARY:Trenton Happy Hour CANCELED
DESCRIPTION:Sorry, this was canceled due to lack of interest.\n\nYour 
 local Happy Hour is back on the calendar and this time we are back at 
 Trenton Social. Join other NJYPers at this member’s only mix & mingl
 e event. As always, there is no cover, plus there will be great specia
 ls to keep the drinks and the laughter flowing. Whether this is your f
 irst event or your fiftieth, you will find yourself surrounded by frie
 ndly faces and future friends.  Who can attend: Members who are 21-39 
 years old. Please make sure you paid your dues before you attend. 1 i
 tem minimum per person.  What to expect: Our Happy Hours are very casu
 al. There are no sign-in tables, no name tags, and no ice breakers. Ex
 pect people to walk up to you to introduce themselves and feel free to
  walk up to others who you do not know. Newbies are at EVERY NJYP even
 t so if this is your first, you won't be alone.  Specials: $5 Wines $2
  Domestic drafts  How to find the group: Meet us at the bar of course.
  Look for signs or ask staff but know we may be the only ones there.  
 Directions:\nhttp://www.trentonsocial.com/index.php\n\nFor more inform
 ation visit http://njyp.org/events/trenton-happy-hour-2
DTSTART;TZID=America/New_York:20120919T180000
DTEND;TZID=America/New_York:20120919T200000
CATEGORIES:"mercer county", social, members
LOCATION:Trenton Social
WEBSITE:http://www.trentonsocial.com/
URL:http://www.trentonsocial.com/
CONTACT:
ORGANIZER;CN="Brian and Mike":http://njyp.org/profile/BrianMike
ATTACH;FMTTYPE="image/jpeg":http://storage.ning.com/topology/rest/1.0/
 file/get/1088681370?profile=original
ATTENDEE;ROLE=REQ-PARTICIPANT;PARTSTAT=ACCEPTED;RSVP=TRUE;CN=Vinny:htt
 p://njyp.org/profile/Vinny
ATTENDEE;ROLE=REQ-PARTICIPANT;PARTSTAT=ACCEPTED;RSVP=TRUE;CN="Anthony 
 Gatto":http://njyp.org/profile/AnthonyGatto
ATTENDEE;ROLE=REQ-PARTICIPANT;PARTSTAT=ACCEPTED;RSVP=TRUE;CN=Mike:http
 ://njyp.org/profile/Mike42
ATTENDEE;ROLE=REQ-PARTICIPANT;PARTSTAT=ACCEPTED;RSVP=TRUE;CN=Elizabeth
 :http://njyp.org/profile/ElizabethWilliams
ATTENDEE;ROLE=REQ-PARTICIPANT;PARTSTAT=ACCEPTED;RSVP=TRUE;CN=James:htt
 p://njyp.org/profile/JamesShow
ATTENDEE;ROLE=REQ-PARTICIPANT;PARTSTAT=ACCEPTED;RSVP=TRUE;CN=sarah:htt
 p://njyp.org/profile/sarah84
ATTENDEE;ROLE=REQ-PARTICIPANT;PARTSTAT=ACCEPTED;RSVP=TRUE;CN=Celeste:h
 ttp://njyp.org/profile/Celeste
ATTENDEE;ROLE=REQ-PARTICIPANT;PARTSTAT=TENTATIVE;RSVP=TRUE;CN="Kevin P
 . Hallam":http://njyp.org/profile/KevinPHallam
ATTENDEE;ROLE=REQ-PARTICIPANT;PARTSTAT=TENTATIVE;RSVP=TRUE;CN=VIVEK:ht
 tp://njyp.org/profile/VIVEK441
ATTENDEE;ROLE=REQ-PARTICIPANT;PARTSTAT=TENTATIVE;RSVP=TRUE;CN="Jamie K
 ":http://njyp.org/profile/JamieK
ATTENDEE;ROLE=REQ-PARTICIPANT;PARTSTAT=TENTATIVE;RSVP=TRUE;CN="Lorrain
 e Weitz":http://njyp.org/profile/LorraineWeitz
ATTENDEE;ROLE=REQ-PARTICIPANT;PARTSTAT=TENTATIVE;RSVP=TRUE;CN=WL:http:
 //njyp.org/profile/WaheedaLillevik
ATTENDEE;ROLE=REQ-PARTICIPANT;PARTSTAT=TENTATIVE;RSVP=TRUE;CN=David:ht
 tp://njyp.org/profile/David714
ATTENDEE;ROLE=REQ-PARTICIPANT;PARTSTAT=TENTATIVE;RSVP=TRUE;CN=Katie:ht
 tp://njyp.org/profile/Katie168
ATTENDEE;ROLE=REQ-PARTICIPANT;PARTSTAT=TENTATIVE;RSVP=TRUE;CN="Kevin H
 aughwout":http://njyp.org/profile/KevinHaughwout
ATTENDEE;ROLE=REQ-PARTICIPANT;PARTSTAT=TENTATIVE;RSVP=TRUE;CN=Lindsay:
 http://njyp.org/profile/Lindsay
ATTENDEE;ROLE=REQ-PARTICIPANT;PARTSTAT=TENTATIVE;RSVP=TRUE;CN="Jennife
 r L. Campbell":http://njyp.org/profile/JenniferLCampbell
ATTENDEE;ROLE=REQ-PARTICIPANT;PARTSTAT=TENTATIVE;RSVP=TRUE;CN=Brian:ht
 tp://njyp.org/profile/Brian246
END:VEVENT
END:VCALENDAR
