BEGIN:VCALENDAR
PRODID:NingEventWidget-v1
VERSION:2.0
METHOD:PUBLISH
BEGIN:VTIMEZONE
TZID:America/New_York
X-LIC-LOCATION:America/New_York
BEGIN:DAYLIGHT
TZOFFSETFROM:-0500
TZOFFSETTO:-0400
TZNAME:EDT
DTSTART:19700308T020000
RRULE:FREQ=YEARLY;BYMONTH=3;BYDAY=2SU
END:DAYLIGHT
BEGIN:STANDARD
TZOFFSETFROM:-0400
TZOFFSETTO:-0500
TZNAME:EST
DTSTART:19701101T020000
RRULE:FREQ=YEARLY;BYMONTH=11;BYDAY=1SU
END:STANDARD
END:VTIMEZONE
BEGIN:VEVENT
UID:2938326:Event:10853
DTSTAMP:20260420T234342Z
SUMMARY:Tribute Show: Beatles Bash
DESCRIPTION:Jersey Summer Beatles Bash III\nGlen Burtnik & Friends\n\n
 Glen Burtnik and friends are back for the ever-popular and third strai
 ght Beatles Bash. This summer, Burtnik & friends conquer Abbey Road no
 te-for-note on its 40th Anniversary. Featuring special guest Beatlegra
 s. Happy Hour begins at 6:30pm. Tix, video, info…\n\nTickets:\n$25 (
 for the $47 tickets) if you mention NJYP.\nContact Nora Duffy when ord
 ering. nduffy@StateTheatreNJ.org or 732-247-7200, ext. 536.\n\nHow to 
 Find the Group:\nThis is not a “Group” event nor will you all be s
 eated together. Grab a friend or a group of friends and take advantage
  of the NJYP discount!\n\nFor more information visit http://njyp.org/e
 vents/tribute-show-beatles-bash
DTSTART;TZID=America/New_York:20090725T200000
DTEND;TZID=America/New_York:20090725T220000
CATEGORIES:"middlesex county", arts
LOCATION:State Theatre
WEBSITE:http://www.statetheatrenj.org/ticketing/calendarevents/show.as
 p?id=20015948
URL:http://www.statetheatrenj.org/ticketing/calendarevents/show.asp?id
 =20015948
CONTACT:732-247-7200, ext. 536
ORGANIZER;CN="Brian and Mike":http://njyp.org/profile/BrianMike
ATTACH;FMTTYPE="image/jpeg":http://storage.ning.com/topology/rest/1.0/
 file/get/1088542187?profile=original
ATTENDEE;ROLE=REQ-PARTICIPANT;PARTSTAT=ACCEPTED;RSVP=TRUE;CN="Brian an
 d Mike":http://njyp.org/profile/BrianMike
END:VEVENT
END:VCALENDAR
