BEGIN:VCALENDAR
PRODID:NingEventWidget-v1
VERSION:2.0
METHOD:PUBLISH
BEGIN:VTIMEZONE
TZID:America/New_York
X-LIC-LOCATION:America/New_York
BEGIN:DAYLIGHT
TZOFFSETFROM:-0500
TZOFFSETTO:-0400
TZNAME:EDT
DTSTART:19700308T020000
RRULE:FREQ=YEARLY;BYMONTH=3;BYDAY=2SU
END:DAYLIGHT
BEGIN:STANDARD
TZOFFSETFROM:-0400
TZOFFSETTO:-0500
TZNAME:EST
DTSTART:19701101T020000
RRULE:FREQ=YEARLY;BYMONTH=11;BYDAY=1SU
END:STANDARD
END:VTIMEZONE
BEGIN:VEVENT
UID:2938326:Event:10850
DTSTAMP:20260420T143415Z
SUMMARY:Tribute Show: Billy Joel
DESCRIPTION:The Music of Billy Joel and More\nAn Evening With Michael 
 Cavanaugh\n\nThe Piano Man from Broadway’s smash-hit Movin’ Out an
 d his full band will rock your evening as they perform your favorite B
 illy Joel songs and hits from artists like Elton John, The Beatles, Th
 e Who, and more. Tix, video, info…\n\nTickets:\n$25 (for the $42 tic
 kets) if you mention NJYP.\nContact Nora Duffy when ordering. nduffy@S
 tateTheatreNJ.org or 732-247-7200, ext. 536.\n\nHow to Find the Group:
 \nThis is not a “Group” event nor will you all be seated together.
  Grab a friend or a group of friends and take advantage of the NJYP di
 scount!\n\nFor more information visit http://njyp.org/events/tribute-s
 how-billy-joel
DTSTART;TZID=America/New_York:20090716T200000
DTEND;TZID=America/New_York:20090716T220000
CATEGORIES:"middlesex county", arts
LOCATION:State Theatre
WEBSITE:http://www.statetheatrenj.org/ticketing/calendarevents/show.as
 p?id=20016083
URL:http://www.statetheatrenj.org/ticketing/calendarevents/show.asp?id
 =20016083
CONTACT:732-247-7200, ext. 536
ORGANIZER;CN="Brian and Mike":http://njyp.org/profile/BrianMike
ATTACH;FMTTYPE="image/jpeg":http://storage.ning.com/topology/rest/1.0/
 file/get/1088542094?profile=original
ATTENDEE;ROLE=REQ-PARTICIPANT;PARTSTAT=ACCEPTED;RSVP=TRUE;CN="Brian an
 d Mike":http://njyp.org/profile/BrianMike
END:VEVENT
END:VCALENDAR
