BEGIN:VCALENDAR
PRODID:NingEventWidget-v1
VERSION:2.0
METHOD:PUBLISH
BEGIN:VTIMEZONE
TZID:America/New_York
X-LIC-LOCATION:America/New_York
BEGIN:DAYLIGHT
TZOFFSETFROM:-0500
TZOFFSETTO:-0400
TZNAME:EDT
DTSTART:19700308T020000
RRULE:FREQ=YEARLY;BYMONTH=3;BYDAY=2SU
END:DAYLIGHT
BEGIN:STANDARD
TZOFFSETFROM:-0400
TZOFFSETTO:-0500
TZNAME:EST
DTSTART:19701101T020000
RRULE:FREQ=YEARLY;BYMONTH=11;BYDAY=1SU
END:STANDARD
END:VTIMEZONE
BEGIN:VEVENT
UID:2938326:Event:10847
DTSTAMP:20260420T161732Z
SUMMARY:Tribute Show: Bob Dylan
DESCRIPTION:The World’s Only Bob Dylan Tribute Show\nHighway 61 Revi
 sited\n\nFeaturing Original Bob Dylan Band Members: Violinst Scarlet R
 ivera, Bassist Rob Stoner, Drummer Winston Watson. Highway 61 Revisite
 d recreates Bob Dylan’s greatest music and stage shows, featuring th
 e songs that made Bob Dylan a cultural icon and legend: “Knockin’ 
 on Heaven’s Door,” “Like A Rolling Stone,” “Hurricane,” 
 Tangled Up in Blue,” and more. Happy Hour begins at 6:30pm. Tix, vi
 deo, info…\n\nTickets:\n$25 (for the $37 tickets) if you mention NJY
 P.\nContact Nora Duffy when ordering. nduffy@StateTheatreNJ.org or 732
 -247-7200, ext. 536.\n\nHow to Find the Group:\nThis is not a “Group
 ” event nor will you all be seated together. Grab a friend or a grou
 p of friends and take advantage of the NJYP discount!\n\nFor more info
 rmation visit http://njyp.org/events/tribute-show-bob-dylan
DTSTART;TZID=America/New_York:20090718T200000
DTEND;TZID=America/New_York:20090718T220000
CATEGORIES:"middlesex county", arts
LOCATION:State Theatre
WEBSITE:http://www.statetheatrenj.org/ticketing/calendarevents/show.as
 p?id=20016074
URL:http://www.statetheatrenj.org/ticketing/calendarevents/show.asp?id
 =20016074
CONTACT:732-247-7200, ext. 536
ORGANIZER;CN="Brian and Mike":http://njyp.org/profile/BrianMike
ATTACH;FMTTYPE="image/jpeg":http://storage.ning.com/topology/rest/1.0/
 file/get/1088541450?profile=original
ATTENDEE;ROLE=REQ-PARTICIPANT;PARTSTAT=ACCEPTED;RSVP=TRUE;CN="Brian an
 d Mike":http://njyp.org/profile/BrianMike
END:VEVENT
END:VCALENDAR
