BEGIN:VCALENDAR
PRODID:NingEventWidget-v1
VERSION:2.0
METHOD:PUBLISH
BEGIN:VTIMEZONE
TZID:America/New_York
X-LIC-LOCATION:America/New_York
BEGIN:DAYLIGHT
TZOFFSETFROM:-0500
TZOFFSETTO:-0400
TZNAME:EDT
DTSTART:19700308T020000
RRULE:FREQ=YEARLY;BYMONTH=3;BYDAY=2SU
END:DAYLIGHT
BEGIN:STANDARD
TZOFFSETFROM:-0400
TZOFFSETTO:-0500
TZNAME:EST
DTSTART:19701101T020000
RRULE:FREQ=YEARLY;BYMONTH=11;BYDAY=1SU
END:STANDARD
END:VTIMEZONE
BEGIN:VEVENT
UID:2938326:Event:538483
DTSTAMP:20260420T161705Z
SUMMARY:Trivia Night
DESCRIPTION:Time to don those thinking caps and put your useless knowl
 edge to the test at Trivia Night in Rumson. Come on out to Molly Magui
 re's and loosen up with a few games of bingo before moving on to the m
 ain event. We will form 1-2 NJYP teams to compete in 5 rounds of trivi
 a (different categories) each round having five questions. The trivia 
 champs will be awarded a prize before the night ends with some good ol
 'fashioned Name That Tune.Who should attend:This event is for dues pay
 ing Members only, http://www.njyp.org/page/pay-dues If you wish to b
 ring a guest please have them join NJYP first.Cost:Pay for what you or
 der. We require that everyone order at least one item.\nSpecials:$2.50
  Yuengling Pints$2 off all craft pints$1 off all craft beet bottles$3 
 Kracken (rum) drinksNJYP host:Email melanie@njyp.org if you are intere
 sted in hosting.Finding the Group:We will have an area of tables reser
 ved for us. Ask staff for NJYP once you arrive.Directions/Parking:http
 ://www.mollymaguiresblackpointinn.com/\n\nFor more information visit h
 ttp://njyp.org/events/trivia-night
DTSTART;TZID=America/New_York:20140416T184500
DTEND;TZID=America/New_York:20140416T213000
CATEGORIES:"monmouth county", social, members
LOCATION:Molly Maguire's
WEBSITE:http://www.mollymaguiresblackpointinn.com/
URL:http://www.mollymaguiresblackpointinn.com/
CONTACT:
ORGANIZER;CN="Brian and Mike":http://njyp.org/profile/BrianMike
ATTACH;FMTTYPE="image/jpeg":http://storage.ning.com/topology/rest/1.0/
 file/get/1088950859?profile=original
ATTENDEE;ROLE=REQ-PARTICIPANT;PARTSTAT=ACCEPTED;RSVP=TRUE;CN="Don Gast
 on":http://njyp.org/profile/DonGaston
ATTENDEE;ROLE=REQ-PARTICIPANT;PARTSTAT=ACCEPTED;RSVP=TRUE;CN=Andrew:ht
 tp://njyp.org/profile/AndrewYoung
ATTENDEE;ROLE=REQ-PARTICIPANT;PARTSTAT=ACCEPTED;RSVP=TRUE;CN=Mark:http
 ://njyp.org/profile/Mark863
ATTENDEE;ROLE=REQ-PARTICIPANT;PARTSTAT=ACCEPTED;RSVP=TRUE;CN=Cherise:h
 ttp://njyp.org/profile/Cherise
ATTENDEE;ROLE=REQ-PARTICIPANT;PARTSTAT=ACCEPTED;RSVP=TRUE;CN=Vinay:htt
 p://njyp.org/profile/Vinay961
ATTENDEE;ROLE=REQ-PARTICIPANT;PARTSTAT=ACCEPTED;RSVP=TRUE;CN=Jen:http:
 //njyp.org/profile/Jen824
ATTENDEE;ROLE=REQ-PARTICIPANT;PARTSTAT=ACCEPTED;RSVP=TRUE;CN=Nicole:ht
 tp://njyp.org/profile/Nicole267
ATTENDEE;ROLE=REQ-PARTICIPANT;PARTSTAT=TENTATIVE;RSVP=TRUE;CN=Janet:ht
 tp://njyp.org/profile/Janet
ATTENDEE;ROLE=REQ-PARTICIPANT;PARTSTAT=TENTATIVE;RSVP=TRUE;CN=John:htt
 p://njyp.org/profile/John141
ATTENDEE;ROLE=REQ-PARTICIPANT;PARTSTAT=TENTATIVE;RSVP=TRUE;CN=Michael:
 http://njyp.org/profile/Michael706
ATTENDEE;ROLE=REQ-PARTICIPANT;PARTSTAT=TENTATIVE;RSVP=TRUE;CN="Jacklyn
  Skenesky":http://njyp.org/profile/JacklynSkenesky
ATTENDEE;ROLE=REQ-PARTICIPANT;PARTSTAT=TENTATIVE;RSVP=TRUE;CN=Edward:h
 ttp://njyp.org/profile/EKotwica
ATTENDEE;ROLE=REQ-PARTICIPANT;PARTSTAT=TENTATIVE;RSVP=TRUE;CN="Michell
 e V.":http://njyp.org/profile/Michelle
ATTENDEE;ROLE=REQ-PARTICIPANT;PARTSTAT=TENTATIVE;RSVP=TRUE;CN=Ashley:h
 ttp://njyp.org/profile/Ashley788
ATTENDEE;ROLE=REQ-PARTICIPANT;PARTSTAT=TENTATIVE;RSVP=TRUE;CN="NIcole 
 Vinnal":http://njyp.org/profile/NIcoleVinnal
END:VEVENT
END:VCALENDAR
