BEGIN:VCALENDAR
PRODID:NingEventWidget-v1
VERSION:2.0
METHOD:PUBLISH
BEGIN:VTIMEZONE
TZID:America/New_York
X-LIC-LOCATION:America/New_York
BEGIN:DAYLIGHT
TZOFFSETFROM:-0500
TZOFFSETTO:-0400
TZNAME:EDT
DTSTART:19700308T020000
RRULE:FREQ=YEARLY;BYMONTH=3;BYDAY=2SU
END:DAYLIGHT
BEGIN:STANDARD
TZOFFSETFROM:-0400
TZOFFSETTO:-0500
TZNAME:EST
DTSTART:19701101T020000
RRULE:FREQ=YEARLY;BYMONTH=11;BYDAY=1SU
END:STANDARD
END:VTIMEZONE
BEGIN:VEVENT
UID:2938326:Event:10531
DTSTAMP:20260421T185246Z
SUMMARY:Tubing Down the Delaware
DESCRIPTION:I am sorry but due to lack of interest the Tubing Trip has
  been canceled. Refunds will be sent later today via Paypal.\n\nDo you
  want so spend a beautiful day outside with other Young Professionals?
  This is NJYP's 4th year running this hugely popular Tubing Trip! Expe
 ct tons of fun, tons of sun, splashing, swimming, beautiful scenery, a
 nd just an overall relaxing and exciting day on the water.\n\nWe will 
 begin with a \"Meet and Greet\" while we wait for everyone to park and
  sign-in. They will then bus us to the drop-off point on the river and
  we will begin our ride on the slow current. About mid-way down the ri
 ver we will stop for lunch at \"The Famous River Hotdog Man\" (include
 d in the price). After the meal we coast to the end of our voyage and 
 wrap up our lazy day on the river with a bus ride back to our cars. Th
 ere is an Optional \"on your own\" dinner/drinks event at Triumph Brew
 ery so bring directions and team up with your new river friends.\n\nPl
 ease Note:\nThis place is VERY busy on Saturdays so please be courteou
 s to everyone else and arrive on time (9:30am). Sometimes their parkin
 g gets backed up or people forget they will need extra time to get dre
 ssed and end up waiting on line at the changing room. If you are not t
 here and READY with your tube by 10am you may miss the bus.\n\nSchedul
 e:\n9:30 Sign-in and pick out tubes; Meet and Greet.\n10:00-2:00 Ride 
 down the River (estimated).\nTime on the river is 3-4 hours, depending
  on the current.\n\nTips and Tricks:\n* Wear footwear (required) that 
 can get very wet. You will lose your flip flops in the river so wear s
 omething that is snug.\n* Don’t bring sunglasses unless you have a s
 trap that will keep them on.\n* Come dressed in a bathing suit and alr
 eady wearing sun block.\n* Leave your towel in the car.\n* Drink lots 
 of water pre-trip, you will lose that water bottle!\n* A 3 foot piece 
 of rope can help in MANY ways!\n* Overall if you don't want it to get 
 wet, leave it in your car.\n* There are bathrooms and changing rooms s
 o bring dry clothes for after.\n* Life jackets and a key check will be
  provided at no additional cost.\n\nWho should attend:\nSingle and mar
 ried professionals who are 21-39 years old.\n\nMember Cost (includes t
 ax, key check, life jacket, buses, tube, and lunch):\n$35 online\n$40 
 at the door\n\nNon-Member cost (includes tax, key check, life jacket, 
 buses, tube, and lunch):\n$40 online and at the door\n\nPremium Member
  Cost (includes tax, key check, life jacket, buses, tube, and lunch):\
 n$30 online\n$40 at the door\n\nNote: The public pays $24.55 to tube d
 own the river. The cost for NJYP is higher to cover staff, promotion, 
 management, etc. Only if you buy ticket through NJYP will you be you p
 art of our drop-off on the river.\n\nLunch is included in the price:\n
 Lunch A (2 hotdogs, large beverage, candy bar or chips)\nLunch B (Chee
 seburger, large beverage, candy bar or chips)\nVeggies Burgers and wat
 er are available for an extra $2-$3 each, payable at the hotdog stand.
 \n\nPost Event Dinner and Beers (optional):\nWe are unofficially sugge
 sting that everyone meet up after Tubing. Please bring separate direct
 ions with you. Triumph Brewing Co, www.triumphbrewing.com\n\nDirection
 s to Tubing:\n78 West to Exit 15. Take Route 513 South for a very long
  time. This is a truck route so it twists and turns. Just keep followi
 ng signs for 513 South. From 513 you will take 29 South (which also tu
 rns so if you cross the Del. River you missed a turn) for 1 mile until
  you see Delaware River Tubing on your left. Just look for the boat pi
 ctured http://www.delawarerivertubing.com/Directions.html, you can't m
 iss it.\n\nParking:\n$6 per car so try to carpool!\n\nHow to find the 
 Group:\nWe will have a SEPARATE sign-in table!\n\nFor more information
  visit http://njyp.org/events/tubing-down-the-delaware
DTSTART;TZID=America/New_York:20090815T093000
DTEND;TZID=America/New_York:20090815T140000
CATEGORIES:"hunterdon county", social, athletic
LOCATION:Delaware River Tubing
WEBSITE:http://www.delawarerivertubing.com/Directions.html
URL:http://www.delawarerivertubing.com/Directions.html
CONTACT:
ORGANIZER;CN="Brian and Mike":http://njyp.org/profile/BrianMike
ATTACH;FMTTYPE="image/jpeg":http://storage.ning.com/topology/rest/1.0/
 file/get/1088546685?profile=original
ATTENDEE;ROLE=REQ-PARTICIPANT;PARTSTAT=ACCEPTED;RSVP=TRUE;CN="Lillian 
 T.":http://njyp.org/profile/LillianT
ATTENDEE;ROLE=REQ-PARTICIPANT;PARTSTAT=ACCEPTED;RSVP=TRUE;CN="Dennis L
 ee":http://njyp.org/profile/leeden
ATTENDEE;ROLE=REQ-PARTICIPANT;PARTSTAT=ACCEPTED;RSVP=TRUE;CN="Jenny M"
 :http://njyp.org/profile/JennyMulcahy
ATTENDEE;ROLE=REQ-PARTICIPANT;PARTSTAT=ACCEPTED;RSVP=TRUE;CN=Deborah:h
 ttp://njyp.org/profile/Deborah
ATTENDEE;ROLE=REQ-PARTICIPANT;PARTSTAT=ACCEPTED;RSVP=TRUE;CN=Tom:http:
 //njyp.org/profile/Thomas
ATTENDEE;ROLE=REQ-PARTICIPANT;PARTSTAT=ACCEPTED;RSVP=TRUE;CN="Neel Aro
 on":http://njyp.org/profile/NeelAroon
ATTENDEE;ROLE=REQ-PARTICIPANT;PARTSTAT=ACCEPTED;RSVP=TRUE;CN="April Mc
 Elwee":http://njyp.org/profile/AprilMcElwee
ATTENDEE;ROLE=REQ-PARTICIPANT;PARTSTAT=ACCEPTED;RSVP=TRUE;CN="Kevin J.
  Plunkett":http://njyp.org/profile/KevinJPlunkett
ATTENDEE;ROLE=REQ-PARTICIPANT;PARTSTAT=ACCEPTED;RSVP=TRUE;CN="NIcole V
 innal":http://njyp.org/profile/NIcoleVinnal
ATTENDEE;ROLE=REQ-PARTICIPANT;PARTSTAT=ACCEPTED;RSVP=TRUE;CN=Lizzie:ht
 tp://njyp.org/profile/ElizabethKuhns
ATTENDEE;ROLE=REQ-PARTICIPANT;PARTSTAT=ACCEPTED;RSVP=TRUE;CN="Melanie 
 Hazim":http://njyp.org/profile/MelanieHazim
ATTENDEE;ROLE=REQ-PARTICIPANT;PARTSTAT=ACCEPTED;RSVP=TRUE;CN="Brian an
 d Mike":http://njyp.org/profile/BrianMike
ATTENDEE;ROLE=REQ-PARTICIPANT;PARTSTAT=ACCEPTED;RSVP=TRUE;CN="Tony Pan
 ariello":http://njyp.org/profile/TonyPanariello
ATTENDEE;ROLE=REQ-PARTICIPANT;PARTSTAT=TENTATIVE;RSVP=TRUE;CN="Jesse B
 londin":http://njyp.org/profile/JesseBlondin
ATTENDEE;ROLE=REQ-PARTICIPANT;PARTSTAT=TENTATIVE;RSVP=TRUE;CN="Jacquel
 ine Durett":http://njyp.org/profile/JacquelineDurett
ATTENDEE;ROLE=REQ-PARTICIPANT;PARTSTAT=TENTATIVE;RSVP=TRUE;CN="John K.
 ":http://njyp.org/profile/skiandpilot
ATTENDEE;ROLE=REQ-PARTICIPANT;PARTSTAT=TENTATIVE;RSVP=TRUE;CN="Christi
 na Seigel":http://njyp.org/profile/ChristinaSeigel
ATTENDEE;ROLE=REQ-PARTICIPANT;PARTSTAT=TENTATIVE;RSVP=TRUE;CN="Karl  A
  Kraus":http://njyp.org/profile/KarlAKraus
ATTENDEE;ROLE=REQ-PARTICIPANT;PARTSTAT=TENTATIVE;RSVP=TRUE;CN=Laura:ht
 tp://njyp.org/profile/LauraStrzelecki
ATTENDEE;ROLE=REQ-PARTICIPANT;PARTSTAT=TENTATIVE;RSVP=TRUE;CN=John:htt
 p://njyp.org/profile/JohnCastro
ATTENDEE;ROLE=REQ-PARTICIPANT;PARTSTAT=TENTATIVE;RSVP=TRUE;CN="Anuj Ar
 ora":http://njyp.org/profile/AnujArora
ATTENDEE;ROLE=REQ-PARTICIPANT;PARTSTAT=TENTATIVE;RSVP=TRUE;CN="Christi
 ne Berry":http://njyp.org/profile/ChristineBerry
ATTENDEE;ROLE=REQ-PARTICIPANT;PARTSTAT=TENTATIVE;RSVP=TRUE;CN="Jennife
 r L. Campbell":http://njyp.org/profile/JenniferLCampbell
ATTENDEE;ROLE=REQ-PARTICIPANT;PARTSTAT=TENTATIVE;RSVP=TRUE;CN=Hannah:h
 ttp://njyp.org/profile/Hannah
ATTENDEE;ROLE=REQ-PARTICIPANT;PARTSTAT=TENTATIVE;RSVP=TRUE;CN="Leslie 
 Young":http://njyp.org/profile/wLeslieYoung
ATTENDEE;ROLE=REQ-PARTICIPANT;PARTSTAT=TENTATIVE;RSVP=TRUE;CN=Jen:http
 ://njyp.org/profile/JenM
ATTENDEE;ROLE=REQ-PARTICIPANT;PARTSTAT=TENTATIVE;RSVP=TRUE;CN=Danielle
 :http://njyp.org/profile/DanielleSteckler
ATTENDEE;ROLE=REQ-PARTICIPANT;PARTSTAT=TENTATIVE;RSVP=TRUE;CN="ILIA RO
 MERO":http://njyp.org/profile/ILIAROMERO
ATTENDEE;ROLE=REQ-PARTICIPANT;PARTSTAT=TENTATIVE;RSVP=TRUE;CN=Dharm:ht
 tp://njyp.org/profile/DharmeshMistry
ATTENDEE;ROLE=REQ-PARTICIPANT;PARTSTAT=TENTATIVE;RSVP=TRUE;CN="A D Y":
 http://njyp.org/profile/ADY
ATTENDEE;ROLE=REQ-PARTICIPANT;PARTSTAT=TENTATIVE;RSVP=TRUE;CN="Melissa
  M Hayes":http://njyp.org/profile/MelissaHayes
ATTENDEE;ROLE=REQ-PARTICIPANT;PARTSTAT=TENTATIVE;RSVP=TRUE;CN="Damien 
 Doherty":http://njyp.org/profile/DamienDoherty
ATTENDEE;ROLE=REQ-PARTICIPANT;PARTSTAT=TENTATIVE;RSVP=TRUE;CN="Rhandi 
 L":http://njyp.org/profile/RhandiL
ATTENDEE;ROLE=REQ-PARTICIPANT;PARTSTAT=TENTATIVE;RSVP=TRUE;CN=Helen:ht
 tp://njyp.org/profile/Helen
ATTENDEE;ROLE=REQ-PARTICIPANT;PARTSTAT=TENTATIVE;RSVP=TRUE;CN=Kevin:ht
 tp://njyp.org/profile/Kevin
ATTENDEE;ROLE=REQ-PARTICIPANT;PARTSTAT=TENTATIVE;RSVP=TRUE;CN="Kevin H
 aughwout":http://njyp.org/profile/KevinHaughwout
ATTENDEE;ROLE=REQ-PARTICIPANT;PARTSTAT=TENTATIVE;RSVP=TRUE;CN="rachel 
 irene":http://njyp.org/profile/rachel_irene
ATTENDEE;ROLE=REQ-PARTICIPANT;PARTSTAT=TENTATIVE;RSVP=TRUE;CN="Peter E
 skow":http://njyp.org/profile/PeterEskow
ATTENDEE;ROLE=REQ-PARTICIPANT;PARTSTAT=TENTATIVE;RSVP=TRUE;CN="Kendall
  R.":http://njyp.org/profile/KR
ATTENDEE;ROLE=REQ-PARTICIPANT;PARTSTAT=TENTATIVE;RSVP=TRUE;CN="Steven 
 Holtzman":http://njyp.org/profile/StevenHoltzman
ATTENDEE;ROLE=REQ-PARTICIPANT;PARTSTAT=TENTATIVE;RSVP=TRUE;CN=Jon:http
 ://njyp.org/profile/Jon
END:VEVENT
END:VCALENDAR
