BEGIN:VCALENDAR
PRODID:NingEventWidget-v1
VERSION:2.0
METHOD:PUBLISH
BEGIN:VTIMEZONE
TZID:America/New_York
X-LIC-LOCATION:America/New_York
BEGIN:DAYLIGHT
TZOFFSETFROM:-0500
TZOFFSETTO:-0400
TZNAME:EDT
DTSTART:19700308T020000
RRULE:FREQ=YEARLY;BYMONTH=3;BYDAY=2SU
END:DAYLIGHT
BEGIN:STANDARD
TZOFFSETFROM:-0400
TZOFFSETTO:-0500
TZNAME:EST
DTSTART:19701101T020000
RRULE:FREQ=YEARLY;BYMONTH=11;BYDAY=1SU
END:STANDARD
END:VTIMEZONE
BEGIN:VEVENT
UID:2938326:Event:33420
DTSTAMP:20260421T123403Z
SUMMARY:Union County Happy Hour
DESCRIPTION:Happy Hour is happening again in Union County and once aga
 in we are going to be at Solar do Minho! Join the members of NJYP as w
 e take over the bar at this beautiful and easy to get to restaurant. E
 xpect drink specials, young professionals, and a Happy Hour that might
  go on well into the night.\n\nWho should attend:\nAnyone who is 21-39
  years old.\n\nWhat to expect:\nOur Happy Hours are very casual. There
  are no sign-in tables, no name tags, and no ice breakers. Expect peop
 le to walk up to you to introduce themselves and feel free to walk up 
 to others who you do not know. Newbies are at EVERY NJYP event so if t
 his is your first, you won't be alone.\n\nDrink Specials:\n$2 Apple Ma
 rtinis, Long Island Ice Teas, and Cosmopolitans\nHalf off draft beer (
 Sam Adams, New Castle, Coors Light, Heineken)\n\nCost:\nFREE, but plea
 se RSVP so we know you are attending.\n\nNJYP Host:\nRachel O will be 
 hosting this event.\n\nFinding the Group:\nWe are going to be at the b
 ar of course! Ask for NJYP once you arrive if you are not sure who is 
 who.\n\nDirections:\nhttp://solardominho.com/\nFREE parking in their p
 rivate lot.\n\nFor more information visit http://njyp.org/events/union
 -county-happy-hour-2
DTSTART;TZID=America/New_York:20100114T180000
DTEND;TZID=America/New_York:20100114T200000
CATEGORIES:"union county", social
LOCATION:Solar do Minho
WEBSITE:http://solardominho.com/
URL:http://solardominho.com/
CONTACT:
ORGANIZER;CN="Brian and Mike":http://njyp.org/profile/BrianMike
ATTACH;FMTTYPE="image/jpeg":http://storage.ning.com/topology/rest/1.0/
 file/get/1088581943?profile=original
ATTENDEE;ROLE=REQ-PARTICIPANT;PARTSTAT=ACCEPTED;RSVP=TRUE;CN=Lizzie:ht
 tp://njyp.org/profile/ElizabethKuhns
ATTENDEE;ROLE=REQ-PARTICIPANT;PARTSTAT=ACCEPTED;RSVP=TRUE;CN=Gio:http:
 //njyp.org/profile/GianfrancoPuggioni
ATTENDEE;ROLE=REQ-PARTICIPANT;PARTSTAT=ACCEPTED;RSVP=TRUE;CN=Cindy:htt
 p://njyp.org/profile/CindyRondon
ATTENDEE;ROLE=REQ-PARTICIPANT;PARTSTAT=ACCEPTED;RSVP=TRUE;CN="Dana Koz
 ubikova":http://njyp.org/profile/DanaKozubikova
ATTENDEE;ROLE=REQ-PARTICIPANT;PARTSTAT=ACCEPTED;RSVP=TRUE;CN="Sarah Da
 naher":http://njyp.org/profile/SarahDanaher
ATTENDEE;ROLE=REQ-PARTICIPANT;PARTSTAT=ACCEPTED;RSVP=TRUE;CN=Solangee:
 http://njyp.org/profile/Solangee
ATTENDEE;ROLE=REQ-PARTICIPANT;PARTSTAT=ACCEPTED;RSVP=TRUE;CN="joanne l
 am":http://njyp.org/profile/joannelam
ATTENDEE;ROLE=REQ-PARTICIPANT;PARTSTAT=ACCEPTED;RSVP=TRUE;CN="John S":
 http://njyp.org/profile/JohnS
ATTENDEE;ROLE=REQ-PARTICIPANT;PARTSTAT=ACCEPTED;RSVP=TRUE;CN="Ajay Gha
 nekar":http://njyp.org/profile/AjayGhanekar
ATTENDEE;ROLE=REQ-PARTICIPANT;PARTSTAT=ACCEPTED;RSVP=TRUE;CN="Marina S
 vorinic":http://njyp.org/profile/MarinaSvorinic
ATTENDEE;ROLE=REQ-PARTICIPANT;PARTSTAT=ACCEPTED;RSVP=TRUE;CN=Pete:http
 ://njyp.org/profile/PeterVarricchio
ATTENDEE;ROLE=REQ-PARTICIPANT;PARTSTAT=ACCEPTED;RSVP=TRUE;CN=Avi:http:
 //njyp.org/profile/Avi
ATTENDEE;ROLE=REQ-PARTICIPANT;PARTSTAT=ACCEPTED;RSVP=TRUE;CN="Jennifer
  Miné":http://njyp.org/profile/JenniferMine
ATTENDEE;ROLE=REQ-PARTICIPANT;PARTSTAT=ACCEPTED;RSVP=TRUE;CN=Tracie:ht
 tp://njyp.org/profile/Tracie
ATTENDEE;ROLE=REQ-PARTICIPANT;PARTSTAT=ACCEPTED;RSVP=TRUE;CN=Kysha:htt
 p://njyp.org/profile/KyshaR
ATTENDEE;ROLE=REQ-PARTICIPANT;PARTSTAT=ACCEPTED;RSVP=TRUE;CN="Jessica 
 S.":http://njyp.org/profile/Jessica896
ATTENDEE;ROLE=REQ-PARTICIPANT;PARTSTAT=ACCEPTED;RSVP=TRUE;CN="Dana Geo
 rge":http://njyp.org/profile/DanaGeorge
ATTENDEE;ROLE=REQ-PARTICIPANT;PARTSTAT=ACCEPTED;RSVP=TRUE;CN=Tina:http
 ://njyp.org/profile/Tina
ATTENDEE;ROLE=REQ-PARTICIPANT;PARTSTAT=ACCEPTED;RSVP=TRUE;CN=Katherine
 :http://njyp.org/profile/Katherine
ATTENDEE;ROLE=REQ-PARTICIPANT;PARTSTAT=ACCEPTED;RSVP=TRUE;CN="Marisa N
 ogueira":http://njyp.org/profile/Marisa
ATTENDEE;ROLE=REQ-PARTICIPANT;PARTSTAT=ACCEPTED;RSVP=TRUE;CN=Missie:ht
 tp://njyp.org/profile/Missie
ATTENDEE;ROLE=REQ-PARTICIPANT;PARTSTAT=ACCEPTED;RSVP=TRUE;CN="Rachel O
 !":http://njyp.org/profile/RachelOrtiga
ATTENDEE;ROLE=REQ-PARTICIPANT;PARTSTAT=ACCEPTED;RSVP=TRUE;CN="Ricardo 
 Soares":http://njyp.org/profile/RicardoSoares
ATTENDEE;ROLE=REQ-PARTICIPANT;PARTSTAT=ACCEPTED;RSVP=TRUE;CN=Susan:htt
 p://njyp.org/profile/SusanIngraffea
ATTENDEE;ROLE=REQ-PARTICIPANT;PARTSTAT=TENTATIVE;RSVP=TRUE;CN=Marcelo:
 http://njyp.org/profile/EzraS
ATTENDEE;ROLE=REQ-PARTICIPANT;PARTSTAT=TENTATIVE;RSVP=TRUE;CN="Dave P"
 :http://njyp.org/profile/DaveP
ATTENDEE;ROLE=REQ-PARTICIPANT;PARTSTAT=TENTATIVE;RSVP=TRUE;CN="Kelly J
 ones":http://njyp.org/profile/KellyJones
ATTENDEE;ROLE=REQ-PARTICIPANT;PARTSTAT=TENTATIVE;RSVP=TRUE;CN="Jenny S
 immons":http://njyp.org/profile/JennySimmons
ATTENDEE;ROLE=REQ-PARTICIPANT;PARTSTAT=TENTATIVE;RSVP=TRUE;CN=Kendell:
 http://njyp.org/profile/Kendell
ATTENDEE;ROLE=REQ-PARTICIPANT;PARTSTAT=TENTATIVE;RSVP=TRUE;CN="Sarah M
 iddleton":http://njyp.org/profile/SarahM
ATTENDEE;ROLE=REQ-PARTICIPANT;PARTSTAT=TENTATIVE;RSVP=TRUE;CN="Aline S
 imoes":http://njyp.org/profile/AlineSimoes
ATTENDEE;ROLE=REQ-PARTICIPANT;PARTSTAT=TENTATIVE;RSVP=TRUE;CN=Carline:
 http://njyp.org/profile/Carline
ATTENDEE;ROLE=REQ-PARTICIPANT;PARTSTAT=TENTATIVE;RSVP=TRUE;CN="Doug Be
 man":http://njyp.org/profile/DougBeman
ATTENDEE;ROLE=REQ-PARTICIPANT;PARTSTAT=TENTATIVE;RSVP=TRUE;CN="K Pryce
 ":http://njyp.org/profile/KPryce
ATTENDEE;ROLE=REQ-PARTICIPANT;PARTSTAT=TENTATIVE;RSVP=TRUE;CN=MaryAnn:
 http://njyp.org/profile/MaryAnn
ATTENDEE;ROLE=REQ-PARTICIPANT;PARTSTAT=TENTATIVE;RSVP=TRUE;CN=Deborah:
 http://njyp.org/profile/Deborah
ATTENDEE;ROLE=REQ-PARTICIPANT;PARTSTAT=TENTATIVE;RSVP=TRUE;CN="A D Y":
 http://njyp.org/profile/ADY
ATTENDEE;ROLE=REQ-PARTICIPANT;PARTSTAT=TENTATIVE;RSVP=TRUE;CN="Nicole 
 Fulmino":http://njyp.org/profile/NicoleFulmino
ATTENDEE;ROLE=REQ-PARTICIPANT;PARTSTAT=TENTATIVE;RSVP=TRUE;CN="Devika 
 Bakhshi":http://njyp.org/profile/Devika
END:VEVENT
END:VCALENDAR
