BEGIN:VCALENDAR
PRODID:NingEventWidget-v1
VERSION:2.0
METHOD:PUBLISH
BEGIN:VTIMEZONE
TZID:America/New_York
X-LIC-LOCATION:America/New_York
BEGIN:DAYLIGHT
TZOFFSETFROM:-0500
TZOFFSETTO:-0400
TZNAME:EDT
DTSTART:19700308T020000
RRULE:FREQ=YEARLY;BYMONTH=3;BYDAY=2SU
END:DAYLIGHT
BEGIN:STANDARD
TZOFFSETFROM:-0400
TZOFFSETTO:-0500
TZNAME:EST
DTSTART:19701101T020000
RRULE:FREQ=YEARLY;BYMONTH=11;BYDAY=1SU
END:STANDARD
END:VTIMEZONE
BEGIN:VEVENT
UID:2938326:Event:99101
DTSTAMP:20260420T153254Z
SUMMARY:Veg Out: Intro to Vegetarian Cooking
DESCRIPTION:So sorry but this has been canceled due to lack of interes
 t.\n\nAre you thinking about transitioning to a plant-based diet? Or l
 ooking for new recipes to add to your vegetarian lifestyle? Let Whole 
 Foods Market Team Member & Culinary Specialist Kerry teach you how to 
 make delicious vegetarian dishes using healthy grains and organic prod
 uce. You’ll sample everything and take home recipes plus a shopping 
 list.\n\n\n\nMember Cost:\n$15 online\n$20 at the door\n\nNon-Member C
 ost:\n$20 online and at the door\n\nPlease note we can only take walk-
 ins at the door if there is space. To guarantee your spot buy a ticket
  online.\n\nTickets:\nThere are a limited number of Tickets for sale. 
 Tickets are not mailed, but your name will be kept at the door. All sa
 les are final.\n\nWho Can Attend:\nThis is a private event for young p
 rofessionals. Anyone who is 21 to 39 can attend.\n\nSchedule:\n6:45 to
  7pm Meet and Greet in the Cafe.\n7pm Transition to the conference roo
 m for the lesson.\n\nDirections:\nhttp://www.wholefoodsmarket.com/stor
 es/westorange/\nLots of free parking.\n\nHow to Find the Group:\nIf yo
 u cannot find us in the café (look for signs) then please ask Custome
 r Service where the NJYP group is. We will be in the private conferenc
 e room.\n\nFor more information visit http://njyp.org/events/veg-out-i
 ntro-to-vegetarian
DTSTART;TZID=America/New_York:20100922T184500
DTEND;TZID=America/New_York:20100922T210000
CATEGORIES:"essex county", educational, social
LOCATION:Whole Foods Market
WEBSITE:http://www.wholefoodsmarket.com/stores/westorange/
URL:http://www.wholefoodsmarket.com/stores/westorange/
CONTACT:
ORGANIZER;CN="Brian and Mike":http://njyp.org/profile/BrianMike
ATTACH;FMTTYPE="image/jpeg":http://storage.ning.com/topology/rest/1.0/
 file/get/1088644540?profile=original
ATTENDEE;ROLE=REQ-PARTICIPANT;PARTSTAT=ACCEPTED;RSVP=TRUE;CN="Brian an
 d Mike":http://njyp.org/profile/BrianMike
ATTENDEE;ROLE=REQ-PARTICIPANT;PARTSTAT=TENTATIVE;RSVP=TRUE;CN="Jenna C
 lausen":http://njyp.org/profile/JennaClausen
ATTENDEE;ROLE=REQ-PARTICIPANT;PARTSTAT=TENTATIVE;RSVP=TRUE;CN=Jennifer
 :http://njyp.org/profile/JenniferC
ATTENDEE;ROLE=REQ-PARTICIPANT;PARTSTAT=TENTATIVE;RSVP=TRUE;CN="Christi
 na Leamer":http://njyp.org/profile/ChristinaLeamer552
ATTENDEE;ROLE=REQ-PARTICIPANT;PARTSTAT=TENTATIVE;RSVP=TRUE;CN=Catherin
 e:http://njyp.org/profile/Catherine949
ATTENDEE;ROLE=REQ-PARTICIPANT;PARTSTAT=TENTATIVE;RSVP=TRUE;CN=Anup:htt
 p://njyp.org/profile/Anup
ATTENDEE;ROLE=REQ-PARTICIPANT;PARTSTAT=TENTATIVE;RSVP=TRUE;CN=Vincent:
 http://njyp.org/profile/Vincent
ATTENDEE;ROLE=REQ-PARTICIPANT;PARTSTAT=TENTATIVE;RSVP=TRUE;CN=Lizzie:h
 ttp://njyp.org/profile/ElizabethKuhns
END:VEVENT
END:VCALENDAR
