BEGIN:VCALENDAR
PRODID:NingEventWidget-v1
VERSION:2.0
METHOD:PUBLISH
BEGIN:VTIMEZONE
TZID:America/New_York
X-LIC-LOCATION:America/New_York
BEGIN:DAYLIGHT
TZOFFSETFROM:-0500
TZOFFSETTO:-0400
TZNAME:EDT
DTSTART:19700308T020000
RRULE:FREQ=YEARLY;BYMONTH=3;BYDAY=2SU
END:DAYLIGHT
BEGIN:STANDARD
TZOFFSETFROM:-0400
TZOFFSETTO:-0500
TZNAME:EST
DTSTART:19701101T020000
RRULE:FREQ=YEARLY;BYMONTH=11;BYDAY=1SU
END:STANDARD
END:VTIMEZONE
BEGIN:VEVENT
UID:2938326:Event:358520
DTSTAMP:20260420T091443Z
SUMMARY:Volunteer: Art All Night
DESCRIPTION:Help us help them!  Art All Night is in need of HUNDREDS 
 of volunteers.  We will be doing our best to fill some of the volunte
 er gaps they may have at this great event.  As a volunteer you will g
 et to mix and mingle with other volunteers (both NJYP and Non-NJYP) pl
 us you will get to check out the event once your shift is over.\n \nA
 bout Art All Night:\n“Art All Night is a 24-hour art extravaganza wi
 th food vendors, demonstrations, hundreds of works of art, and a goal 
 of building community and awareness for the local arts & artists to re
 vitalize the city of Trenton! Last year we showed over 800 works of ar
 t, welcomed over 10,000 people, and gave members of the community a pl
 ace to express themselves.”\n \nHow to Register as an NJYP Voluntee
 r:\nE-mail volunteeraan@gmail.com with the subject line 'NJYP Voluntee
 r'\n \nThey are going to do their BEST to keep the NJYP volunteers to
 gether but this is not always possible.  Be prepared to possibly NOT 
 be with those from NJYP.\n \nWhat to Wear:\nDress comfortably, especi
 ally when it comes to your shoes.\nLeave your valuables at home.\n \n
 How to Find the Volunteers:\nAll volunteers will need to report direct
 ly to the volunteer headquarters upon arrival.  Let them know you are
  with New Jersey Young Professionals.\n \nDirections/Parking:\nhttp:/
 /www.artworkstrenton.org/artallnight/location.htm\n\nFor more informat
 ion visit http://njyp.org/events/volunteer-art-all-night-1
DTSTART;TZID=America/New_York:20120616T180000
DTEND;TZID=America/New_York:20120616T210000
CATEGORIES:"mercer county", community
LOCATION:Roebling Wire Works (adjacent to the Roebling Market)
WEBSITE:http://www.artworkstrenton.org/artallnight/location.htm
URL:http://www.artworkstrenton.org/artallnight/location.htm
CONTACT:
ORGANIZER;CN=Admin:http://njyp.org/profile/Admin
ATTACH;FMTTYPE="image/jpeg":http://storage.ning.com/topology/rest/1.0/
 file/get/1088788721?profile=original
ATTENDEE;ROLE=REQ-PARTICIPANT;PARTSTAT=ACCEPTED;RSVP=TRUE;CN="Kevin P.
  Hallam":http://njyp.org/profile/KevinPHallam
ATTENDEE;ROLE=REQ-PARTICIPANT;PARTSTAT=ACCEPTED;RSVP=TRUE;CN=Admin:htt
 p://njyp.org/profile/Admin
END:VEVENT
END:VCALENDAR
