BEGIN:VCALENDAR
PRODID:NingEventWidget-v1
VERSION:2.0
METHOD:PUBLISH
BEGIN:VTIMEZONE
TZID:America/New_York
X-LIC-LOCATION:America/New_York
BEGIN:DAYLIGHT
TZOFFSETFROM:-0500
TZOFFSETTO:-0400
TZNAME:EDT
DTSTART:19700308T020000
RRULE:FREQ=YEARLY;BYMONTH=3;BYDAY=2SU
END:DAYLIGHT
BEGIN:STANDARD
TZOFFSETFROM:-0400
TZOFFSETTO:-0500
TZNAME:EST
DTSTART:19701101T020000
RRULE:FREQ=YEARLY;BYMONTH=11;BYDAY=1SU
END:STANDARD
END:VTIMEZONE
BEGIN:VEVENT
UID:2938326:Event:34888
DTSTAMP:20260421T091138Z
SUMMARY:Volunteer: BINGO! in Princeton
DESCRIPTION:BINGO! That is right, we are looking for volunteers from N
 JYP and Team Charity to come out and play Bingo with the seniors of Ac
 orn Glen. All volunteers will be paired up with a senior during a few 
 rounds of Bingo. You will chat with them while helping them to play (a
 nd win) Bingo. After the group may go out for a late lunch at nearby A
 lfonso's so please bring some cash!\n\nWhat to Bring:\nPlease bring a 
 small prize that can be given to the Bingo winners. For instance you c
 an re-gift something you received over the holidays or bring in a book
  on your bookshelf that is in new condition. The 5-Below stores also w
 ill have great small prizes.\n\n\nRSVP (to the right) and we will let 
 you know when tix are almost gone, when prices are going up, if there 
 are any changes, etc.\n\nDeposits:\nBecause they are relying on us we 
 are asking that all volunteers put down a FULLY REFUNDABLE DEPOSIT of 
 $9.09. The $9.09 will be returned to all who attend the event. Cancell
 ations will be accepted (and deposits refunded) up until noon on the d
 ay before.\n\nPost-Event Lunch (optional):\nAlfonso's Pizzeria & Resta
 urant\n1212 Rte-206, Princeton, NJ\n(609) 924-8351‎\n\nDirections/Pa
 rking:\nhttp://www.acornglen.com/directions.html\nWhen you enter the d
 riveway you can go to the right and park in the parking lot. You can e
 nter through the solarium (the room with all the windows).\n\nHow to F
 ind the Group:\nAfter parking enter through the solarium (the room wit
 h all the windows). Go down the stairs and sign in with the concierge.
  She will then show you to the Activities Room.\n\nFor more informatio
 n visit http://njyp.org/events/volunteer-bingo-in-princeton
DTSTART;TZID=America/New_York:20100116T133000
DTEND;TZID=America/New_York:20100116T153000
CATEGORIES:"mercer county", community
LOCATION:Acorn Glen
WEBSITE:http://www.acornglen.com/directions.html
URL:http://www.acornglen.com/directions.html
CONTACT:
ORGANIZER;CN="Brian and Mike":http://njyp.org/profile/BrianMike
ATTACH;FMTTYPE="image/jpeg":http://storage.ning.com/topology/rest/1.0/
 file/get/1088584857?profile=original
ATTENDEE;ROLE=REQ-PARTICIPANT;PARTSTAT=ACCEPTED;RSVP=TRUE;CN="Steve Ro
 berts":http://njyp.org/profile/SteveRoberts
ATTENDEE;ROLE=REQ-PARTICIPANT;PARTSTAT=ACCEPTED;RSVP=TRUE;CN=Susan:htt
 p://njyp.org/profile/SusanChrusciel
ATTENDEE;ROLE=REQ-PARTICIPANT;PARTSTAT=ACCEPTED;RSVP=TRUE;CN="Janine F
 echter":http://njyp.org/profile/JFechter
ATTENDEE;ROLE=REQ-PARTICIPANT;PARTSTAT=ACCEPTED;RSVP=TRUE;CN=Kirsten:h
 ttp://njyp.org/profile/KirstenSwanson
ATTENDEE;ROLE=REQ-PARTICIPANT;PARTSTAT=ACCEPTED;RSVP=TRUE;CN="Steven H
 oltzman":http://njyp.org/profile/StevenHoltzman
ATTENDEE;ROLE=REQ-PARTICIPANT;PARTSTAT=ACCEPTED;RSVP=TRUE;CN="Alicia D
 ennis":http://njyp.org/profile/AliciaDennis
ATTENDEE;ROLE=REQ-PARTICIPANT;PARTSTAT=ACCEPTED;RSVP=TRUE;CN="Brian an
 d Mike":http://njyp.org/profile/BrianMike
ATTENDEE;ROLE=REQ-PARTICIPANT;PARTSTAT=TENTATIVE;RSVP=TRUE;CN="Janet S
 tevens":http://njyp.org/profile/JanetStevens
ATTENDEE;ROLE=REQ-PARTICIPANT;PARTSTAT=TENTATIVE;RSVP=TRUE;CN="Lisa Ka
 uffman":http://njyp.org/profile/LisaKauffman
END:VEVENT
END:VCALENDAR
