BEGIN:VCALENDAR
PRODID:NingEventWidget-v1
VERSION:2.0
METHOD:PUBLISH
BEGIN:VTIMEZONE
TZID:America/New_York
X-LIC-LOCATION:America/New_York
BEGIN:DAYLIGHT
TZOFFSETFROM:-0500
TZOFFSETTO:-0400
TZNAME:EDT
DTSTART:19700308T020000
RRULE:FREQ=YEARLY;BYMONTH=3;BYDAY=2SU
END:DAYLIGHT
BEGIN:STANDARD
TZOFFSETFROM:-0400
TZOFFSETTO:-0500
TZNAME:EST
DTSTART:19701101T020000
RRULE:FREQ=YEARLY;BYMONTH=11;BYDAY=1SU
END:STANDARD
END:VTIMEZONE
BEGIN:VEVENT
UID:2938326:Event:122509
DTSTAMP:20260420T104607Z
SUMMARY:Volunteer: Blood Drive Help 
DESCRIPTION:We need MANY volunteers for our YP Blood Drive! Please rev
 iew the volunteer position descriptions below then click \"Put Down a 
 Deposit\". You can volunteer AND donate blood. Please just pick a bloo
 d donation time that is NOT during your volunteer shift.\n\n\n\nDeposi
 ts:\nBecause they are relying on us we are asking that all volunteers 
 put down a FULLY REFUNDABLE DEPOSIT of $10.21. The $10.21 will be retu
 rned to all who attend the event. Cancellations will be accepted up un
 til noon on the day before the volunteering event.\n\nSchedule:\nThere
  will be 2 volunteer shifts. If you want to stay all night please sign
  up for both shifts by putting a deposit down twice.\nShift A 4:45 to 
 7:30pm\nShift B 7:15 to 10:15pm\n\nWhat to wear:\nPlease try to wear a
  BLACK top so that you stand out as a volunteer. Everyone will also ge
 t name tags but wearing black will certainly help guests distinguish w
 ho you are.\n\nTASKS\n\nRegistration Table\nThose at registration will
  check people in and hand out the goodie bags. You should be friendly 
 and outgoing.\n\nFloater\nThis person will fill in any gaps we may hav
 e and when there are no gaps they will mingle in the Mocktail Room mak
 ing sure that everything is going smoothly.\n\nCanteen\nCanteen volunt
 eers are very important. Along with serving juice and cookies these vo
 lunteers are going to keep a close eye on donors right after they give
  blood. If there are any reactions, these volunteers have to be on the
 ir toes and get a nurse or a nurse manager ASAP. If someone doesn’t 
 feel well a lot of the time they don’t tell you, so we have to use o
 ur judgment to say hey that girl looks pale, and go over and ask her i
 f she is ok, even if she says yes, sometimes we have to say, you know 
 what, you don’t look so great, why don’t you come and lay down.\n\
 nFor more information visit http://njyp.org/events/volunteer-blood-dri
 ve-help
DTSTART;TZID=America/New_York:20101214T164500
DTEND;TZID=America/New_York:20101214T220000
CATEGORIES:community, "essex county"
LOCATION:The Loft / Bobbie Brown Studio
WEBSITE:http://maps.google.com/maps?oe=UTF-8&ie=UTF8&q=bobbi+brown+mon
 tclair+nj&fb=1&gl=us&hq=bobbi+brown&hnear=Montclair,+NJ&hl=en&view=map
 &f=d&daddr=10+Lackawanna+Plz,+Montclair,+NJ+07042-3604&geocode=CVO5EzD
 B_sm9FYa_bgIdKJaT-yGfGKb5MI2zgg&ved=0CGgQ_wY&ei=f97RTIfQMo6OyAT_lpmZDA
 &z=16
URL:http://maps.google.com/maps?oe=UTF-8&ie=UTF8&q=bobbi+brown+montcla
 ir+nj&fb=1&gl=us&hq=bobbi+brown&hnear=Montclair,+NJ&hl=en&view=map&f=d
 &daddr=10+Lackawanna+Plz,+Montclair,+NJ+07042-3604&geocode=CVO5EzDB_sm
 9FYa_bgIdKJaT-yGfGKb5MI2zgg&ved=0CGgQ_wY&ei=f97RTIfQMo6OyAT_lpmZDA&z=1
 6
CONTACT:
ORGANIZER;CN="Brian and Mike":http://njyp.org/profile/BrianMike
ATTACH;FMTTYPE="image/jpeg":http://storage.ning.com/topology/rest/1.0/
 file/get/1088663024?profile=original
ATTENDEE;ROLE=REQ-PARTICIPANT;PARTSTAT=ACCEPTED;RSVP=TRUE;CN=Marcelo:h
 ttp://njyp.org/profile/EzraS
ATTENDEE;ROLE=REQ-PARTICIPANT;PARTSTAT=ACCEPTED;RSVP=TRUE;CN="Amy D Or
 tiz":http://njyp.org/profile/AmyDi
ATTENDEE;ROLE=REQ-PARTICIPANT;PARTSTAT=ACCEPTED;RSVP=TRUE;CN=Elizabeth
 :http://njyp.org/profile/Quirky3
ATTENDEE;ROLE=REQ-PARTICIPANT;PARTSTAT=ACCEPTED;RSVP=TRUE;CN=Keri:http
 ://njyp.org/profile/KeriBennett
ATTENDEE;ROLE=REQ-PARTICIPANT;PARTSTAT=ACCEPTED;RSVP=TRUE;CN=Viola:htt
 p://njyp.org/profile/Viola
ATTENDEE;ROLE=REQ-PARTICIPANT;PARTSTAT=ACCEPTED;RSVP=TRUE;CN=Jamie:htt
 p://njyp.org/profile/Jamie162
ATTENDEE;ROLE=REQ-PARTICIPANT;PARTSTAT=ACCEPTED;RSVP=TRUE;CN="Lisa E":
 http://njyp.org/profile/Lisa816
ATTENDEE;ROLE=REQ-PARTICIPANT;PARTSTAT=ACCEPTED;RSVP=TRUE;CN="Lillian 
 T.":http://njyp.org/profile/LillianT
ATTENDEE;ROLE=REQ-PARTICIPANT;PARTSTAT=ACCEPTED;RSVP=TRUE;CN="Jay Shah
 ":http://njyp.org/profile/JayShah
ATTENDEE;ROLE=REQ-PARTICIPANT;PARTSTAT=ACCEPTED;RSVP=TRUE;CN=Pritesh:h
 ttp://njyp.org/profile/Pritesh
ATTENDEE;ROLE=REQ-PARTICIPANT;PARTSTAT=ACCEPTED;RSVP=TRUE;CN="Jessica 
 Gill":http://njyp.org/profile/JessicaGill
ATTENDEE;ROLE=REQ-PARTICIPANT;PARTSTAT=ACCEPTED;RSVP=TRUE;CN="Brian an
 d Mike":http://njyp.org/profile/BrianMike
ATTENDEE;ROLE=REQ-PARTICIPANT;PARTSTAT=TENTATIVE;RSVP=TRUE;CN=Jenn:htt
 p://njyp.org/profile/Jenn231
END:VEVENT
END:VCALENDAR
