BEGIN:VCALENDAR
PRODID:NingEventWidget-v1
VERSION:2.0
METHOD:PUBLISH
BEGIN:VTIMEZONE
TZID:America/New_York
X-LIC-LOCATION:America/New_York
BEGIN:DAYLIGHT
TZOFFSETFROM:-0500
TZOFFSETTO:-0400
TZNAME:EDT
DTSTART:19700308T020000
RRULE:FREQ=YEARLY;BYMONTH=3;BYDAY=2SU
END:DAYLIGHT
BEGIN:STANDARD
TZOFFSETFROM:-0400
TZOFFSETTO:-0500
TZNAME:EST
DTSTART:19701101T020000
RRULE:FREQ=YEARLY;BYMONTH=11;BYDAY=1SU
END:STANDARD
END:VTIMEZONE
BEGIN:VEVENT
UID:2938326:Event:39436
DTSTAMP:20260420T173826Z
SUMMARY:Volunteer: Charity Poker Tournament and Silent Auction
DESCRIPTION:Once again Homefront needs our help! About 20 volunteers f
 rom NJYP will assist in running this annual Poker Tournament and Silen
 t Auction. Volunteers will register guests, run poker tables (yes, we 
 need dealers), assist with the Chinese and Silent Auction and so much 
 more!\n\nPlease note that volunteers will be spread out all over the r
 estaurant so this event is more focused on volunteering and less focus
 ed on socializing with your fellow volunteers.\n\nHours:\nVolunteers a
 re needed from 3:30 to 10pm. If you need to leave a little earlier bec
 ause you have a long drive home that is ok. But we need EVERYONE there
  at 3:30.\n\nDress Code:\nPlease wear a nice BLACK top and nice pants 
 (dark wash jeans are fine).\nWear comfortable shoes but do NOT wear sn
 eakers.\n\n\n\nDeposits:\nBecause they are relying on us we are asking
  that all volunteers put down a FULLY REFUNDABLE DEPOSIT of $10.10. Th
 e $10.10 will be returned to all who attend the event. Cancellations w
 ill be accepted up until noon on the day before the event.\n\nDirectio
 ns:\nhttp://www.saltcreekgrille.com/ and there is lots of free parking
 .\n\nFor more information visit http://njyp.org/events/volunteer-chari
 ty-poker
DTSTART;TZID=America/New_York:20100221T153000
DTEND;TZID=America/New_York:20100221T220000
CATEGORIES:"mercer county", community
LOCATION:Salt Creek Grille
WEBSITE:http://www.saltcreekgrille.com/
URL:http://www.saltcreekgrille.com/
CONTACT:
ORGANIZER;CN="Brian and Mike":http://njyp.org/profile/BrianMike
ATTACH;FMTTYPE="image/jpeg":http://storage.ning.com/topology/rest/1.0/
 file/get/1088585075?profile=original
ATTENDEE;ROLE=REQ-PARTICIPANT;PARTSTAT=ACCEPTED;RSVP=TRUE;CN=Sara:http
 ://njyp.org/profile/SaraLevenstein
ATTENDEE;ROLE=REQ-PARTICIPANT;PARTSTAT=ACCEPTED;RSVP=TRUE;CN="Ahmed Ud
 din":http://njyp.org/profile/AhmedUddin
ATTENDEE;ROLE=REQ-PARTICIPANT;PARTSTAT=ACCEPTED;RSVP=TRUE;CN="Kimberly
  Bogden":http://njyp.org/profile/KimberlyBogden
ATTENDEE;ROLE=REQ-PARTICIPANT;PARTSTAT=ACCEPTED;RSVP=TRUE;CN=Elizabeth
 :http://njyp.org/profile/ElizabethWilliams
ATTENDEE;ROLE=REQ-PARTICIPANT;PARTSTAT=ACCEPTED;RSVP=TRUE;CN="Jennifer
  L. Campbell":http://njyp.org/profile/JenniferLCampbell
ATTENDEE;ROLE=REQ-PARTICIPANT;PARTSTAT=ACCEPTED;RSVP=TRUE;CN="Jenny Ma
 rie":http://njyp.org/profile/JennyMarie82
ATTENDEE;ROLE=REQ-PARTICIPANT;PARTSTAT=ACCEPTED;RSVP=TRUE;CN="Kristi R
 iedinger":http://njyp.org/profile/KristiRiedinger
ATTENDEE;ROLE=REQ-PARTICIPANT;PARTSTAT=ACCEPTED;RSVP=TRUE;CN="Steven H
 oltzman":http://njyp.org/profile/StevenHoltzman
ATTENDEE;ROLE=REQ-PARTICIPANT;PARTSTAT=TENTATIVE;RSVP=TRUE;CN="Karl  A
  Kraus":http://njyp.org/profile/KarlAKraus
ATTENDEE;ROLE=REQ-PARTICIPANT;PARTSTAT=TENTATIVE;RSVP=TRUE;CN="Tracy L
 ongo":http://njyp.org/profile/TracyLongo
ATTENDEE;ROLE=REQ-PARTICIPANT;PARTSTAT=TENTATIVE;RSVP=TRUE;CN="Victori
 a Schwartz":http://njyp.org/profile/VictoriaGanges
ATTENDEE;ROLE=REQ-PARTICIPANT;PARTSTAT=TENTATIVE;RSVP=TRUE;CN="Simon R
 obertson":http://njyp.org/profile/SimonRobertson
ATTENDEE;ROLE=REQ-PARTICIPANT;PARTSTAT=TENTATIVE;RSVP=TRUE;CN="Marley 
 Nolan":http://njyp.org/profile/MarleyNolan
ATTENDEE;ROLE=REQ-PARTICIPANT;PARTSTAT=TENTATIVE;RSVP=TRUE;CN=Kirsten:
 http://njyp.org/profile/KirstenSwanson
ATTENDEE;ROLE=REQ-PARTICIPANT;PARTSTAT=TENTATIVE;RSVP=TRUE;CN=Helen:ht
 tp://njyp.org/profile/Helen
END:VEVENT
END:VCALENDAR
