BEGIN:VCALENDAR
PRODID:NingEventWidget-v1
VERSION:2.0
METHOD:PUBLISH
BEGIN:VTIMEZONE
TZID:America/New_York
X-LIC-LOCATION:America/New_York
BEGIN:DAYLIGHT
TZOFFSETFROM:-0500
TZOFFSETTO:-0400
TZNAME:EDT
DTSTART:19700308T020000
RRULE:FREQ=YEARLY;BYMONTH=3;BYDAY=2SU
END:DAYLIGHT
BEGIN:STANDARD
TZOFFSETFROM:-0400
TZOFFSETTO:-0500
TZNAME:EST
DTSTART:19701101T020000
RRULE:FREQ=YEARLY;BYMONTH=11;BYDAY=1SU
END:STANDARD
END:VTIMEZONE
BEGIN:VEVENT
UID:2938326:Event:148240
DTSTAMP:20260422T051153Z
SUMMARY:Volunteer: Dog Walking
DESCRIPTION:Help us help them! The Liberty Humane Society is a fantast
 ic organization that shelters animals while they are in between homes.
  For this event we are teaming up with Team Charity to help walk the d
 ogs on this Saturday morning. A love for dogs and young professionals 
 is a MUST to attend!Who Can Attend:Young Professionals who are 21 to 3
 9 years old. You do not need to be a Member to participate.Dog Duties:
 These volunteers will be responsible for walking the dogs outside. Wea
 r comfortable shoes and dress in layers if it is going to be cold out.
 Post-Volunteering Breakfast:The group may meet up for breakfast after 
 the event here, http://www.brownstonediner.com/ Bring directions.Regis
 ter:Space is limited and registration is required!  Directions:http://
 libertyhumane.org/directions.phpStreet parking.\n\nFor more informatio
 n visit http://njyp.org/events/volunteer-dog-walking
DTSTART;TZID=America/New_York:20110326T120000
DTEND;TZID=America/New_York:20110326T140000
CATEGORIES:"hudson county", community
LOCATION:Liberty Humane Society
WEBSITE:http://libertyhumane.org/directions.php
URL:http://libertyhumane.org/directions.php
CONTACT:
ORGANIZER;CN="Brian and Mike":http://njyp.org/profile/BrianMike
ATTACH;FMTTYPE="image/jpeg":http://storage.ning.com/topology/rest/1.0/
 file/get/1088677111?profile=original
ATTENDEE;ROLE=REQ-PARTICIPANT;PARTSTAT=ACCEPTED;RSVP=TRUE;CN="Brian an
 d Mike":http://njyp.org/profile/BrianMike
END:VEVENT
END:VCALENDAR
