BEGIN:VCALENDAR
PRODID:NingEventWidget-v1
VERSION:2.0
METHOD:PUBLISH
BEGIN:VTIMEZONE
TZID:America/New_York
X-LIC-LOCATION:America/New_York
BEGIN:DAYLIGHT
TZOFFSETFROM:-0500
TZOFFSETTO:-0400
TZNAME:EDT
DTSTART:19700308T020000
RRULE:FREQ=YEARLY;BYMONTH=3;BYDAY=2SU
END:DAYLIGHT
BEGIN:STANDARD
TZOFFSETFROM:-0400
TZOFFSETTO:-0500
TZNAME:EST
DTSTART:19701101T020000
RRULE:FREQ=YEARLY;BYMONTH=11;BYDAY=1SU
END:STANDARD
END:VTIMEZONE
BEGIN:VEVENT
UID:2938326:Event:258395
DTSTAMP:20260422T095557Z
SUMMARY:Volunteer: Flat Rock Brook Restoration
DESCRIPTION:Once again we will be teaming up with Team Charity to rest
 ore hiking trails and to plant and remove shrubs along the trail as ne
 eded. The work will be outside and somewhat physical but you don't hav
 e to be in a great shape for it. Wear comfortable clothes and shoes yo
 u don't mind getting dirty. We will be meeting in the dirt parking lot
  by the visitor center.\n \nTo register:\nhttp://www.teamcharity.org/
 apps/calendar/showEvent?calID=5008749&eventID=143969397&next=%2fshowAg
 enda%3fcalID%3d5008749%26pageNum%3d1\n \nWho:\nAnyone 21 to 39 years 
 old can attend.\n\nFor more information visit http://njyp.org/events/v
 olunteer-flat-rock-brook-restoration
DTSTART;TZID=America/New_York:20110917T093000
DTEND;TZID=America/New_York:20110917T130000
CATEGORIES:"bergen county", community
LOCATION:Flat Rock Brook
WEBSITE:http://www.flatrockbrook.org/
URL:http://www.flatrockbrook.org/
CONTACT:
ORGANIZER;CN="Brian and Mike":http://njyp.org/profile/BrianMike
ATTACH;FMTTYPE="image/jpeg":http://storage.ning.com/topology/rest/1.0/
 file/get/1088707762?profile=original
ATTENDEE;ROLE=REQ-PARTICIPANT;PARTSTAT=ACCEPTED;RSVP=TRUE;CN="Brian an
 d Mike":http://njyp.org/profile/BrianMike
END:VEVENT
END:VCALENDAR
