BEGIN:VCALENDAR
PRODID:NingEventWidget-v1
VERSION:2.0
METHOD:PUBLISH
BEGIN:VTIMEZONE
TZID:America/New_York
X-LIC-LOCATION:America/New_York
BEGIN:DAYLIGHT
TZOFFSETFROM:-0500
TZOFFSETTO:-0400
TZNAME:EDT
DTSTART:19700308T020000
RRULE:FREQ=YEARLY;BYMONTH=3;BYDAY=2SU
END:DAYLIGHT
BEGIN:STANDARD
TZOFFSETFROM:-0400
TZOFFSETTO:-0500
TZNAME:EST
DTSTART:19701101T020000
RRULE:FREQ=YEARLY;BYMONTH=11;BYDAY=1SU
END:STANDARD
END:VTIMEZONE
BEGIN:VEVENT
UID:2938326:Event:102382
DTSTAMP:20260420T060416Z
SUMMARY:Volunteer: Food Bank in Hillside
DESCRIPTION:Let's meet-up to help the Food Bank of NJ. As a team we wi
 ll be working in the Food Bank warehouse: sorting and re-packing food 
 items, sorting children's clothes for underprivileged kids or re-stock
 ing school supplies in the Kids' Division. After we bond over non-peri
 shable items everyone will be encouraged to attend a late lunch at a n
 earby restaurant (always a blast).\n\nSchedule:\n11:25 Meet-up with th
 e volunteer host.\n11:30 to 1:30 Volunteer Activity\n1:30 Meet for lun
 ch at Tiffany’s (optional)\n\n\n\nDeposits:\nBecause the Food Bank i
 s relying on us we are asking that all volunteers put down a FULLY REF
 UNDABLE DEPOSIT of $9.19. The $9.19 will be returned to all who attend
  the event. Cancellations will be accepted (and deposits refunded) up 
 until noon on the day before.\n\nWhat to BRING:\nFood supplies are at 
 an all time low. All volunteers are asked to bring ONE food item.\nCan
 ned tuna, Canned soups, Mac & cheese, Peanut butter in plastic jars, S
 paghetti sauce, Pasta, Cereal, Canned vegetables, etc.\n\nWhat to wear
 :\nThink comfortable. Jeans, t-shirt and sweatshirt are fine. Dress in
  layers in the winter as it gets COLD inside. No open-toed shoes, sand
 als or flip flops. Please wear shoes or sneakers. No good jewelry. Ple
 ase leave all purses, backpacks, iPods and other valuables locked in y
 our cars. Bring work gloves if you desire.\n\nPost-Event Meet-up (opti
 onal):\nTiffany's Restaurant\n1637 Vauxhall Road\nUnion, NJ 07083\nPle
 ase bring directions with you.\n\nAbout the Community Food Bank of NJ:
 \n\"Using our own fleet of trucks, we pick up large-scale donations fr
 om hundreds of corporations in New Jersey. The FoodBank is the state's
  largest provider of donated groceries to charities, shipping up to 24
  million pounds of food annually to 1,500 food pantries, soup kitchens
 , homeless shelters and other programs in 18 counties. The FoodBank al
 so distributes government-donated U.S. Agriculture Department food pro
 duct.\"\n\nParking:\nParking is available along the length of the buil
 ding; please do not block loading docks of the buildings across the st
 reet from the Foodbank. Your cars may be towed!\n\nFor more informatio
 n visit http://njyp.org/events/volunteer-food-bank-in-1
DTSTART;TZID=America/New_York:20101016T113000
DTEND;TZID=America/New_York:20101016T133000
CATEGORIES:"union county", social, community
LOCATION:Community Food Bank
WEBSITE:http://www.njfoodbank.org/site/PageServer?pagename=About_Us_co
 ntactus
URL:http://www.njfoodbank.org/site/PageServer?pagename=About_Us_contac
 tus
CONTACT:
ORGANIZER;CN="Brian and Mike":http://njyp.org/profile/BrianMike
ATTACH;FMTTYPE="image/jpeg":http://storage.ning.com/topology/rest/1.0/
 file/get/1088646885?profile=original
ATTENDEE;ROLE=REQ-PARTICIPANT;PARTSTAT=ACCEPTED;RSVP=TRUE;CN=Marcelo:h
 ttp://njyp.org/profile/EzraS
ATTENDEE;ROLE=REQ-PARTICIPANT;PARTSTAT=ACCEPTED;RSVP=TRUE;CN=Jenine:ht
 tp://njyp.org/profile/jrose1528
ATTENDEE;ROLE=REQ-PARTICIPANT;PARTSTAT=ACCEPTED;RSVP=TRUE;CN=Ade:http:
 //njyp.org/profile/Clement
ATTENDEE;ROLE=REQ-PARTICIPANT;PARTSTAT=ACCEPTED;RSVP=TRUE;CN="Katrina 
 Musa":http://njyp.org/profile/KatrinaMusa
ATTENDEE;ROLE=REQ-PARTICIPANT;PARTSTAT=ACCEPTED;RSVP=TRUE;CN=Christie:
 http://njyp.org/profile/Christie
ATTENDEE;ROLE=REQ-PARTICIPANT;PARTSTAT=ACCEPTED;RSVP=TRUE;CN=Tamara:ht
 tp://njyp.org/profile/Tamara227
ATTENDEE;ROLE=REQ-PARTICIPANT;PARTSTAT=ACCEPTED;RSVP=TRUE;CN=NorthNJDa
 vid:http://njyp.org/profile/NorthNJDavid
ATTENDEE;ROLE=REQ-PARTICIPANT;PARTSTAT=ACCEPTED;RSVP=TRUE;CN="Brian an
 d Mike":http://njyp.org/profile/BrianMike
ATTENDEE;ROLE=REQ-PARTICIPANT;PARTSTAT=TENTATIVE;RSVP=TRUE;CN=Tyler:ht
 tp://njyp.org/profile/Tyler724
ATTENDEE;ROLE=REQ-PARTICIPANT;PARTSTAT=TENTATIVE;RSVP=TRUE;CN=Preeti:h
 ttp://njyp.org/profile/Preeti
ATTENDEE;ROLE=REQ-PARTICIPANT;PARTSTAT=TENTATIVE;RSVP=TRUE;CN=Jennifer
 :http://njyp.org/profile/Jennifer396
ATTENDEE;ROLE=REQ-PARTICIPANT;PARTSTAT=TENTATIVE;RSVP=TRUE;CN=Will:htt
 p://njyp.org/profile/William
ATTENDEE;ROLE=REQ-PARTICIPANT;PARTSTAT=TENTATIVE;RSVP=TRUE;CN=Bisha:ht
 tp://njyp.org/profile/Bisha
ATTENDEE;ROLE=REQ-PARTICIPANT;PARTSTAT=TENTATIVE;RSVP=TRUE;CN=Anup:htt
 p://njyp.org/profile/Anup
ATTENDEE;ROLE=REQ-PARTICIPANT;PARTSTAT=TENTATIVE;RSVP=TRUE;CN=Kimberly
 :http://njyp.org/profile/Kimberly35
ATTENDEE;ROLE=REQ-PARTICIPANT;PARTSTAT=TENTATIVE;RSVP=TRUE;CN="Ken S."
 :http://njyp.org/profile/KennethSirower
ATTENDEE;ROLE=REQ-PARTICIPANT;PARTSTAT=TENTATIVE;RSVP=TRUE;CN=Regina:h
 ttp://njyp.org/profile/Regina
ATTENDEE;ROLE=REQ-PARTICIPANT;PARTSTAT=TENTATIVE;RSVP=TRUE;CN=kelly:ht
 tp://njyp.org/profile/kelly241
ATTENDEE;ROLE=REQ-PARTICIPANT;PARTSTAT=TENTATIVE;RSVP=TRUE;CN=Shani:ht
 tp://njyp.org/profile/Shani
ATTENDEE;ROLE=REQ-PARTICIPANT;PARTSTAT=TENTATIVE;RSVP=TRUE;CN=Franco:h
 ttp://njyp.org/profile/Franco
ATTENDEE;ROLE=REQ-PARTICIPANT;PARTSTAT=TENTATIVE;RSVP=TRUE;CN=Paulyn:h
 ttp://njyp.org/profile/PLyn
END:VEVENT
END:VCALENDAR
